| Back to Multiple platform build/check report for BioC 3.19: simplified long |
|
This page was generated on 2024-06-11 14:42 -0400 (Tue, 11 Jun 2024).
| Hostname | OS | Arch (*) | R version | Installed pkgs |
|---|---|---|---|---|
| nebbiolo1 | Linux (Ubuntu 22.04.3 LTS) | x86_64 | 4.4.0 (2024-04-24) -- "Puppy Cup" | 4757 |
| palomino3 | Windows Server 2022 Datacenter | x64 | 4.4.0 (2024-04-24 ucrt) -- "Puppy Cup" | 4491 |
| lconway | macOS 12.7.1 Monterey | x86_64 | 4.4.0 (2024-04-24) -- "Puppy Cup" | 4522 |
| kjohnson3 | macOS 13.6.5 Ventura | arm64 | 4.4.0 (2024-04-24) -- "Puppy Cup" | 4468 |
| Click on any hostname to see more info about the system (e.g. compilers) (*) as reported by 'uname -p', except on Windows and Mac OS X | ||||
| Package 1266/2300 | Hostname | OS / Arch | INSTALL | BUILD | CHECK | BUILD BIN | ||||||||
| MicrobiotaProcess 1.16.0 (landing page) Shuangbin Xu
| nebbiolo1 | Linux (Ubuntu 22.04.3 LTS) / x86_64 | OK | OK | OK | |||||||||
| palomino3 | Windows Server 2022 Datacenter / x64 | OK | OK | OK | OK | |||||||||
| lconway | macOS 12.7.1 Monterey / x86_64 | OK | OK | OK | OK | |||||||||
| kjohnson3 | macOS 13.6.5 Ventura / arm64 | OK | OK | OK | OK | |||||||||
|
To the developers/maintainers of the MicrobiotaProcess package: - Allow up to 24 hours (and sometimes 48 hours) for your latest push to git@git.bioconductor.org:packages/MicrobiotaProcess.git to reflect on this report. See Troubleshooting Build Report for more information. - Use the following Renviron settings to reproduce errors and warnings. - If 'R CMD check' started to fail recently on the Linux builder(s) over a missing dependency, add the missing dependency to 'Suggests:' in your DESCRIPTION file. See Renviron.bioc for more information. |
| Package: MicrobiotaProcess |
| Version: 1.16.0 |
| Command: /Library/Frameworks/R.framework/Resources/bin/R CMD check --install=check:MicrobiotaProcess.install-out.txt --library=/Library/Frameworks/R.framework/Resources/library --no-vignettes --timings MicrobiotaProcess_1.16.0.tar.gz |
| StartedAt: 2024-06-09 21:30:24 -0400 (Sun, 09 Jun 2024) |
| EndedAt: 2024-06-09 21:36:12 -0400 (Sun, 09 Jun 2024) |
| EllapsedTime: 348.6 seconds |
| RetCode: 0 |
| Status: OK |
| CheckDir: MicrobiotaProcess.Rcheck |
| Warnings: 0 |
##############################################################################
##############################################################################
###
### Running command:
###
### /Library/Frameworks/R.framework/Resources/bin/R CMD check --install=check:MicrobiotaProcess.install-out.txt --library=/Library/Frameworks/R.framework/Resources/library --no-vignettes --timings MicrobiotaProcess_1.16.0.tar.gz
###
##############################################################################
##############################################################################
* using log directory ‘/Users/biocbuild/bbs-3.19-bioc/meat/MicrobiotaProcess.Rcheck’
* using R version 4.4.0 (2024-04-24)
* using platform: x86_64-apple-darwin20
* R was compiled by
Apple clang version 14.0.0 (clang-1400.0.29.202)
GNU Fortran (GCC) 12.2.0
* running under: macOS Monterey 12.7.1
* using session charset: UTF-8
* using option ‘--no-vignettes’
* checking for file ‘MicrobiotaProcess/DESCRIPTION’ ... OK
* checking extension type ... Package
* this is package ‘MicrobiotaProcess’ version ‘1.16.0’
* package encoding: UTF-8
* checking package namespace information ... OK
* checking package dependencies ... OK
* checking if this is a source package ... OK
* checking if there is a namespace ... OK
* checking for hidden files and directories ... OK
* checking for portable file names ... OK
* checking for sufficient/correct file permissions ... OK
* checking whether package ‘MicrobiotaProcess’ can be installed ... OK
* checking installed package size ... NOTE
installed size is 5.8Mb
sub-directories of 1Mb or more:
R 2.6Mb
figures 1.9Mb
* checking package directory ... OK
* checking ‘build’ directory ... OK
* checking DESCRIPTION meta-information ... OK
* checking top-level files ... OK
* checking for left-over files ... OK
* checking index information ... OK
* checking package subdirectories ... OK
* checking code files for non-ASCII characters ... OK
* checking R files for syntax errors ... OK
* checking whether the package can be loaded ... OK
* checking whether the package can be loaded with stated dependencies ... OK
* checking whether the package can be unloaded cleanly ... OK
* checking whether the namespace can be loaded with stated dependencies ... OK
* checking whether the namespace can be unloaded cleanly ... OK
* checking whether startup messages can be suppressed ... OK
* checking dependencies in R code ... OK
* checking S3 generic/method consistency ... OK
* checking replacement functions ... OK
* checking foreign function calls ... OK
* checking R code for possible problems ... OK
* checking Rd files ... OK
* checking Rd metadata ... OK
* checking Rd cross-references ... OK
* checking for missing documentation entries ... OK
* checking for code/documentation mismatches ... OK
* checking Rd \usage sections ... OK
* checking Rd contents ... OK
* checking for unstated dependencies in examples ... OK
* checking contents of ‘data’ directory ... OK
* checking data for non-ASCII characters ... OK
* checking data for ASCII and uncompressed saves ... OK
* checking files in ‘vignettes’ ... OK
* checking examples ... OK
Examples with CPU (user + system) or elapsed time > 5s
user system elapsed
mp_cal_abundance-methods 9.049 0.098 9.197
mp_cal_rarecurve-methods 6.395 0.077 6.493
mp_plot_diff_boxplot-methods 5.688 0.039 5.745
mp_diff_analysis-methods 5.145 0.032 5.186
* checking for unstated dependencies in ‘tests’ ... OK
* checking tests ...
Running ‘testthat.R’
OK
* checking for unstated dependencies in vignettes ... OK
* checking package vignettes ... OK
* checking running R code from vignettes ... SKIPPED
* checking re-building of vignette outputs ... SKIPPED
* checking PDF version of manual ... OK
* DONE
Status: 1 NOTE
See
‘/Users/biocbuild/bbs-3.19-bioc/meat/MicrobiotaProcess.Rcheck/00check.log’
for details.
MicrobiotaProcess.Rcheck/00install.out
############################################################################## ############################################################################## ### ### Running command: ### ### /Library/Frameworks/R.framework/Resources/bin/R CMD INSTALL MicrobiotaProcess ### ############################################################################## ############################################################################## * installing to library ‘/Library/Frameworks/R.framework/Versions/4.4-x86_64/Resources/library’ * installing *source* package ‘MicrobiotaProcess’ ... ** using staged installation ** R ** data ** inst ** byte-compile and prepare package for lazy loading in method for ‘taxonomy<-’ with signature ‘x="MPSE",value="taxonomyTable"’: no definition for class “taxonomyTable” Creating a generic function for ‘rownames<-’ from package ‘base’ in package ‘MicrobiotaProcess’ in method for ‘get_alltaxadf’ with signature ‘"phyloseq"’: no definition for class “phyloseq” in method for ‘get_taxadf’ with signature ‘"phyloseq"’: no definition for class “phyloseq” in method for ‘get_alphaindex’ with signature ‘"phyloseq"’: no definition for class “phyloseq” in method for ‘get_NRI_NTI’ with signature ‘"phyloseq"’: no definition for class “phyloseq” in method for ‘get_rarecurve’ with signature ‘"phyloseq"’: no definition for class “phyloseq” in method for ‘get_upset’ with signature ‘"phyloseq"’: no definition for class “phyloseq” in method for ‘get_vennlist’ with signature ‘"phyloseq"’: no definition for class “phyloseq” in method for ‘drop_taxa’ with signature ‘"phyloseq"’: no definition for class “phyloseq” ** help *** installing help indices ** building package indices ** installing vignettes ** testing if installed package can be loaded from temporary location ** testing if installed package can be loaded from final location ** testing if installed package keeps a record of temporary installation path * DONE (MicrobiotaProcess)
MicrobiotaProcess.Rcheck/tests/testthat.Rout
R version 4.4.0 (2024-04-24) -- "Puppy Cup"
Copyright (C) 2024 The R Foundation for Statistical Computing
Platform: x86_64-apple-darwin20
R is free software and comes with ABSOLUTELY NO WARRANTY.
You are welcome to redistribute it under certain conditions.
Type 'license()' or 'licence()' for distribution details.
R is a collaborative project with many contributors.
Type 'contributors()' for more information and
'citation()' on how to cite R or R packages in publications.
Type 'demo()' for some demos, 'help()' for on-line help, or
'help.start()' for an HTML browser interface to help.
Type 'q()' to quit R.
> library("testthat")
> library("MicrobiotaProcess")
MicrobiotaProcess v1.16.0 For help:
https://github.com/YuLab-SMU/MicrobiotaProcess/issues
If you use MicrobiotaProcess in published research, please cite the
paper:
Shuangbin Xu, Li Zhan, Wenli Tang, Qianwen Wang, Zehan Dai, Lang Zhou,
Tingze Feng, Meijun Chen, Tianzhi Wu, Erqiang Hu, Guangchuang Yu.
MicrobiotaProcess: A comprehensive R package for deep mining
microbiome. The Innovation. 2023, 4(2):100388. doi:
10.1016/j.xinn.2023.100388
Export the citation to BibTex by citation('MicrobiotaProcess')
This message can be suppressed by:
suppressPackageStartupMessages(library(MicrobiotaProcess))
Attaching package: 'MicrobiotaProcess'
The following object is masked from 'package:stats':
filter
> test_check("MicrobiotaProcess")
[ FAIL 0 | WARN 9 | SKIP 0 | PASS 13 ]
[ FAIL 0 | WARN 9 | SKIP 0 | PASS 13 ]
>
> proc.time()
user system elapsed
13.675 0.707 14.417
MicrobiotaProcess.Rcheck/MicrobiotaProcess-Ex.timings
| name | user | system | elapsed | |
| ImportDada2 | 1.352 | 0.095 | 1.451 | |
| ImportQiime2 | 3.697 | 0.110 | 3.819 | |
| MPSE | 0.071 | 0.000 | 0.072 | |
| as.treedata | 0 | 0 | 0 | |
| build_tree | 0 | 0 | 0 | |
| convert_to_treedata | 0.001 | 0.000 | 0.001 | |
| data-hmp_aerobiosis_small | 0.009 | 0.001 | 0.010 | |
| data-kostic2012crc | 0.021 | 0.003 | 0.024 | |
| data-test_otu_data | 0.002 | 0.000 | 0.003 | |
| diff_analysis | 0.000 | 0.000 | 0.001 | |
| dr_extract | 0.001 | 0.000 | 0.000 | |
| drop_taxa | 0.000 | 0.001 | 0.000 | |
| generalizedFC | 0.005 | 0.000 | 0.005 | |
| get_alltaxadf | 0.000 | 0.000 | 0.001 | |
| get_alphaindex | 0 | 0 | 0 | |
| get_clust | 0 | 0 | 0 | |
| get_coord | 0 | 0 | 0 | |
| get_count | 0.000 | 0.000 | 0.001 | |
| get_dist | 0.000 | 0.001 | 0.000 | |
| get_mean_median | 0 | 0 | 0 | |
| get_pca | 0 | 0 | 0 | |
| get_pcoa | 0 | 0 | 0 | |
| get_pvalue | 0.072 | 0.002 | 0.076 | |
| get_rarecurve | 0 | 0 | 0 | |
| get_sampledflist | 0.001 | 0.001 | 0.000 | |
| get_taxadf | 0 | 0 | 0 | |
| get_upset | 0.000 | 0.001 | 0.000 | |
| get_varct | 0 | 0 | 0 | |
| get_vennlist | 0.000 | 0.001 | 0.001 | |
| ggbartax | 0.000 | 0.000 | 0.001 | |
| ggbox | 0.000 | 0.001 | 0.001 | |
| ggclust | 0.000 | 0.000 | 0.001 | |
| ggdiffbox | 0 | 0 | 0 | |
| ggdiffclade | 0.000 | 0.001 | 0.000 | |
| ggdifftaxbar | 0 | 0 | 0 | |
| ggeffectsize | 0.000 | 0.000 | 0.001 | |
| ggordpoint | 0.000 | 0.001 | 0.000 | |
| ggrarecurve | 0 | 0 | 0 | |
| mp_adonis-methods | 0.130 | 0.001 | 0.131 | |
| mp_aggregate-methods | 0 | 0 | 0 | |
| mp_aggregate_clade-methods | 0 | 0 | 0 | |
| mp_anosim-methods | 1.227 | 0.027 | 1.258 | |
| mp_balance_clade-methods | 0.001 | 0.001 | 0.000 | |
| mp_cal_abundance-methods | 9.049 | 0.098 | 9.197 | |
| mp_cal_alpha-methods | 1.159 | 0.018 | 1.181 | |
| mp_cal_cca-methods | 1.823 | 0.031 | 1.860 | |
| mp_cal_clust-methods | 0.351 | 0.004 | 0.356 | |
| mp_cal_dist-methods | 2.078 | 0.019 | 2.102 | |
| mp_cal_divergence-methods | 0.000 | 0.000 | 0.001 | |
| mp_cal_nmds-methods | 0.298 | 0.008 | 0.307 | |
| mp_cal_pca-methods | 1.594 | 0.012 | 1.609 | |
| mp_cal_pcoa-methods | 0.666 | 0.005 | 0.672 | |
| mp_cal_pd_metric-methods | 0 | 0 | 0 | |
| mp_cal_rarecurve-methods | 6.395 | 0.077 | 6.493 | |
| mp_cal_rda-methods | 0.783 | 0.011 | 0.798 | |
| mp_cal_upset-methods | 1.117 | 0.013 | 1.135 | |
| mp_cal_venn-methods | 0.539 | 0.013 | 0.558 | |
| mp_decostand-methods | 0.401 | 0.004 | 0.409 | |
| mp_diff_analysis-methods | 5.145 | 0.032 | 5.186 | |
| mp_diff_clade-methods | 0.000 | 0.001 | 0.001 | |
| mp_dmn-methods | 0 | 0 | 0 | |
| mp_dmngroup-methods | 0 | 0 | 0 | |
| mp_envfit-methods | 1.779 | 0.082 | 1.864 | |
| mp_filter_taxa-methods | 0.934 | 0.015 | 0.953 | |
| mp_import_metaphlan | 2.346 | 0.018 | 2.366 | |
| mp_mantel-methods | 0.298 | 0.007 | 0.306 | |
| mp_mrpp-methods | 0.138 | 0.003 | 0.141 | |
| mp_plot_abundance-methods | 0 | 0 | 0 | |
| mp_plot_alpha-methods | 0 | 0 | 0 | |
| mp_plot_diff_boxplot-methods | 5.688 | 0.039 | 5.745 | |
| mp_plot_diff_cladogram | 0.000 | 0.001 | 0.001 | |
| mp_plot_diff_manhattan-methods | 2.888 | 0.030 | 2.927 | |
| mp_plot_dist-methods | 0 | 0 | 0 | |
| mp_plot_ord-methods | 0.000 | 0.001 | 0.001 | |
| mp_plot_rarecurve-methods | 0.000 | 0.000 | 0.001 | |
| mp_plot_upset-methods | 0.000 | 0.000 | 0.001 | |
| mp_plot_venn-methods | 0.000 | 0.001 | 0.001 | |
| mp_rrarefy-methods | 0.288 | 0.001 | 0.290 | |
| mp_select_as_tip-methods | 0 | 0 | 0 | |
| mp_stat_taxa-methods | 0.829 | 0.005 | 0.836 | |
| multi_compare | 0.013 | 0.002 | 0.016 | |
| read_qza | 0 | 0 | 0 | |
| show-methods | 0.000 | 0.000 | 0.001 | |
| split_data | 0.003 | 0.002 | 0.004 | |
| split_str_to_list | 0.000 | 0.001 | 0.001 | |
| theme_taxbar | 0.000 | 0.001 | 0.001 | |