| Back to Multiple platform build/check report for BioC 3.19: simplified long | 
 | 
This page was generated on 2024-06-11 14:43 -0400 (Tue, 11 Jun 2024).
| Hostname | OS | Arch (*) | R version | Installed pkgs | 
|---|---|---|---|---|
| nebbiolo1 | Linux (Ubuntu 22.04.3 LTS) | x86_64 | 4.4.0 (2024-04-24) -- "Puppy Cup" | 4757 | 
| palomino3 | Windows Server 2022 Datacenter | x64 | 4.4.0 (2024-04-24 ucrt) -- "Puppy Cup" | 4491 | 
| lconway | macOS 12.7.1 Monterey | x86_64 | 4.4.0 (2024-04-24) -- "Puppy Cup" | 4522 | 
| kjohnson3 | macOS 13.6.5 Ventura | arm64 | 4.4.0 (2024-04-24) -- "Puppy Cup" | 4468 | 
| Click on any hostname to see more info about the system (e.g. compilers) (*) as reported by 'uname -p', except on Windows and Mac OS X | ||||
| Package 1246/2300 | Hostname | OS / Arch | INSTALL | BUILD | CHECK | BUILD BIN | ||||||||
| MethylSeekR 1.44.0  (landing page) Lukas Burger 
 | nebbiolo1 | Linux (Ubuntu 22.04.3 LTS) / x86_64 | OK | OK | OK |  | ||||||||
| palomino3 | Windows Server 2022 Datacenter / x64 | OK | OK | OK | OK |  | ||||||||
| lconway | macOS 12.7.1 Monterey / x86_64 | OK | OK | OK | OK |  | ||||||||
| kjohnson3 | macOS 13.6.5 Ventura / arm64 | OK | OK | OK | OK |  | ||||||||
| To the developers/maintainers of the MethylSeekR package: - Allow up to 24 hours (and sometimes 48 hours) for your latest push to git@git.bioconductor.org:packages/MethylSeekR.git to reflect on this report. See Troubleshooting Build Report for more information. - Use the following Renviron settings to reproduce errors and warnings. - If 'R CMD check' started to fail recently on the Linux builder(s) over a missing dependency, add the missing dependency to 'Suggests:' in your DESCRIPTION file. See Renviron.bioc for more information. | 
| Package: MethylSeekR | 
| Version: 1.44.0 | 
| Command: /Library/Frameworks/R.framework/Resources/bin/R CMD check --install=check:MethylSeekR.install-out.txt --library=/Library/Frameworks/R.framework/Resources/library --no-vignettes --timings MethylSeekR_1.44.0.tar.gz | 
| StartedAt: 2024-06-10 21:37:44 -0400 (Mon, 10 Jun 2024) | 
| EndedAt: 2024-06-10 21:48:40 -0400 (Mon, 10 Jun 2024) | 
| EllapsedTime: 656.6 seconds | 
| RetCode: 0 | 
| Status: OK | 
| CheckDir: MethylSeekR.Rcheck | 
| Warnings: 0 | 
##############################################################################
##############################################################################
###
### Running command:
###
###   /Library/Frameworks/R.framework/Resources/bin/R CMD check --install=check:MethylSeekR.install-out.txt --library=/Library/Frameworks/R.framework/Resources/library --no-vignettes --timings MethylSeekR_1.44.0.tar.gz
###
##############################################################################
##############################################################################
* using log directory ‘/Users/biocbuild/bbs-3.19-bioc/meat/MethylSeekR.Rcheck’
* using R version 4.4.0 (2024-04-24)
* using platform: aarch64-apple-darwin20
* R was compiled by
    Apple clang version 14.0.0 (clang-1400.0.29.202)
    GNU Fortran (GCC) 12.2.0
* running under: macOS Ventura 13.6.5
* using session charset: UTF-8
* using option ‘--no-vignettes’
* checking for file ‘MethylSeekR/DESCRIPTION’ ... OK
* checking extension type ... Package
* this is package ‘MethylSeekR’ version ‘1.44.0’
* checking package namespace information ... OK
* checking package dependencies ... OK
* checking if this is a source package ... OK
* checking if there is a namespace ... OK
* checking for hidden files and directories ... OK
* checking for portable file names ... OK
* checking for sufficient/correct file permissions ... OK
* checking whether package ‘MethylSeekR’ can be installed ... OK
* checking installed package size ... OK
* checking package directory ... OK
* checking ‘build’ directory ... OK
* checking DESCRIPTION meta-information ... NOTE
Malformed Description field: should contain one or more complete sentences.
Package listed in more than one of Depends, Imports, Suggests, Enhances:
  ‘parallel’
A package should be listed in only one of these fields.
* checking top-level files ... OK
* checking for left-over files ... OK
* checking index information ... OK
* checking package subdirectories ... OK
* checking code files for non-ASCII characters ... OK
* checking R files for syntax errors ... OK
* checking whether the package can be loaded ... OK
* checking whether the package can be loaded with stated dependencies ... OK
* checking whether the package can be unloaded cleanly ... OK
* checking whether the namespace can be loaded with stated dependencies ... OK
* checking whether the namespace can be unloaded cleanly ... OK
* checking dependencies in R code ... NOTE
Namespace in Imports field not imported from: ‘geneplotter’
  All declared Imports should be used.
Package in Depends field not imported from: ‘rtracklayer’
  These packages need to be imported from (in the NAMESPACE file)
  for when this namespace is loaded but not attached.
* checking S3 generic/method consistency ... OK
* checking replacement functions ... OK
* checking foreign function calls ... OK
* checking R code for possible problems ... NOTE
PMDviterbiSegmentation : <anonymous>: no visible global function
  definition for ‘values’
PMDviterbiSegmentation : <anonymous>: no visible global function
  definition for ‘predict’
PMDviterbiSegmentation : <anonymous>: no visible global function
  definition for ‘Rle’
PMDviterbiSegmentation : <anonymous>: no visible global function
  definition for ‘runValue’
calculateAlphaDistr : <anonymous>: no visible global function
  definition for ‘Rle’
calculateFDRs: no visible global function definition for ‘values’
calculateFDRs: no visible global function definition for ‘queryHits’
calculateFDRs: no visible global function definition for ‘values<-’
calculateFDRs : <anonymous>: no visible global function definition for
  ‘Rle’
calculateFDRs : <anonymous>: no visible global function definition for
  ‘values’
calculateFDRs : <anonymous>: no visible global function definition for
  ‘runValue’
createGRangesObjectPMDSegmentation : <anonymous>: no visible global
  function definition for ‘Rle’
createGRangesObjectPMDSegmentation : <anonymous>: no visible global
  function definition for ‘nrun’
createGRangesObjectPMDSegmentation : <anonymous>: no visible global
  function definition for ‘runValue’
plotAlphaDistributionOneChr: no visible global function definition for
  ‘values’
plotFinalSegmentation: no visible global function definition for
  ‘values’
plotFinalSegmentation: no visible global function definition for ‘Rle’
plotPMDSegmentation: no visible global function definition for ‘values’
readMethylome: no visible global function definition for ‘values’
removeSNPs: no visible global function definition for ‘queryHits’
savePMDSegments: no visible global function definition for ‘values’
saveUMRLMRSegments: no visible global function definition for ‘values’
segmentUMRsLMRs: no visible global function definition for ‘values’
segmentUMRsLMRs : <anonymous>: no visible global function definition
  for ‘Rle’
segmentUMRsLMRs : <anonymous>: no visible global function definition
  for ‘values’
segmentUMRsLMRs : <anonymous>: no visible global function definition
  for ‘runValue’
segmentUMRsLMRs: no visible global function definition for ‘queryHits’
segmentUMRsLMRs: no visible global function definition for
  ‘subjectHits’
segmentUMRsLMRs: no visible global function definition for ‘Rle’
segmentUMRsLMRs: no visible global function definition for ‘values<-’
segmentUMRsLMRs: no visible global function definition for ‘DataFrame’
segmentUMRsLMRs: no visible global function definition for
  ‘colorRampPalette’
trainPMDHMM: no visible global function definition for ‘values’
Undefined global functions or variables:
  DataFrame Rle colorRampPalette nrun predict queryHits runValue
  subjectHits values values<-
Consider adding
  importFrom("grDevices", "colorRampPalette")
  importFrom("stats", "predict")
to your NAMESPACE file.
* checking Rd files ... OK
* checking Rd metadata ... OK
* checking Rd cross-references ... OK
* checking for missing documentation entries ... OK
* checking for code/documentation mismatches ... OK
* checking Rd \usage sections ... OK
* checking Rd contents ... OK
* checking for unstated dependencies in examples ... OK
* checking sizes of PDF files under ‘inst/doc’ ... OK
* checking files in ‘vignettes’ ... OK
* checking examples ... OK
Examples with CPU (user + system) or elapsed time > 5s
                              user system elapsed
MethylSeekR-package         49.490  2.468  90.790
savePMDSegments             33.676  1.599  50.004
plotPMDSegmentation         32.288  1.501  47.409
segmentPMDs                 29.761  1.564  43.683
calculateFDRs                6.795  0.552  19.482
plotAlphaDistributionOneChr  5.819  0.318   8.750
* checking for unstated dependencies in vignettes ... OK
* checking package vignettes ... OK
* checking running R code from vignettes ... SKIPPED
* checking re-building of vignette outputs ... SKIPPED
* checking PDF version of manual ... OK
* DONE
Status: 3 NOTEs
See
  ‘/Users/biocbuild/bbs-3.19-bioc/meat/MethylSeekR.Rcheck/00check.log’
for details.
MethylSeekR.Rcheck/00install.out
############################################################################## ############################################################################## ### ### Running command: ### ### /Library/Frameworks/R.framework/Resources/bin/R CMD INSTALL MethylSeekR ### ############################################################################## ############################################################################## * installing to library ‘/Library/Frameworks/R.framework/Versions/4.4-arm64/Resources/library’ * installing *source* package ‘MethylSeekR’ ... ** using staged installation ** R ** inst ** byte-compile and prepare package for lazy loading ** help *** installing help indices ** building package indices ** installing vignettes ** testing if installed package can be loaded from temporary location ** testing if installed package can be loaded from final location ** testing if installed package keeps a record of temporary installation path * DONE (MethylSeekR)
MethylSeekR.Rcheck/MethylSeekR-Ex.timings
| name | user | system | elapsed | |
| MethylSeekR-package | 49.490 | 2.468 | 90.790 | |
| calculateFDRs | 6.795 | 0.552 | 19.482 | |
| plotAlphaDistributionOneChr | 5.819 | 0.318 | 8.750 | |
| plotFinalSegmentation | 1.633 | 0.122 | 2.386 | |
| plotPMDSegmentation | 32.288 | 1.501 | 47.409 | |
| readMethylome | 0.330 | 0.023 | 0.488 | |
| readSNPTable | 0.146 | 0.013 | 0.228 | |
| removeSNPs | 0.468 | 0.038 | 0.725 | |
| savePMDSegments | 33.676 | 1.599 | 50.004 | |
| saveUMRLMRSegments | 1.179 | 0.109 | 1.833 | |
| segmentPMDs | 29.761 | 1.564 | 43.683 | |
| segmentUMRsLMRs | 1.215 | 0.088 | 1.797 | |