| Back to Multiple platform build/check report for BioC 3.19: simplified long |
|
This page was generated on 2024-06-11 14:42 -0400 (Tue, 11 Jun 2024).
| Hostname | OS | Arch (*) | R version | Installed pkgs |
|---|---|---|---|---|
| nebbiolo1 | Linux (Ubuntu 22.04.3 LTS) | x86_64 | 4.4.0 (2024-04-24) -- "Puppy Cup" | 4757 |
| palomino3 | Windows Server 2022 Datacenter | x64 | 4.4.0 (2024-04-24 ucrt) -- "Puppy Cup" | 4491 |
| lconway | macOS 12.7.1 Monterey | x86_64 | 4.4.0 (2024-04-24) -- "Puppy Cup" | 4522 |
| kjohnson3 | macOS 13.6.5 Ventura | arm64 | 4.4.0 (2024-04-24) -- "Puppy Cup" | 4468 |
| Click on any hostname to see more info about the system (e.g. compilers) (*) as reported by 'uname -p', except on Windows and Mac OS X | ||||
| Package 1173/2300 | Hostname | OS / Arch | INSTALL | BUILD | CHECK | BUILD BIN | ||||||||
| MatrixQCvis 1.12.0 (landing page) Thomas Naake
| nebbiolo1 | Linux (Ubuntu 22.04.3 LTS) / x86_64 | OK | OK | OK | |||||||||
| palomino3 | Windows Server 2022 Datacenter / x64 | OK | OK | OK | OK | |||||||||
| lconway | macOS 12.7.1 Monterey / x86_64 | OK | OK | OK | OK | |||||||||
| kjohnson3 | macOS 13.6.5 Ventura / arm64 | OK | OK | OK | OK | |||||||||
|
To the developers/maintainers of the MatrixQCvis package: - Allow up to 24 hours (and sometimes 48 hours) for your latest push to git@git.bioconductor.org:packages/MatrixQCvis.git to reflect on this report. See Troubleshooting Build Report for more information. - Use the following Renviron settings to reproduce errors and warnings. - If 'R CMD check' started to fail recently on the Linux builder(s) over a missing dependency, add the missing dependency to 'Suggests:' in your DESCRIPTION file. See Renviron.bioc for more information. |
| Package: MatrixQCvis |
| Version: 1.12.0 |
| Command: /Library/Frameworks/R.framework/Resources/bin/R CMD check --install=check:MatrixQCvis.install-out.txt --library=/Library/Frameworks/R.framework/Resources/library --no-vignettes --timings MatrixQCvis_1.12.0.tar.gz |
| StartedAt: 2024-06-09 21:18:19 -0400 (Sun, 09 Jun 2024) |
| EndedAt: 2024-06-09 21:23:18 -0400 (Sun, 09 Jun 2024) |
| EllapsedTime: 299.6 seconds |
| RetCode: 0 |
| Status: OK |
| CheckDir: MatrixQCvis.Rcheck |
| Warnings: 0 |
##############################################################################
##############################################################################
###
### Running command:
###
### /Library/Frameworks/R.framework/Resources/bin/R CMD check --install=check:MatrixQCvis.install-out.txt --library=/Library/Frameworks/R.framework/Resources/library --no-vignettes --timings MatrixQCvis_1.12.0.tar.gz
###
##############################################################################
##############################################################################
* using log directory ‘/Users/biocbuild/bbs-3.19-bioc/meat/MatrixQCvis.Rcheck’
* using R version 4.4.0 (2024-04-24)
* using platform: x86_64-apple-darwin20
* R was compiled by
Apple clang version 14.0.0 (clang-1400.0.29.202)
GNU Fortran (GCC) 12.2.0
* running under: macOS Monterey 12.7.1
* using session charset: UTF-8
* using option ‘--no-vignettes’
* checking for file ‘MatrixQCvis/DESCRIPTION’ ... OK
* checking extension type ... Package
* this is package ‘MatrixQCvis’ version ‘1.12.0’
* package encoding: UTF-8
* checking package namespace information ... OK
* checking package dependencies ... OK
* checking if this is a source package ... OK
* checking if there is a namespace ... OK
* checking for hidden files and directories ... OK
* checking for portable file names ... OK
* checking for sufficient/correct file permissions ... OK
* checking whether package ‘MatrixQCvis’ can be installed ... OK
* checking installed package size ... OK
* checking package directory ... OK
* checking ‘build’ directory ... OK
* checking DESCRIPTION meta-information ... OK
* checking top-level files ... OK
* checking for left-over files ... OK
* checking index information ... OK
* checking package subdirectories ... OK
* checking code files for non-ASCII characters ... OK
* checking R files for syntax errors ... OK
* checking whether the package can be loaded ... OK
* checking whether the package can be loaded with stated dependencies ... OK
* checking whether the package can be unloaded cleanly ... OK
* checking whether the namespace can be loaded with stated dependencies ... OK
* checking whether the namespace can be unloaded cleanly ... OK
* checking dependencies in R code ... OK
* checking S3 generic/method consistency ... OK
* checking replacement functions ... OK
* checking foreign function calls ... OK
* checking R code for possible problems ... OK
* checking Rd files ... OK
* checking Rd metadata ... OK
* checking Rd cross-references ... OK
* checking for missing documentation entries ... OK
* checking for code/documentation mismatches ... OK
* checking Rd \usage sections ... OK
* checking Rd contents ... OK
* checking for unstated dependencies in examples ... OK
* checking files in ‘vignettes’ ... OK
* checking examples ... OK
* checking for unstated dependencies in ‘tests’ ... OK
* checking tests ...
Running ‘testthat.R’
OK
* checking for unstated dependencies in vignettes ... OK
* checking package vignettes ... OK
* checking running R code from vignettes ... SKIPPED
* checking re-building of vignette outputs ... SKIPPED
* checking PDF version of manual ... OK
* DONE
Status: OK
MatrixQCvis.Rcheck/00install.out
############################################################################## ############################################################################## ### ### Running command: ### ### /Library/Frameworks/R.framework/Resources/bin/R CMD INSTALL MatrixQCvis ### ############################################################################## ############################################################################## * installing to library ‘/Library/Frameworks/R.framework/Versions/4.4-x86_64/Resources/library’ * installing *source* package ‘MatrixQCvis’ ... ** using staged installation ** R ** inst ** byte-compile and prepare package for lazy loading ** help *** installing help indices ** building package indices ** installing vignettes ** testing if installed package can be loaded from temporary location ** testing if installed package can be loaded from final location ** testing if installed package keeps a record of temporary installation path * DONE (MatrixQCvis)
MatrixQCvis.Rcheck/tests/testthat.Rout
R version 4.4.0 (2024-04-24) -- "Puppy Cup"
Copyright (C) 2024 The R Foundation for Statistical Computing
Platform: x86_64-apple-darwin20
R is free software and comes with ABSOLUTELY NO WARRANTY.
You are welcome to redistribute it under certain conditions.
Type 'license()' or 'licence()' for distribution details.
R is a collaborative project with many contributors.
Type 'contributors()' for more information and
'citation()' on how to cite R or R packages in publications.
Type 'demo()' for some demos, 'help()' for on-line help, or
'help.start()' for an HTML browser interface to help.
Type 'q()' to quit R.
> library(testthat)
> library(MatrixQCvis)
Loading required package: SummarizedExperiment
Loading required package: MatrixGenerics
Loading required package: matrixStats
Attaching package: 'MatrixGenerics'
The following objects are masked from 'package:matrixStats':
colAlls, colAnyNAs, colAnys, colAvgsPerRowSet, colCollapse,
colCounts, colCummaxs, colCummins, colCumprods, colCumsums,
colDiffs, colIQRDiffs, colIQRs, colLogSumExps, colMadDiffs,
colMads, colMaxs, colMeans2, colMedians, colMins, colOrderStats,
colProds, colQuantiles, colRanges, colRanks, colSdDiffs, colSds,
colSums2, colTabulates, colVarDiffs, colVars, colWeightedMads,
colWeightedMeans, colWeightedMedians, colWeightedSds,
colWeightedVars, rowAlls, rowAnyNAs, rowAnys, rowAvgsPerColSet,
rowCollapse, rowCounts, rowCummaxs, rowCummins, rowCumprods,
rowCumsums, rowDiffs, rowIQRDiffs, rowIQRs, rowLogSumExps,
rowMadDiffs, rowMads, rowMaxs, rowMeans2, rowMedians, rowMins,
rowOrderStats, rowProds, rowQuantiles, rowRanges, rowRanks,
rowSdDiffs, rowSds, rowSums2, rowTabulates, rowVarDiffs, rowVars,
rowWeightedMads, rowWeightedMeans, rowWeightedMedians,
rowWeightedSds, rowWeightedVars
Loading required package: GenomicRanges
Loading required package: stats4
Loading required package: BiocGenerics
Attaching package: 'BiocGenerics'
The following objects are masked from 'package:stats':
IQR, mad, sd, var, xtabs
The following objects are masked from 'package:base':
Filter, Find, Map, Position, Reduce, anyDuplicated, aperm, append,
as.data.frame, basename, cbind, colnames, dirname, do.call,
duplicated, eval, evalq, get, grep, grepl, intersect, is.unsorted,
lapply, mapply, match, mget, order, paste, pmax, pmax.int, pmin,
pmin.int, rank, rbind, rownames, sapply, setdiff, table, tapply,
union, unique, unsplit, which.max, which.min
Loading required package: S4Vectors
Attaching package: 'S4Vectors'
The following object is masked from 'package:utils':
findMatches
The following objects are masked from 'package:base':
I, expand.grid, unname
Loading required package: IRanges
Loading required package: GenomeInfoDb
Loading required package: Biobase
Welcome to Bioconductor
Vignettes contain introductory material; view with
'browseVignettes()'. To cite Bioconductor, see
'citation("Biobase")', and for packages 'citation("pkgname")'.
Attaching package: 'Biobase'
The following object is masked from 'package:MatrixGenerics':
rowMedians
The following objects are masked from 'package:matrixStats':
anyMissing, rowMedians
Loading required package: plotly
Loading required package: ggplot2
Attaching package: 'plotly'
The following object is masked from 'package:ggplot2':
last_plot
The following object is masked from 'package:IRanges':
slice
The following object is masked from 'package:S4Vectors':
rename
The following object is masked from 'package:stats':
filter
The following object is masked from 'package:graphics':
layout
Loading required package: shiny
> testthat::test_check("MatrixQCvis")
initial value 0.091643
final value 0.091636
converged
initial value 0.091643
final value 0.091636
converged
[1] 28.64894
[ FAIL 0 | WARN 3 | SKIP 0 | PASS 483 ]
[ FAIL 0 | WARN 3 | SKIP 0 | PASS 483 ]
>
> proc.time()
user system elapsed
28.577 1.410 30.134
MatrixQCvis.Rcheck/MatrixQCvis-Ex.timings
| name | user | system | elapsed | |
| ECDF | 0.362 | 0.012 | 0.375 | |
| MAplot | 1.329 | 0.073 | 1.405 | |
| MAvalues | 0.070 | 0.002 | 0.073 | |
| barplotSamplesMeasuredMissing | 0.414 | 0.076 | 0.498 | |
| batchCorrectionAssay | 0.032 | 0.003 | 0.035 | |
| createBoxplot | 1.262 | 0.007 | 1.272 | |
| createDfFeature | 0.004 | 0.001 | 0.004 | |
| cv | 0.001 | 0.000 | 0.001 | |
| cvFeaturePlot | 0.270 | 0.035 | 0.305 | |
| dimensionReduction | 0.987 | 0.130 | 1.118 | |
| dimensionReductionPlot | 0.171 | 0.035 | 0.207 | |
| distSample | 0.917 | 0.021 | 0.939 | |
| distShiny | 0.001 | 0.000 | 0.002 | |
| driftPlot | 0.712 | 0.046 | 0.761 | |
| explVar | 0.006 | 0.000 | 0.007 | |
| extractComb | 0.028 | 0.001 | 0.030 | |
| featurePlot | 0.298 | 0.002 | 0.302 | |
| histFeature | 0.122 | 0.034 | 0.157 | |
| histFeatureCategory | 0.225 | 0.026 | 0.253 | |
| hist_sample | 0.102 | 0.030 | 0.133 | |
| hist_sample_num | 0.03 | 0.00 | 0.03 | |
| hoeffDPlot | 0.782 | 0.075 | 0.860 | |
| hoeffDValues | 0.169 | 0.001 | 0.170 | |
| imputeAssay | 0.006 | 0.002 | 0.008 | |
| measuredCategory | 0.014 | 0.000 | 0.013 | |
| mosaic | 0.310 | 0.003 | 0.313 | |
| normalizeAssay | 0.001 | 0.001 | 0.002 | |
| permuteExplVar | 0.016 | 0.001 | 0.018 | |
| plotCV | 0.219 | 0.002 | 0.221 | |
| plotPCALoadings | 0.142 | 0.035 | 0.178 | |
| plotPCAVar | 0.294 | 0.002 | 0.297 | |
| plotPCAVarPvalue | 0.245 | 0.003 | 0.248 | |
| samplesMeasuredMissing | 0.025 | 0.000 | 0.026 | |
| shinyQC | 0.030 | 0.001 | 0.031 | |
| sumDistSample | 0.123 | 0.034 | 0.157 | |
| tblPCALoadings | 0.113 | 0.001 | 0.113 | |
| transformAssay | 0.053 | 0.018 | 0.072 | |
| upsetCategory | 0.519 | 0.004 | 0.525 | |
| volcanoPlot | 0.180 | 0.035 | 0.215 | |