| Back to Multiple platform build/check report for BioC 3.19: simplified long | 
 | 
This page was generated on 2024-06-28 17:41 -0400 (Fri, 28 Jun 2024).
| Hostname | OS | Arch (*) | R version | Installed pkgs | 
|---|---|---|---|---|
| nebbiolo1 | Linux (Ubuntu 22.04.3 LTS) | x86_64 | 4.4.0 (2024-04-24) -- "Puppy Cup" | 4760 | 
| palomino3 | Windows Server 2022 Datacenter | x64 | 4.4.0 (2024-04-24 ucrt) -- "Puppy Cup" | 4494 | 
| merida1 | macOS 12.7.4 Monterey | x86_64 | 4.4.0 (2024-04-24) -- "Puppy Cup" | 4508 | 
| kjohnson1 | macOS 13.6.6 Ventura | arm64 | 4.4.0 (2024-04-24) -- "Puppy Cup" | 4466 | 
| palomino7 | Windows Server 2022 Datacenter | x64 | 4.4.1 (2024-06-14 ucrt) -- "Race for Your Life" | 4362 | 
| Click on any hostname to see more info about the system (e.g. compilers) (*) as reported by 'uname -p', except on Windows and Mac OS X | ||||
| Package 1166/2300 | Hostname | OS / Arch | INSTALL | BUILD | CHECK | BUILD BIN | ||||||||
| MassArray 1.56.0  (landing page) Reid F. Thompson 
 | nebbiolo1 | Linux (Ubuntu 22.04.3 LTS) / x86_64 | OK | OK | OK |  | ||||||||
| palomino3 | Windows Server 2022 Datacenter / x64 | OK | OK | OK | OK |  | ||||||||
| merida1 | macOS 12.7.4 Monterey / x86_64 | OK | OK | OK | OK |  | ||||||||
| kjohnson1 | macOS 13.6.6 Ventura / arm64 | OK | OK | OK | OK |  | ||||||||
| palomino7 | Windows Server 2022 Datacenter / x64 | OK | OK | OK | OK | |||||||||
| To the developers/maintainers of the MassArray package: - Allow up to 24 hours (and sometimes 48 hours) for your latest push to git@git.bioconductor.org:packages/MassArray.git to reflect on this report. See Troubleshooting Build Report for more information. - Use the following Renviron settings to reproduce errors and warnings. - If 'R CMD check' started to fail recently on the Linux builder(s) over a missing dependency, add the missing dependency to 'Suggests:' in your DESCRIPTION file. See Renviron.bioc for more information. | 
| Package: MassArray | 
| Version: 1.56.0 | 
| Command: F:\biocbuild\bbs-3.19-bioc\R\bin\R.exe CMD check --no-multiarch --install=check:MassArray.install-out.txt --library=F:\biocbuild\bbs-3.19-bioc\R\library --no-vignettes --timings MassArray_1.56.0.tar.gz | 
| StartedAt: 2024-06-27 03:13:43 -0400 (Thu, 27 Jun 2024) | 
| EndedAt: 2024-06-27 03:14:42 -0400 (Thu, 27 Jun 2024) | 
| EllapsedTime: 59.0 seconds | 
| RetCode: 0 | 
| Status: OK | 
| CheckDir: MassArray.Rcheck | 
| Warnings: 0 | 
##############################################################################
##############################################################################
###
### Running command:
###
###   F:\biocbuild\bbs-3.19-bioc\R\bin\R.exe CMD check --no-multiarch --install=check:MassArray.install-out.txt --library=F:\biocbuild\bbs-3.19-bioc\R\library --no-vignettes --timings MassArray_1.56.0.tar.gz
###
##############################################################################
##############################################################################
* using log directory 'F:/biocbuild/bbs-3.19-bioc/meat/MassArray.Rcheck'
* using R version 4.4.0 (2024-04-24 ucrt)
* using platform: x86_64-w64-mingw32
* R was compiled by
    gcc.exe (GCC) 13.2.0
    GNU Fortran (GCC) 13.2.0
* running under: Windows Server 2022 x64 (build 20348)
* using session charset: UTF-8
* using option '--no-vignettes'
* checking for file 'MassArray/DESCRIPTION' ... OK
* checking extension type ... Package
* this is package 'MassArray' version '1.56.0'
* checking package namespace information ... OK
* checking package dependencies ... OK
* checking if this is a source package ... OK
* checking if there is a namespace ... OK
* checking for hidden files and directories ... OK
* checking for portable file names ... OK
* checking whether package 'MassArray' can be installed ... OK
* checking installed package size ... OK
* checking package directory ... OK
* checking 'build' directory ... OK
* checking DESCRIPTION meta-information ... OK
* checking top-level files ... OK
* checking for left-over files ... OK
* checking index information ... OK
* checking package subdirectories ... OK
* checking code files for non-ASCII characters ... OK
* checking R files for syntax errors ... OK
* checking whether the package can be loaded ... OK
* checking whether the package can be loaded with stated dependencies ... OK
* checking whether the package can be unloaded cleanly ... OK
* checking whether the namespace can be loaded with stated dependencies ... OK
* checking whether the namespace can be unloaded cleanly ... OK
* checking dependencies in R code ... OK
* checking S3 generic/method consistency ... OK
* checking replacement functions ... OK
* checking foreign function calls ... OK
* checking R code for possible problems ... NOTE
calcMeth: warning in matrix(0, nr = 0, nc = N): partial argument match
  of 'nr' to 'nrow'
calcMeth: warning in matrix(0, nr = 0, nc = N): partial argument match
  of 'nc' to 'ncol'
calcMeth: warning in matrix(0, nr = num.SNRs, nc = N): partial argument
  match of 'nr' to 'nrow'
calcMeth: warning in matrix(0, nr = num.SNRs, nc = N): partial argument
  match of 'nc' to 'ncol'
calcMeth: warning in matrix(0, nr = num.missing, nc = N): partial
  argument match of 'nr' to 'nrow'
calcMeth: warning in matrix(0, nr = num.missing, nc = N): partial
  argument match of 'nc' to 'ncol'
calcMeth: warning in matrix(0, nr = length(na.coefs), nc = N): partial
  argument match of 'nr' to 'nrow'
calcMeth: warning in matrix(0, nr = length(na.coefs), nc = N): partial
  argument match of 'nc' to 'ncol'
calcMeth : optimizeCoefficients: warning in matrix(0, nr =
  num.fragments, nc = N): partial argument match of 'nr' to 'nrow'
calcMeth : optimizeCoefficients: warning in matrix(0, nr =
  num.fragments, nc = N): partial argument match of 'nc' to 'ncol'
calcMeth : optimizeCoefficients: warning in matrix(NA, nr =
  length(coefs) + 1, nc = length(coefs)): partial argument match of
  'nr' to 'nrow'
calcMeth : optimizeCoefficients: warning in matrix(NA, nr =
  length(coefs) + 1, nc = length(coefs)): partial argument match of
  'nc' to 'ncol'
$<-,MassArrayData: no visible global function definition for 'slot<-'
$<-,MassArrayFragment: no visible global function definition for
  'slot<-'
$<-,MassArrayPeak: no visible global function definition for 'slot<-'
$<-,MassArraySpectrum: no visible global function definition for
  'slot<-'
initialize,MassArrayData: no visible global function definition for
  'read.table'
Undefined global functions or variables:
  read.table slot<-
Consider adding
  importFrom("methods", "slot<-")
  importFrom("utils", "read.table")
to your NAMESPACE file (and ensure that your DESCRIPTION Imports field
contains 'methods').
* checking Rd files ... NOTE
checkRd: (-1) MassArrayData-class.Rd:37: Escaped LaTeX specials: \$
checkRd: (-1) MassArrayData-class.Rd:38: Escaped LaTeX specials: \$
checkRd: (-1) MassArrayFragment-class.Rd:40: Escaped LaTeX specials: \$
checkRd: (-1) MassArrayFragment-class.Rd:41: Escaped LaTeX specials: \$
checkRd: (-1) MassArrayPeak-class.Rd:35: Escaped LaTeX specials: \$
checkRd: (-1) MassArrayPeak-class.Rd:36: Escaped LaTeX specials: \$
checkRd: (-1) MassArraySpectrum-class.Rd:28: Escaped LaTeX specials: \$
checkRd: (-1) MassArraySpectrum-class.Rd:29: Escaped LaTeX specials: \$
* checking Rd metadata ... OK
* checking Rd cross-references ... OK
* checking for missing documentation entries ... OK
* checking for code/documentation mismatches ... OK
* checking Rd \usage sections ... OK
* checking Rd contents ... OK
* checking for unstated dependencies in examples ... OK
* checking contents of 'data' directory ... OK
* checking data for non-ASCII characters ... OK
* checking LazyData ... OK
* checking data for ASCII and uncompressed saves ... OK
* checking sizes of PDF files under 'inst/doc' ... OK
* checking files in 'vignettes' ... OK
* checking examples ... OK
Examples with CPU (user + system) or elapsed time > 5s
              user system elapsed
evaluateSNPs 15.68    2.5   18.17
* checking for unstated dependencies in vignettes ... OK
* checking package vignettes ... OK
* checking running R code from vignettes ... SKIPPED
* checking re-building of vignette outputs ... SKIPPED
* checking PDF version of manual ... OK
* DONE
Status: 2 NOTEs
See
  'F:/biocbuild/bbs-3.19-bioc/meat/MassArray.Rcheck/00check.log'
for details.
MassArray.Rcheck/00install.out
############################################################################## ############################################################################## ### ### Running command: ### ### F:\biocbuild\bbs-3.19-bioc\R\bin\R.exe CMD INSTALL MassArray ### ############################################################################## ############################################################################## * installing to library 'F:/biocbuild/bbs-3.19-bioc/R/library' * installing *source* package 'MassArray' ... ** using staged installation ** R ** data *** moving datasets to lazyload DB ** inst ** byte-compile and prepare package for lazy loading ** help *** installing help indices ** building package indices ** installing vignettes ** testing if installed package can be loaded from temporary location ** testing if installed package can be loaded from final location ** testing if installed package keeps a record of temporary installation path * DONE (MassArray)
MassArray.Rcheck/MassArray-Ex.timings
| name | user | system | elapsed | |
| MassArray.example.data | 0.00 | 0.04 | 0.03 | |
| MassArrayData-class | 0 | 0 | 0 | |
| MassArrayFragment-class | 0 | 0 | 0 | |
| MassArrayPeak-class | 0 | 0 | 0 | |
| MassArraySpectrum-class | 0 | 0 | 0 | |
| ampliconPrediction | 0.77 | 0.01 | 0.78 | |
| analyzeCpGs | 0.09 | 0.00 | 0.09 | |
| bisConvert | 0 | 0 | 0 | |
| calcMW | 0 | 0 | 0 | |
| calcMeth | 0 | 0 | 0 | |
| calcPercentAdduct | 0.03 | 0.00 | 0.03 | |
| calcPercentConversion | 0.02 | 0.01 | 0.03 | |
| combine | 0.28 | 0.00 | 0.28 | |
| convControl | 0.03 | 0.00 | 0.04 | |
| countCGs | 0 | 0 | 0 | |
| createWiggle | 0.02 | 0.00 | 0.01 | |
| estimatePrimerDimer | 0.04 | 0.00 | 0.05 | |
| evaluateSNPs | 15.68 | 2.50 | 18.17 | |
| expandSequence | 0.00 | 0.02 | 0.02 | |
| findCollisions | 0 | 0 | 0 | |
| findFragments | 0.03 | 0.00 | 0.03 | |
| findPeaks | 0 | 0 | 0 | |
| identifySNPs | 0 | 0 | 0 | |
| inSilicoFragmentation | 0 | 0 | 0 | |
| isAssayable | 0 | 0 | 0 | |
| numCollisions | 0 | 0 | 0 | |
| plot.MassArrayData | 0.03 | 0.00 | 0.03 | |
| position | 0.01 | 0.00 | 0.02 | |
| revComplement | 0 | 0 | 0 | |
| rnaDigest | 0 | 0 | 0 | |
| samples | 0.02 | 0.00 | 0.01 | |
| sum.MassArraySpectrum | 0.08 | 0.00 | 0.08 | |