| Back to Multiple platform build/check report for BioC 3.19: simplified long | 
 | 
This page was generated on 2024-10-18 20:42 -0400 (Fri, 18 Oct 2024).
| Hostname | OS | Arch (*) | R version | Installed pkgs | 
|---|---|---|---|---|
| nebbiolo1 | Linux (Ubuntu 22.04.3 LTS) | x86_64 | 4.4.1 (2024-06-14) -- "Race for Your Life" | 4763 | 
| palomino7 | Windows Server 2022 Datacenter | x64 | 4.4.1 (2024-06-14 ucrt) -- "Race for Your Life" | 4500 | 
| merida1 | macOS 12.7.5 Monterey | x86_64 | 4.4.1 (2024-06-14) -- "Race for Your Life" | 4530 | 
| kjohnson1 | macOS 13.6.6 Ventura | arm64 | 4.4.1 (2024-06-14) -- "Race for Your Life" | 4480 | 
| Click on any hostname to see more info about the system (e.g. compilers) (*) as reported by 'uname -p', except on Windows and Mac OS X | ||||
| Package 1369/2300 | Hostname | OS / Arch | INSTALL | BUILD | CHECK | BUILD BIN | ||||||||
| MSstatsTMT 2.12.1  (landing page) Devon Kohler 
 | nebbiolo1 | Linux (Ubuntu 22.04.3 LTS) / x86_64 | OK | OK | OK |  | ||||||||
| palomino7 | Windows Server 2022 Datacenter / x64 | OK | OK | OK | OK |  | ||||||||
| merida1 | macOS 12.7.5 Monterey / x86_64 | OK | OK | OK | OK |  | ||||||||
| kjohnson1 | macOS 13.6.6 Ventura / arm64 | OK | OK | OK | OK |  | ||||||||
| To the developers/maintainers of the MSstatsTMT package: - Allow up to 24 hours (and sometimes 48 hours) for your latest push to git@git.bioconductor.org:packages/MSstatsTMT.git to reflect on this report. See Troubleshooting Build Report for more information. - Use the following Renviron settings to reproduce errors and warnings. - If 'R CMD check' started to fail recently on the Linux builder(s) over a missing dependency, add the missing dependency to 'Suggests:' in your DESCRIPTION file. See Renviron.bioc for more information. | 
| Package: MSstatsTMT | 
| Version: 2.12.1 | 
| Command: /Library/Frameworks/R.framework/Resources/bin/R CMD check --install=check:MSstatsTMT.install-out.txt --library=/Library/Frameworks/R.framework/Resources/library --no-vignettes --timings MSstatsTMT_2.12.1.tar.gz | 
| StartedAt: 2024-10-18 05:24:15 -0400 (Fri, 18 Oct 2024) | 
| EndedAt: 2024-10-18 05:26:55 -0400 (Fri, 18 Oct 2024) | 
| EllapsedTime: 159.9 seconds | 
| RetCode: 0 | 
| Status: OK | 
| CheckDir: MSstatsTMT.Rcheck | 
| Warnings: 0 | 
##############################################################################
##############################################################################
###
### Running command:
###
###   /Library/Frameworks/R.framework/Resources/bin/R CMD check --install=check:MSstatsTMT.install-out.txt --library=/Library/Frameworks/R.framework/Resources/library --no-vignettes --timings MSstatsTMT_2.12.1.tar.gz
###
##############################################################################
##############################################################################
* using log directory ‘/Users/biocbuild/bbs-3.19-bioc/meat/MSstatsTMT.Rcheck’
* using R version 4.4.1 (2024-06-14)
* using platform: aarch64-apple-darwin20
* R was compiled by
    Apple clang version 14.0.0 (clang-1400.0.29.202)
    GNU Fortran (GCC) 12.2.0
* running under: macOS Ventura 13.6.6
* using session charset: UTF-8
* using option ‘--no-vignettes’
* checking for file ‘MSstatsTMT/DESCRIPTION’ ... OK
* this is package ‘MSstatsTMT’ version ‘2.12.1’
* package encoding: UTF-8
* checking package namespace information ... OK
* checking package dependencies ... OK
* checking if this is a source package ... OK
* checking if there is a namespace ... OK
* checking for hidden files and directories ... OK
* checking for portable file names ... OK
* checking for sufficient/correct file permissions ... OK
* checking whether package ‘MSstatsTMT’ can be installed ... OK
* checking installed package size ... OK
* checking package directory ... OK
* checking ‘build’ directory ... OK
* checking DESCRIPTION meta-information ... OK
* checking top-level files ... OK
* checking for left-over files ... OK
* checking index information ... OK
* checking package subdirectories ... OK
* checking code files for non-ASCII characters ... OK
* checking R files for syntax errors ... OK
* checking whether the package can be loaded ... OK
* checking whether the package can be loaded with stated dependencies ... OK
* checking whether the package can be unloaded cleanly ... OK
* checking whether the namespace can be loaded with stated dependencies ... OK
* checking whether the namespace can be unloaded cleanly ... OK
* checking dependencies in R code ... OK
* checking S3 generic/method consistency ... OK
* checking replacement functions ... OK
* checking foreign function calls ... OK
* checking R code for possible problems ... NOTE
.checkRepeatedMeasures: no visible global function definition for ‘.’
.checkSingleSubject: no visible global function definition for ‘.’
.checkTechReplicate: no visible global function definition for ‘.’
.getGroupLabel: no visible binding for global variable ‘Condition’
.getVarComponentTMT : <anonymous>: no visible global function
  definition for ‘is’
.handleSingleContrastTMT: no visible global function definition for
  ‘.mygrad’
.plotProfileTMT: no visible global function definition for ‘.’
.plotProfileTMT: no visible binding for global variable ‘censored’
.savePlotlyPlotHTML: no visible global function definition for ‘zip’
Undefined global functions or variables:
  . .mygrad Condition censored is zip
Consider adding
  importFrom("methods", "is")
  importFrom("utils", "zip")
to your NAMESPACE file (and ensure that your DESCRIPTION Imports field
contains 'methods').
* checking Rd files ... OK
* checking Rd metadata ... OK
* checking Rd cross-references ... OK
* checking for missing documentation entries ... OK
* checking for code/documentation mismatches ... OK
* checking Rd \usage sections ... NOTE
Documented arguments not in \usage in Rd file 'dot-documentFunction.Rd':
  ‘removeProtein_with1Peptide’ ‘use_log_file’ ‘append’ ‘verbose’
  ‘log_file_path’
Functions with \usage entries need to have the appropriate \alias
entries, and all their arguments documented.
The \usage entries must correspond to syntactically valid R code.
See chapter ‘Writing R documentation files’ in the ‘Writing R
Extensions’ manual.
* checking Rd contents ... OK
* checking for unstated dependencies in examples ... OK
* checking contents of ‘data’ directory ... OK
* checking data for non-ASCII characters ... OK
* checking LazyData ... OK
* checking data for ASCII and uncompressed saves ... OK
* checking files in ‘vignettes’ ... OK
* checking examples ... OK
Examples with CPU (user + system) or elapsed time > 5s
                      user system elapsed
dataProcessPlotsTMT 34.566  1.042  32.734
designSampleSizeTMT  8.426  0.507   5.830
groupComparisonTMT   7.408  0.459   7.121
* checking for unstated dependencies in ‘tests’ ... OK
* checking tests ...
  Running ‘testthat.R’
 OK
* checking for unstated dependencies in vignettes ... OK
* checking package vignettes ... OK
* checking running R code from vignettes ... SKIPPED
* checking re-building of vignette outputs ... SKIPPED
* checking PDF version of manual ... OK
* DONE
Status: 2 NOTEs
See
  ‘/Users/biocbuild/bbs-3.19-bioc/meat/MSstatsTMT.Rcheck/00check.log’
for details.
MSstatsTMT.Rcheck/00install.out
############################################################################## ############################################################################## ### ### Running command: ### ### /Library/Frameworks/R.framework/Resources/bin/R CMD INSTALL MSstatsTMT ### ############################################################################## ############################################################################## * installing to library ‘/Library/Frameworks/R.framework/Versions/4.4-arm64/Resources/library’ * installing *source* package ‘MSstatsTMT’ ... ** using staged installation ** R ** data *** moving datasets to lazyload DB ** inst ** byte-compile and prepare package for lazy loading ** help *** installing help indices ** building package indices ** installing vignettes ** testing if installed package can be loaded from temporary location ** testing if installed package can be loaded from final location ** testing if installed package keeps a record of temporary installation path * DONE (MSstatsTMT)
MSstatsTMT.Rcheck/tests/testthat.Rout
R version 4.4.1 (2024-06-14) -- "Race for Your Life"
Copyright (C) 2024 The R Foundation for Statistical Computing
Platform: aarch64-apple-darwin20
R is free software and comes with ABSOLUTELY NO WARRANTY.
You are welcome to redistribute it under certain conditions.
Type 'license()' or 'licence()' for distribution details.
R is a collaborative project with many contributors.
Type 'contributors()' for more information and
'citation()' on how to cite R or R packages in publications.
Type 'demo()' for some demos, 'help()' for on-line help, or
'help.start()' for an HTML browser interface to help.
Type 'q()' to quit R.
> library(testthat)
> library(MSstatsTMT)
> 
> test_check("MSstatsTMT")
INFO  [2024-10-18 05:26:35] ** Raw data from ProteomeDiscoverer imported successfully.
INFO  [2024-10-18 05:26:35] ** Raw data from ProteomeDiscoverer cleaned successfully.
INFO  [2024-10-18 05:26:35] ** Using provided annotation.
INFO  [2024-10-18 05:26:35] ** Raw data from MaxQuant imported successfully.
INFO  [2024-10-18 05:26:35] ** Rows with values of Potentialcontaminant equal to + are removed 
INFO  [2024-10-18 05:26:35] ** Rows with values of Reverse equal to + are removed 
INFO  [2024-10-18 05:26:35] ** Rows with values of Potentialcontaminant equal to + are removed 
INFO  [2024-10-18 05:26:35] ** Rows with values of Reverse equal to + are removed 
INFO  [2024-10-18 05:26:35] ** + Contaminant, + Reverse, + Potential.contaminant proteins are removed.
INFO  [2024-10-18 05:26:35] ** Features with all missing measurements across channels within each run are removed.
INFO  [2024-10-18 05:26:35] ** Raw data from MaxQuant cleaned successfully.
INFO  [2024-10-18 05:26:35] ** Using provided annotation.
INFO  [2024-10-18 05:26:35] ** Run and Channel labels were standardized to remove symbols such as '.' or '%'.
INFO  [2024-10-18 05:26:35] ** The following options are used:
  - Features will be defined by the columns: PeptideSequence, PrecursorCharge
  - Shared peptides will be removed.
  - Proteins with single feature will not be removed.
  - Features with less than 3 measurements within each run will be removed.
INFO  [2024-10-18 05:26:35] ** Features with all missing measurements across channels within each run are removed.
INFO  [2024-10-18 05:26:35] ** Shared peptides are removed.
INFO  [2024-10-18 05:26:35] ** Features with one or two measurements across channels within each run are removed.
INFO  [2024-10-18 05:26:35] ** PSMs have been aggregated to peptide ions.
INFO  [2024-10-18 05:26:35] ** Raw data from SpectroMine imported successfully.
INFO  [2024-10-18 05:26:35] ** Raw data from SpectroMine cleaned successfully.
INFO  [2024-10-18 05:26:35] ** Using provided annotation.
INFO  [2024-10-18 05:26:35] ** Run and Channel labels were standardized to remove symbols such as '.' or '%'.
INFO  [2024-10-18 05:26:35] Design: 5 mixtures.
INFO  [2024-10-18 05:26:35] Design: 3 technical replicated MS runs per mixture.
INFO  [2024-10-18 05:26:35] Design: 1 subject per condition (No biological variation).
INFO  [2024-10-18 05:26:35] Model fitting for 10 proteins.
  |                                                                            
  |                                                                      |   0%
  |                                                                            
  |=======                                                               |  10%
  |                                                                            
  |==============                                                        |  20%
  |                                                                            
  |=====================                                                 |  30%
  |                                                                            
  |============================                                          |  40%
  |                                                                            
  |===================================                                   |  50%
  |                                                                            
  |==========================================                            |  60%
  |                                                                            
  |=================================================                     |  70%
  |                                                                            
  |========================================================              |  80%
  |                                                                            
  |===============================================================       |  90%
  |                                                                            
  |======================================================================| 100%
INFO  [2024-10-18 05:26:36] Testing for 10 proteins:
  |                                                                            
  |                                                                      |   0%
  |                                                                            
  |=======                                                               |  10%
  |                                                                            
  |==============                                                        |  20%
  |                                                                            
  |=====================                                                 |  30%
  |                                                                            
  |============================                                          |  40%
  |                                                                            
  |===================================                                   |  50%
  |                                                                            
  |==========================================                            |  60%
  |                                                                            
  |=================================================                     |  70%
  |                                                                            
  |========================================================              |  80%
  |                                                                            
  |===============================================================       |  90%
  |                                                                            
  |======================================================================| 100%
INFO  [2024-10-18 05:26:36] Design: 5 mixtures.
INFO  [2024-10-18 05:26:36] Design: 3 technical replicated MS runs per mixture.
INFO  [2024-10-18 05:26:36] Design: 1 subject per condition (No biological variation).
INFO  [2024-10-18 05:26:36] Model fitting for 10 proteins.
  |                                                                            
  |                                                                      |   0%
  |                                                                            
  |=======                                                               |  10%
  |                                                                            
  |==============                                                        |  20%
  |                                                                            
  |=====================                                                 |  30%
  |                                                                            
  |============================                                          |  40%
  |                                                                            
  |===================================                                   |  50%
  |                                                                            
  |==========================================                            |  60%
  |                                                                            
  |=================================================                     |  70%
  |                                                                            
  |========================================================              |  80%
  |                                                                            
  |===============================================================       |  90%
  |                                                                            
  |======================================================================| 100%
INFO  [2024-10-18 05:26:37] ** MSstatsTMT - proteinSummarization function
INFO  [2024-10-18 05:26:37] Summarizing for Run : 161117_SILAC_HeLa_UPS1_TMT10_Mixture1_01raw ( 1  of  15 )
  |                                                                            
  |                                                                      |   0%
  |                                                                            
  |=======                                                               |  10%
  |                                                                            
  |==============                                                        |  20%
  |                                                                            
  |=====================                                                 |  30%
  |                                                                            
  |============================                                          |  40%
  |                                                                            
  |===================================                                   |  50%
  |                                                                            
  |==========================================                            |  60%
  |                                                                            
  |=================================================                     |  70%
  |                                                                            
  |========================================================              |  80%
  |                                                                            
  |===============================================================       |  90%
  |                                                                            
  |======================================================================| 100%
INFO  [2024-10-18 05:26:38] Summarizing for Run : 161117_SILAC_HeLa_UPS1_TMT10_Mixture1_02raw ( 2  of  15 )
  |                                                                            
  |                                                                      |   0%
  |                                                                            
  |=======                                                               |  10%
  |                                                                            
  |==============                                                        |  20%
  |                                                                            
  |=====================                                                 |  30%
  |                                                                            
  |============================                                          |  40%
  |                                                                            
  |===================================                                   |  50%
  |                                                                            
  |==========================================                            |  60%
  |                                                                            
  |=================================================                     |  70%
  |                                                                            
  |========================================================              |  80%
  |                                                                            
  |===============================================================       |  90%
  |                                                                            
  |======================================================================| 100%
INFO  [2024-10-18 05:26:38] Summarizing for Run : 161117_SILAC_HeLa_UPS1_TMT10_Mixture2_01raw ( 3  of  15 )
  |                                                                            
  |                                                                      |   0%
  |                                                                            
  |=======                                                               |  10%
  |                                                                            
  |==============                                                        |  20%
  |                                                                            
  |=====================                                                 |  30%
  |                                                                            
  |============================                                          |  40%
  |                                                                            
  |===================================                                   |  50%
  |                                                                            
  |==========================================                            |  60%
  |                                                                            
  |=================================================                     |  70%
  |                                                                            
  |========================================================              |  80%
  |                                                                            
  |===============================================================       |  90%
  |                                                                            
  |======================================================================| 100%
INFO  [2024-10-18 05:26:39] Summarizing for Run : 161117_SILAC_HeLa_UPS1_TMT10_Mixture2_02raw ( 4  of  15 )
  |                                                                            
  |                                                                      |   0%
  |                                                                            
  |=======                                                               |  10%
  |                                                                            
  |==============                                                        |  20%
  |                                                                            
  |=====================                                                 |  30%
  |                                                                            
  |============================                                          |  40%
  |                                                                            
  |===================================                                   |  50%
  |                                                                            
  |==========================================                            |  60%
  |                                                                            
  |=================================================                     |  70%
  |                                                                            
  |========================================================              |  80%
  |                                                                            
  |===============================================================       |  90%
  |                                                                            
  |======================================================================| 100%
INFO  [2024-10-18 05:26:39] Summarizing for Run : 161117_SILAC_HeLa_UPS1_TMT10_Mixture2_03raw ( 5  of  15 )
  |                                                                            
  |                                                                      |   0%
  |                                                                            
  |=======                                                               |  10%
  |                                                                            
  |==============                                                        |  20%
  |                                                                            
  |=====================                                                 |  30%
  |                                                                            
  |============================                                          |  40%
  |                                                                            
  |===================================                                   |  50%
  |                                                                            
  |==========================================                            |  60%
  |                                                                            
  |=================================================                     |  70%
  |                                                                            
  |========================================================              |  80%
  |                                                                            
  |===============================================================       |  90%
  |                                                                            
  |======================================================================| 100%
INFO  [2024-10-18 05:26:39] Summarizing for Run : 161117_SILAC_HeLa_UPS1_TMT10_Mixture3_01raw ( 6  of  15 )
  |                                                                            
  |                                                                      |   0%
  |                                                                            
  |=======                                                               |  10%
  |                                                                            
  |==============                                                        |  20%
  |                                                                            
  |=====================                                                 |  30%
  |                                                                            
  |============================                                          |  40%
  |                                                                            
  |===================================                                   |  50%
  |                                                                            
  |==========================================                            |  60%
  |                                                                            
  |=================================================                     |  70%
  |                                                                            
  |========================================================              |  80%
  |                                                                            
  |===============================================================       |  90%
  |                                                                            
  |======================================================================| 100%
INFO  [2024-10-18 05:26:39] Summarizing for Run : 161117_SILAC_HeLa_UPS1_TMT10_Mixture3_02raw ( 7  of  15 )
  |                                                                            
  |                                                                      |   0%
  |                                                                            
  |=======                                                               |  10%
  |                                                                            
  |==============                                                        |  20%
  |                                                                            
  |=====================                                                 |  30%
  |                                                                            
  |============================                                          |  40%
  |                                                                            
  |===================================                                   |  50%
  |                                                                            
  |==========================================                            |  60%
  |                                                                            
  |=================================================                     |  70%
  |                                                                            
  |========================================================              |  80%
  |                                                                            
  |===============================================================       |  90%
  |                                                                            
  |======================================================================| 100%
INFO  [2024-10-18 05:26:40] Summarizing for Run : 161117_SILAC_HeLa_UPS1_TMT10_Mixture4_01raw ( 8  of  15 )
  |                                                                            
  |                                                                      |   0%
  |                                                                            
  |=======                                                               |  10%
  |                                                                            
  |==============                                                        |  20%
  |                                                                            
  |=====================                                                 |  30%
  |                                                                            
  |============================                                          |  40%
  |                                                                            
  |===================================                                   |  50%
  |                                                                            
  |==========================================                            |  60%
  |                                                                            
  |=================================================                     |  70%
  |                                                                            
  |========================================================              |  80%
  |                                                                            
  |===============================================================       |  90%
  |                                                                            
  |======================================================================| 100%
INFO  [2024-10-18 05:26:40] Summarizing for Run : 161117_SILAC_HeLa_UPS1_TMT10_Mixture4_02raw ( 9  of  15 )
  |                                                                            
  |                                                                      |   0%
  |                                                                            
  |=======                                                               |  10%
  |                                                                            
  |==============                                                        |  20%
  |                                                                            
  |=====================                                                 |  30%
  |                                                                            
  |============================                                          |  40%
  |                                                                            
  |===================================                                   |  50%
  |                                                                            
  |==========================================                            |  60%
  |                                                                            
  |=================================================                     |  70%
  |                                                                            
  |========================================================              |  80%
  |                                                                            
  |===============================================================       |  90%
  |                                                                            
  |======================================================================| 100%
INFO  [2024-10-18 05:26:40] Summarizing for Run : 161117_SILAC_HeLa_UPS1_TMT10_Mixture5_01raw ( 10  of  15 )
  |                                                                            
  |                                                                      |   0%
  |                                                                            
  |=======                                                               |  10%
  |                                                                            
  |==============                                                        |  20%
  |                                                                            
  |=====================                                                 |  30%
  |                                                                            
  |============================                                          |  40%
  |                                                                            
  |===================================                                   |  50%
  |                                                                            
  |==========================================                            |  60%
  |                                                                            
  |=================================================                     |  70%
  |                                                                            
  |========================================================              |  80%
  |                                                                            
  |===============================================================       |  90%
  |                                                                            
  |======================================================================| 100%
INFO  [2024-10-18 05:26:40] Summarizing for Run : 161117_SILAC_HeLa_UPS1_TMT10_Mixture5_02raw ( 11  of  15 )
  |                                                                            
  |                                                                      |   0%
  |                                                                            
  |=======                                                               |  10%
  |                                                                            
  |==============                                                        |  20%
  |                                                                            
  |=====================                                                 |  30%
  |                                                                            
  |============================                                          |  40%
  |                                                                            
  |===================================                                   |  50%
  |                                                                            
  |==========================================                            |  60%
  |                                                                            
  |=================================================                     |  70%
  |                                                                            
  |========================================================              |  80%
  |                                                                            
  |===============================================================       |  90%
  |                                                                            
  |======================================================================| 100%
INFO  [2024-10-18 05:26:41] Summarizing for Run : 161117_SILAC_HeLa_UPS1_TMT10_Mixture4_03raw ( 12  of  15 )
  |                                                                            
  |                                                                      |   0%
  |                                                                            
  |=======                                                               |  10%
  |                                                                            
  |==============                                                        |  20%
  |                                                                            
  |=====================                                                 |  30%
  |                                                                            
  |============================                                          |  40%
  |                                                                            
  |===================================                                   |  50%
  |                                                                            
  |==========================================                            |  60%
  |                                                                            
  |=================================================                     |  70%
  |                                                                            
  |========================================================              |  80%
  |                                                                            
  |===============================================================       |  90%
  |                                                                            
  |======================================================================| 100%
INFO  [2024-10-18 05:26:41] Summarizing for Run : 161117_SILAC_HeLa_UPS1_TMT10_Mixture5_03raw ( 13  of  15 )
  |                                                                            
  |                                                                      |   0%
  |                                                                            
  |=======                                                               |  10%
  |                                                                            
  |==============                                                        |  20%
  |                                                                            
  |=====================                                                 |  30%
  |                                                                            
  |============================                                          |  40%
  |                                                                            
  |===================================                                   |  50%
  |                                                                            
  |==========================================                            |  60%
  |                                                                            
  |=================================================                     |  70%
  |                                                                            
  |========================================================              |  80%
  |                                                                            
  |===============================================================       |  90%
  |                                                                            
  |======================================================================| 100%
INFO  [2024-10-18 05:26:41] Summarizing for Run : 161117_SILAC_HeLa_UPS1_TMT10_Mixture1_03raw ( 14  of  15 )
  |                                                                            
  |                                                                      |   0%
  |                                                                            
  |=======                                                               |  10%
  |                                                                            
  |==============                                                        |  20%
  |                                                                            
  |=====================                                                 |  30%
  |                                                                            
  |============================                                          |  40%
  |                                                                            
  |===================================                                   |  50%
  |                                                                            
  |==========================================                            |  60%
  |                                                                            
  |=================================================                     |  70%
  |                                                                            
  |========================================================              |  80%
  |                                                                            
  |===============================================================       |  90%
  |                                                                            
  |======================================================================| 100%
INFO  [2024-10-18 05:26:41] Summarizing for Run : 161117_SILAC_HeLa_UPS1_TMT10_Mixture3_03raw ( 15  of  15 )
  |                                                                            
  |                                                                      |   0%
  |                                                                            
  |=======                                                               |  10%
  |                                                                            
  |==============                                                        |  20%
  |                                                                            
  |=====================                                                 |  30%
  |                                                                            
  |============================                                          |  40%
  |                                                                            
  |===================================                                   |  50%
  |                                                                            
  |==========================================                            |  60%
  |                                                                            
  |=================================================                     |  70%
  |                                                                            
  |========================================================              |  80%
  |                                                                            
  |===============================================================       |  90%
  |                                                                            
  |======================================================================| 100%
INFO  [2024-10-18 05:26:42] ** Protein-level summarization done by MSstats.
INFO  [2024-10-18 05:26:42] ** MSstatsTMT - proteinSummarization function
INFO  [2024-10-18 05:26:42] ** MSstatsTMT - proteinSummarization function
INFO  [2024-10-18 05:26:42] ** MSstatsTMT - proteinSummarization function
INFO  [2024-10-18 05:26:42] ** MSstatsTMT - proteinSummarization function
INFO  [2024-10-18 05:26:42] ** MSstatsTMT - proteinSummarization function
INFO  [2024-10-18 05:26:42] ** MSstatsTMT - proteinSummarization function
INFO  [2024-10-18 05:26:42] ** MSstatsTMT - proteinSummarization function
INFO  [2024-10-18 05:26:42] ** MSstatsTMT - proteinSummarization function
INFO  [2024-10-18 05:26:42] ** MSstatsTMT - proteinSummarization function
INFO  [2024-10-18 05:26:42] ** MSstatsTMT - proteinSummarization function
INFO  [2024-10-18 05:26:42] ** MSstatsTMT - proteinSummarization function
INFO  [2024-10-18 05:26:42] ** MSstatsTMT - proteinSummarization function
INFO  [2024-10-18 05:26:42] ** MSstatsTMT - proteinSummarization function
INFO  [2024-10-18 05:26:42] ** MSstatsTMT - proteinSummarization function
INFO  [2024-10-18 05:26:42] ** MSstatsTMT - proteinSummarization function
INFO  [2024-10-18 05:26:42] Summarizing for Run : 161117_SILAC_HeLa_UPS1_TMT10_Mixture1_01raw ( 1  of  15 )
[ FAIL 0 | WARN 0 | SKIP 0 | PASS 27 ]
> 
> proc.time()
   user  system elapsed 
 13.201   1.216  11.707 
MSstatsTMT.Rcheck/MSstatsTMT-Ex.timings
| name | user | system | elapsed | |
| MaxQtoMSstatsTMTFormat | 0.805 | 0.108 | 0.675 | |
| OpenMStoMSstatsTMTFormat | 0.358 | 0.033 | 0.234 | |
| PDtoMSstatsTMTFormat | 2.808 | 0.168 | 2.242 | |
| SpectroMinetoMSstatsTMTFormat | 0.533 | 0.035 | 0.323 | |
| annotation.mine | 0.002 | 0.001 | 0.002 | |
| annotation.mq | 0.002 | 0.000 | 0.002 | |
| annotation.pd | 0.005 | 0.001 | 0.003 | |
| dataProcessPlotsTMT | 34.566 | 1.042 | 32.734 | |
| designSampleSizeTMT | 8.426 | 0.507 | 5.830 | |
| evidence | 0.022 | 0.005 | 0.027 | |
| groupComparisonTMT | 7.408 | 0.459 | 7.121 | |
| input.pd | 0.038 | 0.005 | 0.045 | |
| proteinGroups | 0.135 | 0.052 | 0.191 | |
| proteinSummarization | 4.380 | 0.374 | 4.785 | |
| quant.pd.msstats | 0.033 | 0.006 | 0.038 | |
| raw.mine | 0.005 | 0.001 | 0.006 | |
| raw.om | 0.003 | 0.001 | 0.004 | |
| raw.pd | 0.013 | 0.003 | 0.015 | |
| test.pairwise | 0.003 | 0.000 | 0.004 | |