| Back to Multiple platform build/check report for BioC 3.19: simplified long | 
 | 
This page was generated on 2024-06-28 17:41 -0400 (Fri, 28 Jun 2024).
| Hostname | OS | Arch (*) | R version | Installed pkgs | 
|---|---|---|---|---|
| nebbiolo1 | Linux (Ubuntu 22.04.3 LTS) | x86_64 | 4.4.0 (2024-04-24) -- "Puppy Cup" | 4760 | 
| palomino3 | Windows Server 2022 Datacenter | x64 | 4.4.0 (2024-04-24 ucrt) -- "Puppy Cup" | 4494 | 
| merida1 | macOS 12.7.4 Monterey | x86_64 | 4.4.0 (2024-04-24) -- "Puppy Cup" | 4508 | 
| kjohnson1 | macOS 13.6.6 Ventura | arm64 | 4.4.0 (2024-04-24) -- "Puppy Cup" | 4466 | 
| palomino7 | Windows Server 2022 Datacenter | x64 | 4.4.1 (2024-06-14 ucrt) -- "Race for Your Life" | 4362 | 
| Click on any hostname to see more info about the system (e.g. compilers) (*) as reported by 'uname -p', except on Windows and Mac OS X | ||||
| Package 1354/2300 | Hostname | OS / Arch | INSTALL | BUILD | CHECK | BUILD BIN | ||||||||
| MSnbase 2.30.1  (landing page) Laurent Gatto 
 | nebbiolo1 | Linux (Ubuntu 22.04.3 LTS) / x86_64 | OK | OK | OK |  | ||||||||
| palomino3 | Windows Server 2022 Datacenter / x64 | OK | OK | OK | OK |  | ||||||||
| merida1 | macOS 12.7.4 Monterey / x86_64 | OK | OK | OK | OK |  | ||||||||
| kjohnson1 | macOS 13.6.6 Ventura / arm64 | OK | OK | OK | OK |  | ||||||||
| palomino7 | Windows Server 2022 Datacenter / x64 | OK | ERROR | skipped | skipped | |||||||||
| To the developers/maintainers of the MSnbase package: - Allow up to 24 hours (and sometimes 48 hours) for your latest push to git@git.bioconductor.org:packages/MSnbase.git to reflect on this report. See Troubleshooting Build Report for more information. - Use the following Renviron settings to reproduce errors and warnings. - If 'R CMD check' started to fail recently on the Linux builder(s) over a missing dependency, add the missing dependency to 'Suggests:' in your DESCRIPTION file. See Renviron.bioc for more information. | 
| Package: MSnbase | 
| Version: 2.30.1 | 
| Command: F:\biocbuild\bbs-3.19-bioc\R\bin\R.exe CMD check --no-multiarch --install=check:MSnbase.install-out.txt --library=F:\biocbuild\bbs-3.19-bioc\R\library --no-vignettes --timings MSnbase_2.30.1.tar.gz | 
| StartedAt: 2024-06-27 03:56:58 -0400 (Thu, 27 Jun 2024) | 
| EndedAt: 2024-06-27 04:27:52 -0400 (Thu, 27 Jun 2024) | 
| EllapsedTime: 1853.8 seconds | 
| RetCode: 0 | 
| Status: OK | 
| CheckDir: MSnbase.Rcheck | 
| Warnings: 0 | 
##############################################################################
##############################################################################
###
### Running command:
###
###   F:\biocbuild\bbs-3.19-bioc\R\bin\R.exe CMD check --no-multiarch --install=check:MSnbase.install-out.txt --library=F:\biocbuild\bbs-3.19-bioc\R\library --no-vignettes --timings MSnbase_2.30.1.tar.gz
###
##############################################################################
##############################################################################
* using log directory 'F:/biocbuild/bbs-3.19-bioc/meat/MSnbase.Rcheck'
* using R version 4.4.0 (2024-04-24 ucrt)
* using platform: x86_64-w64-mingw32
* R was compiled by
    gcc.exe (GCC) 13.2.0
    GNU Fortran (GCC) 13.2.0
* running under: Windows Server 2022 x64 (build 20348)
* using session charset: UTF-8
* using option '--no-vignettes'
* checking for file 'MSnbase/DESCRIPTION' ... OK
* this is package 'MSnbase' version '2.30.1'
* package encoding: UTF-8
* checking package namespace information ... OK
* checking package dependencies ... OK
* checking if this is a source package ... OK
* checking if there is a namespace ... OK
* checking for hidden files and directories ... OK
* checking for portable file names ... OK
* checking whether package 'MSnbase' can be installed ... OK
* used C compiler: 'gcc.exe (GCC) 13.2.0'
* used C++ compiler: 'G__~1.EXE (GCC) 13.2.0'
* checking installed package size ... NOTE
  installed size is  6.4Mb
  sub-directories of 1Mb or more:
    R      2.4Mb
    data   1.7Mb
* checking package directory ... OK
* checking 'build' directory ... OK
* checking DESCRIPTION meta-information ... NOTE
Authors@R field gives more than one person with maintainer role:
  Laurent Gatto <laurent.gatto@uclouvain.be> [aut, cre] (<https://orcid.org/0000-0002-1520-2268>)
  Johannes Rainer <Johannes.Rainer@eurac.edu> [aut, cre] (<https://orcid.org/0000-0002-6977-7147>)
  Sebastian Gibb <mail@sebastiangibb.de> [aut, cre] (<https://orcid.org/0000-0001-7406-4443>)
* checking top-level files ... OK
* checking for left-over files ... OK
* checking index information ... OK
* checking package subdirectories ... OK
* checking code files for non-ASCII characters ... OK
* checking R files for syntax errors ... OK
* checking whether the package can be loaded ... OK
* checking whether the package can be loaded with stated dependencies ... OK
* checking whether the package can be unloaded cleanly ... OK
* checking whether the namespace can be loaded with stated dependencies ... OK
* checking whether the namespace can be unloaded cleanly ... OK
* checking whether startup messages can be suppressed ... OK
* checking dependencies in R code ... NOTE
':::' calls which should be '::':
  'S4Vectors:::makeClassinfoRowForCompactPrinting'
  'S4Vectors:::makePrettyMatrixForCompactPrinting'
  See the note in ?`:::` about the use of this operator.
Unexported objects imported by ':::' calls:
  'Biobase:::.showAnnotatedDataFrame' 'MALDIquant:::.estimateNoise'
  'MALDIquant:::.localMaxima' 'MALDIquant:::.movingAverage'
  'MALDIquant:::.savitzkyGolay' 'mzR:::.hasChromatograms'
  'mzR:::.hasSpectra'
  See the note in ?`:::` about the use of this operator.
* checking S3 generic/method consistency ... OK
* checking replacement functions ... OK
* checking foreign function calls ... OK
* checking R code for possible problems ... OK
* checking Rd files ... OK
* checking Rd metadata ... OK
* checking Rd cross-references ... OK
* checking for missing documentation entries ... OK
* checking for code/documentation mismatches ... OK
* checking Rd \usage sections ... OK
* checking Rd contents ... OK
* checking for unstated dependencies in examples ... OK
* checking contents of 'data' directory ... OK
* checking data for non-ASCII characters ... OK
* checking LazyData ... OK
* checking data for ASCII and uncompressed saves ... OK
* checking line endings in C/C++/Fortran sources/headers ... OK
* checking compiled code ... NOTE
Note: information on .o files for x64 is not available
File 'F:/biocbuild/bbs-3.19-bioc/R/library/MSnbase/libs/x64/MSnbase.dll':
  Found '_exit', possibly from '_exit' (C)
  Found 'abort', possibly from 'abort' (C), 'runtime' (Fortran)
  Found 'exit', possibly from 'exit' (C), 'stop' (Fortran)
Compiled code should not call entry points which might terminate R nor
write to stdout/stderr instead of to the console, nor use Fortran I/O
nor system RNGs nor [v]sprintf. The detected symbols are linked into
the code but might come from libraries and not actually be called.
See 'Writing portable packages' in the 'Writing R Extensions' manual.
* checking files in 'vignettes' ... OK
* checking examples ... OK
Examples with CPU (user + system) or elapsed time > 5s
                            user system elapsed
chromatogram-MSnExp-method 13.05   0.34   13.48
OnDiskMSnExp-class          9.32   0.33    9.91
averageMSnSet               7.08   0.96    9.67
estimateMzResolution        7.18   0.44    7.69
MSnSet-class                5.63   0.28    5.94
combineSpectra              5.22   0.05    5.27
aggvar                      5.07   0.14    5.24
plot-methods                4.90   0.20    5.12
* checking for unstated dependencies in 'tests' ... OK
* checking tests ...
  Running 'testthat.R'
 OK
* checking for unstated dependencies in vignettes ... OK
* checking package vignettes ... OK
* checking running R code from vignettes ... SKIPPED
* checking re-building of vignette outputs ... SKIPPED
* checking PDF version of manual ... OK
* DONE
Status: 4 NOTEs
See
  'F:/biocbuild/bbs-3.19-bioc/meat/MSnbase.Rcheck/00check.log'
for details.
MSnbase.Rcheck/00install.out
##############################################################################
##############################################################################
###
### Running command:
###
###   F:\biocbuild\bbs-3.19-bioc\R\bin\R.exe CMD INSTALL MSnbase
###
##############################################################################
##############################################################################
* installing to library 'F:/biocbuild/bbs-3.19-bioc/R/library'
* installing *source* package 'MSnbase' ...
** using staged installation
** libs
using C compiler: 'gcc.exe (GCC) 13.2.0'
using C++ compiler: 'G__~1.EXE (GCC) 13.2.0'
g++ -std=gnu++17  -I"F:/biocbuild/bbs-3.19-bioc/R/include" -DNDEBUG  -I'F:/biocbuild/bbs-3.19-bioc/R/library/Rcpp/include'   -I"C:/rtools44/x86_64-w64-mingw32.static.posix/include"     -O2 -Wall  -mfpmath=sse -msse2 -mstackrealign  -c RcppExports.cpp -o RcppExports.o
gcc  -I"F:/biocbuild/bbs-3.19-bioc/R/include" -DNDEBUG  -I'F:/biocbuild/bbs-3.19-bioc/R/library/Rcpp/include'   -I"C:/rtools44/x86_64-w64-mingw32.static.posix/include"     -O2 -Wall  -mfpmath=sse -msse2 -mstackrealign  -c Spectrum1_class.c -o Spectrum1_class.o
Spectrum1_class.c:8:13: warning: '_new_Spectrum1' defined but not used [-Wunused-function]
    8 | static SEXP _new_Spectrum1(SEXP msLevel, SEXP peaksCount, SEXP rt,
      |             ^~~~~~~~~~~~~~
gcc  -I"F:/biocbuild/bbs-3.19-bioc/R/include" -DNDEBUG  -I'F:/biocbuild/bbs-3.19-bioc/R/library/Rcpp/include'   -I"C:/rtools44/x86_64-w64-mingw32.static.posix/include"     -O2 -Wall  -mfpmath=sse -msse2 -mstackrealign  -c Spectrum2_class.c -o Spectrum2_class.o
Spectrum2_class.c:9:13: warning: '_new_Spectrum2' defined but not used [-Wunused-function]
    9 | static SEXP _new_Spectrum2(SEXP msLevel, SEXP peaksCount, SEXP rt,
      |             ^~~~~~~~~~~~~~
g++ -std=gnu++17  -I"F:/biocbuild/bbs-3.19-bioc/R/include" -DNDEBUG  -I'F:/biocbuild/bbs-3.19-bioc/R/library/Rcpp/include'   -I"C:/rtools44/x86_64-w64-mingw32.static.posix/include"     -O2 -Wall  -mfpmath=sse -msse2 -mstackrealign  -c imp_neighbour_avg.cpp -o imp_neighbour_avg.o
gcc  -I"F:/biocbuild/bbs-3.19-bioc/R/include" -DNDEBUG  -I'F:/biocbuild/bbs-3.19-bioc/R/library/Rcpp/include'   -I"C:/rtools44/x86_64-w64-mingw32.static.posix/include"     -O2 -Wall  -mfpmath=sse -msse2 -mstackrealign  -c utils.c -o utils.o
utils.c: In function 'compar_double_dd_for_stable_asc_order':
utils.c:92:15: warning: unused variable 'ret' [-Wunused-variable]
   92 |   int i1, i2, ret;
      |               ^~~
utils.c: In function 'compar_double_dd_for_stable_desc_order':
utils.c:107:15: warning: unused variable 'ret' [-Wunused-variable]
  107 |   int i1, i2, ret;
      |               ^~~
utils.c: In function 'compar_double_asc_order':
utils.c:123:18: warning: unused variable 'ret' [-Wunused-variable]
  123 |   double d1, d2, ret;
      |                  ^~~
utils.c: In function 'compar_double_desc_order':
utils.c:133:18: warning: unused variable 'ret' [-Wunused-variable]
  133 |   double d1, d2, ret;
      |                  ^~~
utils.c: At top level:
utils.c:131:12: warning: 'compar_double_desc_order' defined but not used [-Wunused-function]
  131 | static int compar_double_desc_order(const void *p1, const void *p2)
      |            ^~~~~~~~~~~~~~~~~~~~~~~~
utils.c:121:12: warning: 'compar_double_asc_order' defined but not used [-Wunused-function]
  121 | static int compar_double_asc_order(const void *p1, const void *p2)
      |            ^~~~~~~~~~~~~~~~~~~~~~~
g++ -std=gnu++17 -shared -s -static-libgcc -o MSnbase.dll tmp.def RcppExports.o Spectrum1_class.o Spectrum2_class.o imp_neighbour_avg.o utils.o -LC:/rtools44/x86_64-w64-mingw32.static.posix/lib/x64 -LC:/rtools44/x86_64-w64-mingw32.static.posix/lib -LF:/biocbuild/bbs-3.19-bioc/R/bin/x64 -lR
installing to F:/biocbuild/bbs-3.19-bioc/R/library/00LOCK-MSnbase/00new/MSnbase/libs/x64
** R
** data
*** moving datasets to lazyload DB
Creating a new generic function for 'trimws' in package 'MSnbase'
in method for 'coerce' with signature '"IBSpectra","MSnSet"': no definition for class "IBSpectra"
in method for 'plotMzDelta' with signature '"mzRramp"': no definition for class "mzRramp"
** inst
** byte-compile and prepare package for lazy loading
Creating a new generic function for 'trimws' in package 'MSnbase'
in method for 'coerce' with signature '"IBSpectra","MSnSet"': no definition for class "IBSpectra"
in method for 'plotMzDelta' with signature '"mzRramp"': no definition for class "mzRramp"
** help
*** installing help indices
** building package indices
** installing vignettes
** testing if installed package can be loaded from temporary location
** testing if installed package can be loaded from final location
** testing if installed package keeps a record of temporary installation path
* DONE (MSnbase)
MSnbase.Rcheck/tests/testthat.Rout
R version 4.4.0 (2024-04-24 ucrt) -- "Puppy Cup"
Copyright (C) 2024 The R Foundation for Statistical Computing
Platform: x86_64-w64-mingw32/x64
R is free software and comes with ABSOLUTELY NO WARRANTY.
You are welcome to redistribute it under certain conditions.
Type 'license()' or 'licence()' for distribution details.
R is a collaborative project with many contributors.
Type 'contributors()' for more information and
'citation()' on how to cite R or R packages in publications.
Type 'demo()' for some demos, 'help()' for on-line help, or
'help.start()' for an HTML browser interface to help.
Type 'q()' to quit R.
> # setting R_TESTS to empty string because of
> # https://github.com/hadley/testthat/issues/144
> # revert this when that issue in R is fixed.
> Sys.setenv("R_TESTS" = "")
> library("testthat")
> library("MSnbase")
Loading required package: BiocGenerics
Attaching package: 'BiocGenerics'
The following objects are masked from 'package:stats':
    IQR, mad, sd, var, xtabs
The following objects are masked from 'package:base':
    Filter, Find, Map, Position, Reduce, anyDuplicated, aperm, append,
    as.data.frame, basename, cbind, colnames, dirname, do.call,
    duplicated, eval, evalq, get, grep, grepl, intersect, is.unsorted,
    lapply, mapply, match, mget, order, paste, pmax, pmax.int, pmin,
    pmin.int, rank, rbind, rownames, sapply, setdiff, table, tapply,
    union, unique, unsplit, which.max, which.min
Loading required package: Biobase
Welcome to Bioconductor
    Vignettes contain introductory material; view with
    'browseVignettes()'. To cite Bioconductor, see
    'citation("Biobase")', and for packages 'citation("pkgname")'.
Loading required package: mzR
Loading required package: Rcpp
Loading required package: S4Vectors
Loading required package: stats4
Attaching package: 'S4Vectors'
The following object is masked from 'package:utils':
    findMatches
The following objects are masked from 'package:base':
    I, expand.grid, unname
Loading required package: ProtGenerics
Attaching package: 'ProtGenerics'
The following object is masked from 'package:stats':
    smooth
This is MSnbase version 2.30.1 
  Visit https://lgatto.github.io/MSnbase/ to get started.
 Consider switching to the 'R for Mass Spectrometry'
 packages - see https://RforMassSpectrometry.org for details.
Attaching package: 'MSnbase'
The following object is masked from 'package:base':
    trimws
> setMSnbaseVerbose(FALSE)
> ## register(SerialParam()) ## see issue 205
> 
> ## Erwinia
> f <- msdata::proteomics(full.names = TRUE,
+                         pattern = "TMT_Erwinia_1uLSike_Top10HCD_isol2_45stepped_60min_01.mzML.gz")
> tmt_erwinia_in_mem_ms1 <- readMSData(f, msLevel = 1)
> tmt_erwinia_in_mem_ms2 <- readMSData(f, msLevel = 2)
> tmt_erwinia_on_disk <- readMSData(f, mode = "onDisk")
> tmt_erwinia_on_disk_ms1 <- readMSData(f, msLevel = 1, mode = "onDisk")
> tmt_erwinia_on_disk_ms2 <- readMSData(f, msLevel = 2, mode = "onDisk")
> ## subset by rt
> tmt_im_ms1_sub <- filterRt(tmt_erwinia_in_mem_ms1, c(1200, 1250))
> tmt_im_ms2_sub <- filterRt(tmt_erwinia_in_mem_ms2, c(1200, 1250))
> tmt_od_sub <- filterRt(tmt_erwinia_on_disk, c(1200, 1250))
> tmt_od_ms1_sub <- filterRt(tmt_erwinia_on_disk_ms1, c(1200, 1250))
> tmt_od_ms2_sub <- filterRt(tmt_erwinia_on_disk_ms2, c(1200, 1250))
> 
> ## microtofq
> f <- c(system.file("microtofq/MM14.mzML", package = "msdata"),
+        system.file("microtofq/MM8.mzML", package = "msdata"))
> microtofq_in_mem_ms1 <- readMSData(f, msLevel = 1)
> microtofq_on_disk_ms1 <- readMSData(f, msLevel = 1, mode = "onDisk")
> microtofq_on_disk <- readMSData(f, mode = "onDisk")
> 
> ## extdata mzML
> f <- dir(system.file(package = "MSnbase", dir = "extdata"),
+          full.name = TRUE, pattern = "mzXML$")
> extdata_mzXML_in_mem_ms2 <- readMSData(f, verbose = FALSE, centroided. = FALSE)
> extdata_mzXML_on_disk <- readMSData(f, centroided. = FALSE, mode = "onDisk")
> extdata_mzXML_on_disk_ms2 <- readMSData(f, msLevel = 2, centroided. = FALSE, mode = "onDisk")
> 
> sf <- dir(system.file("sciex", package = "msdata"), full.names = TRUE)
> sciex <- readMSData(sf, mode = "onDisk")
> 
> test_check("MSnbase")
Experiment data
  Experimenter name: Laurent Gatto 
  Laboratory: Cambridge Centre for Proteomics (CCP) 
  Contact information: Laurent Gatto 
  Contact email: lg390@cam.ac.uk 
  Title: Example 'MSnExp' data set 
  URL:  
  PMIDs:  
  No abstract available.
Instrument : 
  Model: test (1) 
  Manufacturer:  
  Customisations:  
  Use 'msInfo(object)' for more MIAPE-MS information.
Experiment data
  Experimenter name: Laurent Gatto 
  Laboratory: Cambridge Centre for Proteomics (CCP) 
  Contact information: Laurent Gatto 
  Contact email: lg390@cam.ac.uk 
  Title: Example 'MSnExp' data set 
  URL:  
  PMIDs:  
  No abstract available.
  notes:
   Note1:
First note
MIAPE-MS information:
 1. General features:
  Date stamp:  
  Contact: Laurent Gatto 
  Name: Laurent Gatto 
  Laboratory: Cambridge Centre for Proteomics (CCP) 
  Instument model: test 
  Manufacturer:  
  Customisations:  
  Software:  
  Version:  
  Switching:  
  Param file:  
 2. Ion source
  Source:  
  Source details:  
 3. Post-source componentry
  Analyzer:  
  Analyzer details:  
  Collision gas:  
  Pressure:   bars
  Energy:  
  Detector type:  
  Sensitivity:  
Object of class "MSmap"
 Map [75, 401]
  [1]  Retention time: 30:01 - 34:58 
  [2]  M/Z: 521 - 523 (res 0.005)
Object of class "MSmap"
 Map [401, 75]
  [1]  M/Z: 521 - 523 (res 0.005)
  [2]  Retention time: 30:01 - 34:58 
Object of class "MzTab".
 Description: mzTab example file for reporting a summary report of
 quantification data quantified on the protein level
 Mode: Complete 
 Type: Quantification 
 Available data: Proteins  PSMs  
Object of class "MzTab".
 Description:
 Mode: 
 Type: 
 Available data: SmallMolecules  
Object of class "MzTab".
 Description:
 Mode: 
 Type: 
 Available data: SmallMolecules  
Instance of class 'MSnSetList' containig 3 objects.
MSn experiment data ("OnDiskMSnExp")
Object size in memory: 0.26 Mb
- - - Spectra data - - -
 MS level(s): 1 2 
 Number of spectra: 509 
 MSn retention times: 18:28 - 22:03 minutes
- - - Processing information - - -
Data loaded [Thu Jun 27 04:05:35 2024] 
 MSnbase version: 2.30.1 
- - - Meta data  - - -
phenoData
  rowNames:
    TMT_Erwinia_1uLSike_Top10HCD_isol2_45stepped_60min_01.mzML.gz
  varLabels: sampleNames
  varMetadata: labelDescription
Loaded from:
  TMT_Erwinia_1uLSike_Top10HCD_isol2_45stepped_60min_01.mzML.gz 
protocolData: none
featureData
  featureNames: F1.S001 F1.S002 ... F1.S509 (509 total)
  fvarLabels: fileIdx spIdx ... spectrum (35 total)
  fvarMetadata: labelDescription
experimentData: use 'experimentData(object)'
Object of class "ReporterIons"
TMT10HCD: '10-plex TMT HCD' with 10 reporter ions
 - [126] 126.1277 +/- 0.002 (#8DD3C7)
 - [127N] 127.1248 +/- 0.002 (#FFFFB3)
 - [127C] 127.1311 +/- 0.002 (#BEBADA)
 - [128N] 128.1281 +/- 0.002 (#FB8072)
 - [128C] 128.1344 +/- 0.002 (#80B1D3)
 - [129N] 129.1315 +/- 0.002 (#FDB462)
 - [129C] 129.1378 +/- 0.002 (#B3DE69)
 - [130N] 130.1348 +/- 0.002 (#FCCDE5)
 - [130C] 130.1411 +/- 0.002 (#D9D9D9)
 - [131] 131.1382 +/- 0.002 (#BC80BD)
Object of class "Spectrum1"
 Retention time: 0:00 
 MSn level: 1 
 Total ion count: 684 
 Polarity: 1 
MSn experiment data ("MSnExp")
Object size in memory: 0.18 Mb
- - - Spectra data - - -
 MS level(s): 2 
 Number of spectra: 5 
 MSn retention times: 25:01 - 25:02 minutes
- - - Processing information - - -
Data loaded: Thu Jun 27 04:19:40 2024 
 MSnbase version: 2.30.1 
- - - Meta data  - - -
phenoData
  rowNames: dummyiTRAQ.mzXML
  varLabels: sampleNames
  varMetadata: labelDescription
Loaded from:
  dummyiTRAQ.mzXML 
protocolData: none
featureData
  featureNames: F1.S1 F1.S2 ... F1.S5 (5 total)
  fvarLabels: spectrum
  fvarMetadata: labelDescription
experimentData: use 'experimentData(object)'
MSn experiment data ("MSnExp")
Object size in memory: 0.2 Mb
- - - Spectra data - - -
 MS level(s): 2 
 Number of spectra: 5 
 MSn retention times: 25:01 - 25:02 minutes
- - - Processing information - - -
Data loaded: Thu Jun 27 04:19:41 2024 
 MSnbase version: 2.30.1 
- - - Meta data  - - -
phenoData
  rowNames: dummyiTRAQ.mzXML
  varLabels: sampleNames
  varMetadata: labelDescription
Loaded from:
  dummyiTRAQ.mzXML 
protocolData: none
featureData
  featureNames: F1.S1 F1.S2 ... F1.S5 (5 total)
  fvarLabels: spectrum
  fvarMetadata: labelDescription
experimentData: use 'experimentData(object)'
Object of class "FeaturesOfInterest"
 Created on Thu Jun 27 04:20:04 2024 
 Description:
  small foi
 3 features of interest:
   P20353, P53501, Q7KU78
Traceable object of class "FeaturesOfInterest"
 Created on Thu Jun 27 04:20:04 2024 
 Description:
  my description
 10 features of interest:
   P20353, P53501  ...  Q9VCK0, Q9VIU7
A collection of 1 features of interest.
A collection of 10 features of interest.
MSpectra with 3 spectra and 1 metadata column(s):
  msLevel   rtime peaksCount | id
1       2      NA          3 |  1
2       2 1.23245          4 |  2
3       1 1.23245          5 |  3
MSpectra with 3 spectra and 1 metadata column(s):
    msLevel     rtime peaksCount |        id
  <integer> <numeric>  <integer> | <integer>
1         2        NA          3 |         1
2         2   1.23245          4 |         2
3         1   1.23245          5 |         3
MSpectra with 3 spectra and 1 metadata column(s):
      msLevel     rtime peaksCount |        id
    <integer> <numeric>  <integer> | <integer>
  1         2        NA          3 |         1
  2         2   1.23245          4 |         2
  3         1   1.23245          5 |         3
reading dummyiTRAQ.mzid... DONE!
[ FAIL 0 | WARN 1092 | SKIP 12 | PASS 2366 ]
══ Skipped tests (12) ══════════════════════════════════════════════════════════
• empty test (12): 'test_MzTab.R:108:1', 'test_MzTab.R:123:1',
  'test_OnDiskMSnExp2.R:132:1', 'test_fdata-selection.R:71:1',
  'test_functions-Chromatogram.R:39:1', 'test_functions-MSpectra.R:72:1',
  'test_functions-plotting.R:1:1', 'test_io.R:3:1',
  'test_methods-MChromatograms.R:155:1', 'test_readMSData2.R:51:1',
  'test_readMSData2.R:63:1', 'test_readMSData2.R:80:1'
[ FAIL 0 | WARN 1092 | SKIP 12 | PASS 2366 ]
Warning message:
In for (i in seq_along(snames)) { :
  closing unused connection 4 (F:\biocbuild\bbs-3.19-bioc\tmpdir\Rtmp6rvBUC\filef07410105c9a)
> 
> proc.time()
   user  system elapsed 
 564.59   49.92 1344.23 
MSnbase.Rcheck/MSnbase-Ex.timings
| name | user | system | elapsed | |
| Chromatogram-class | 0.13 | 0.00 | 0.12 | |
| FeatComp-class | 0.38 | 0.05 | 0.62 | |
| FeaturesOfInterest-class | 0.08 | 0.01 | 0.09 | |
| MChromatograms-class | 0.24 | 0.00 | 0.24 | |
| MSmap-class | 0 | 0 | 0 | |
| MSnExp-class | 1.07 | 0.07 | 1.14 | |
| MSnProcess-class | 0 | 0 | 0 | |
| MSnSet-class | 5.63 | 0.28 | 5.94 | |
| MSnSetList-class | 2.00 | 0.22 | 2.22 | |
| MSpectra | 0.10 | 0.01 | 0.16 | |
| MzTab-class | 0.47 | 0.05 | 1.95 | |
| OnDiskMSnExp-class | 9.32 | 0.33 | 9.91 | |
| ProcessingStep-class | 0.01 | 0.00 | 0.01 | |
| ReporterIons-class | 0.02 | 0.00 | 0.02 | |
| TMT6 | 0 | 0 | 0 | |
| addIdentificationData-methods | 1.15 | 0.01 | 1.15 | |
| aggvar | 5.07 | 0.14 | 5.24 | |
| averageMSnSet | 7.08 | 0.96 | 9.67 | |
| bin-methods | 0.35 | 0.03 | 0.41 | |
| calculateFragments-methods | 1.33 | 0.03 | 1.36 | |
| chromatogram-MSnExp-method | 13.05 | 0.34 | 13.48 | |
| clean-methods | 0.17 | 0.00 | 0.17 | |
| combineFeatures | 1.31 | 0.03 | 1.34 | |
| combineSpectra | 5.22 | 0.05 | 5.27 | |
| combineSpectraMovingWindow | 3.24 | 0.04 | 3.28 | |
| commonFeatureNames | 0.32 | 0.02 | 0.33 | |
| compareSpectra-methods | 0.18 | 0.03 | 0.22 | |
| consensusSpectrum | 0.03 | 0.00 | 0.03 | |
| estimateMzResolution | 7.18 | 0.44 | 7.69 | |
| estimateMzScattering | 1.84 | 0.01 | 1.86 | |
| estimateNoise-method | 0.02 | 0.00 | 0.01 | |
| extractPrecSpectra-methods | 1.39 | 0.00 | 1.40 | |
| extractSpectraData | 2.31 | 0.19 | 4.46 | |
| fData-utils | 0.33 | 0.00 | 0.35 | |
| factorsAsStrings | 0.00 | 0.02 | 0.01 | |
| featureCV | 0.03 | 0.00 | 0.03 | |
| fillUp | 0 | 0 | 0 | |
| formatRt | 0 | 0 | 0 | |
| getVariableName | 0.02 | 0.00 | 0.02 | |
| hasSpectraOrChromatograms | 0.31 | 0.12 | 1.70 | |
| iPQF | 0.25 | 0.00 | 0.25 | |
| iTRAQ4 | 0.02 | 0.00 | 0.01 | |
| imageNA2 | 3.51 | 0.38 | 3.90 | |
| impute | 1.10 | 0.09 | 1.18 | |
| isCentroidedFromFile | 2.68 | 0.30 | 2.99 | |
| itraqdata | 0.05 | 0.01 | 0.06 | |
| listOf | 0 | 0 | 0 | |
| makeCamelCase | 0 | 0 | 0 | |
| makeNaData | 0.52 | 0.03 | 0.55 | |
| meanMzInts | 0.03 | 0.02 | 0.04 | |
| missing-data | 2.81 | 0.50 | 3.32 | |
| mzRident2dfr | 0.05 | 0.00 | 0.04 | |
| nFeatures | 0.61 | 0.05 | 0.64 | |
| nQuants | 0.11 | 0.00 | 0.11 | |
| naplot | 0.09 | 0.00 | 0.10 | |
| navMS | 3.22 | 0.03 | 3.29 | |
| normToReference | 0.23 | 0.00 | 0.24 | |
| normalise-methods | 0.02 | 0.01 | 0.03 | |
| npcv | 0 | 0 | 0 | |
| pSet-class | 0.01 | 0.00 | 0.01 | |
| pickPeaks-method | 0.32 | 0.07 | 0.38 | |
| plot-methods | 4.90 | 0.20 | 5.12 | |
| plot2d-methods | 0.52 | 0.03 | 0.55 | |
| plotDensity-methods | 0.83 | 0.05 | 0.88 | |
| plotMzDelta-methods | 0.89 | 0.01 | 0.90 | |
| plotNA-methods | 0.40 | 0.00 | 0.41 | |
| plotSpectrumSpectrum-methods | 1.78 | 0.03 | 1.80 | |
| precSelection | 0 | 0 | 0 | |
| purityCorrect-methods | 0.02 | 0.00 | 0.02 | |
| quantify-methods | 3.25 | 0.02 | 3.26 | |
| readMSData | 2.59 | 0.00 | 2.60 | |
| readMSnSet | 0.08 | 0.02 | 0.14 | |
| readMgfData | 2.42 | 0.01 | 2.47 | |
| readMzIdData | 1.72 | 0.31 | 2.23 | |
| readMzTabData | 0.89 | 0.02 | 0.95 | |
| readMzTabData_v0.9 | 0.12 | 0.00 | 0.25 | |
| readSRMData | 1.22 | 0.12 | 1.35 | |
| reduce-data.frame-method | 0.02 | 0.00 | 0.01 | |
| removeNoId-methods | 1.47 | 0.00 | 1.47 | |
| removePeaks-methods | 0.73 | 0.02 | 0.75 | |
| removeReporters-methods | 0.66 | 0.05 | 0.70 | |
| selectFeatureData | 1.58 | 0.06 | 1.65 | |
| smooth-methods | 0.26 | 0.02 | 0.28 | |
| trimMz-methods | 0.19 | 0.02 | 0.21 | |
| writeMgfData-methods | 2.24 | 0.04 | 2.28 | |