| Back to Multiple platform build/check report for BioC 3.19: simplified long |
|
This page was generated on 2024-05-09 11:41:09 -0400 (Thu, 09 May 2024).
| Hostname | OS | Arch (*) | R version | Installed pkgs |
|---|---|---|---|---|
| nebbiolo1 | Linux (Ubuntu 22.04.3 LTS) | x86_64 | 4.4.0 (2024-04-24) -- "Puppy Cup" | 4748 |
| palomino3 | Windows Server 2022 Datacenter | x64 | 4.4.0 (2024-04-24 ucrt) -- "Puppy Cup" | 4484 |
| lconway | macOS 12.7.1 Monterey | x86_64 | 4.4.0 (2024-04-24) -- "Puppy Cup" | 4514 |
| kunpeng2 | Linux (openEuler 22.03 LTS-SP1) | aarch64 | 4.4.0 beta (2024-04-15 r86425) -- "Puppy Cup" | 4480 |
| Click on any hostname to see more info about the system (e.g. compilers) (*) as reported by 'uname -p', except on Windows and Mac OS X | ||||
| Package 1356/2300 | Hostname | OS / Arch | INSTALL | BUILD | CHECK | BUILD BIN | ||||||||
| MSPrep 1.14.0 (landing page) Max McGrath
| nebbiolo1 | Linux (Ubuntu 22.04.3 LTS) / x86_64 | OK | OK | OK | |||||||||
| palomino3 | Windows Server 2022 Datacenter / x64 | OK | OK | OK | OK | |||||||||
| lconway | macOS 12.7.1 Monterey / x86_64 | OK | OK | OK | OK | |||||||||
| kunpeng2 | Linux (openEuler 22.03 LTS-SP1) / aarch64 | OK | OK | ERROR | ||||||||||
| kjohnson3 | macOS 13.6.5 Ventura / arm64 | see weekly results here | ||||||||||||
|
To the developers/maintainers of the MSPrep package: - Allow up to 24 hours (and sometimes 48 hours) for your latest push to git@git.bioconductor.org:packages/MSPrep.git to reflect on this report. See Troubleshooting Build Report for more information. - Use the following Renviron settings to reproduce errors and warnings. - If 'R CMD check' started to fail recently on the Linux builder(s) over a missing dependency, add the missing dependency to 'Suggests:' in your DESCRIPTION file. See Renviron.bioc for more information. - See Martin Grigorov's blog post for how to debug Linux ARM64 related issues on a x86_64 host. |
| Package: MSPrep |
| Version: 1.14.0 |
| Command: /home/biocbuild/R/R-beta-2024-04-15_r86425/bin/R CMD check --install=check:MSPrep.install-out.txt --library=/home/biocbuild/R/R-beta-2024-04-15_r86425/site-library --no-vignettes --timings MSPrep_1.14.0.tar.gz |
| StartedAt: 2024-05-09 09:48:51 -0000 (Thu, 09 May 2024) |
| EndedAt: 2024-05-09 09:58:54 -0000 (Thu, 09 May 2024) |
| EllapsedTime: 603.1 seconds |
| RetCode: 1 |
| Status: ERROR |
| CheckDir: MSPrep.Rcheck |
| Warnings: NA |
##############################################################################
##############################################################################
###
### Running command:
###
### /home/biocbuild/R/R-beta-2024-04-15_r86425/bin/R CMD check --install=check:MSPrep.install-out.txt --library=/home/biocbuild/R/R-beta-2024-04-15_r86425/site-library --no-vignettes --timings MSPrep_1.14.0.tar.gz
###
##############################################################################
##############################################################################
* using log directory ‘/home/biocbuild/bbs-3.19-bioc/meat/MSPrep.Rcheck’
* using R version 4.4.0 beta (2024-04-15 r86425)
* using platform: aarch64-unknown-linux-gnu
* R was compiled by
gcc (GCC) 10.3.1
GNU Fortran (GCC) 10.3.1
* running under: openEuler 22.03 (LTS-SP1)
* using session charset: UTF-8
* using option ‘--no-vignettes’
* checking for file ‘MSPrep/DESCRIPTION’ ... OK
* this is package ‘MSPrep’ version ‘1.14.0’
* package encoding: UTF-8
* checking package namespace information ... OK
* checking package dependencies ... OK
* checking if this is a source package ... OK
* checking if there is a namespace ... OK
* checking for hidden files and directories ... OK
* checking for portable file names ... OK
* checking for sufficient/correct file permissions ... OK
* checking whether package ‘MSPrep’ can be installed ... OK
* checking installed package size ... OK
* checking package directory ... OK
* checking ‘build’ directory ... OK
* checking DESCRIPTION meta-information ... OK
* checking top-level files ... OK
* checking for left-over files ... OK
* checking index information ... OK
* checking package subdirectories ... OK
* checking code files for non-ASCII characters ... OK
* checking R files for syntax errors ... OK
* checking whether the package can be loaded ... OK
* checking whether the package can be loaded with stated dependencies ... OK
* checking whether the package can be unloaded cleanly ... OK
* checking whether the namespace can be loaded with stated dependencies ... OK
* checking whether the namespace can be unloaded cleanly ... OK
* checking loading without being on the library search path ... OK
* checking dependencies in R code ... OK
* checking S3 generic/method consistency ... OK
* checking replacement functions ... OK
* checking foreign function calls ... OK
* checking R code for possible problems ... OK
* checking Rd files ... OK
* checking Rd metadata ... OK
* checking Rd cross-references ... OK
* checking for missing documentation entries ... OK
* checking for code/documentation mismatches ... OK
* checking Rd \usage sections ... OK
* checking Rd contents ... OK
* checking for unstated dependencies in examples ... OK
* checking contents of ‘data’ directory ... OK
* checking data for non-ASCII characters ... OK
* checking data for ASCII and uncompressed saves ... OK
* checking files in ‘vignettes’ ... OK
* checking examples ... OK
Examples with CPU (user + system) or elapsed time > 5s
user system elapsed
MSPrep 27.286 1.150 28.495
msImpute 24.480 0.135 24.666
msPrepare 20.836 0.088 20.969
msNormalize 19.755 0.036 19.834
msFilter 19.494 0.096 19.632
msSummarize 18.157 0.011 18.208
* checking for unstated dependencies in ‘tests’ ... OK
* checking tests ...
Running ‘testthat.R’
ERROR
Running the tests in ‘tests/testthat.R’ failed.
Last 13 lines of output:
Iteration (out of 5 ):1 2 3 4 5 Found 7 genes with uniform expression within a single batch (all zeros); these will not be adjusted for batch.
Number of significant surrogate variables is: 5
Iteration (out of 5 ):1 2 3 4 5
[ FAIL 1 | WARN 12 | SKIP 0 | PASS 83 ]
══ Failed tests ════════════════════════════════════════════════════════════════
── Failure ('test_sedf_equality.R:246:5'): Check msNormalize(sva) ──────────────
identical(...) is not TRUE
`actual`: FALSE
`expected`: TRUE
[ FAIL 1 | WARN 12 | SKIP 0 | PASS 83 ]
Error: Test failures
Execution halted
* checking for unstated dependencies in vignettes ... OK
* checking package vignettes ... OK
* checking running R code from vignettes ... SKIPPED
* checking re-building of vignette outputs ... SKIPPED
* checking PDF version of manual ... OK
* DONE
Status: 1 ERROR
See
‘/home/biocbuild/bbs-3.19-bioc/meat/MSPrep.Rcheck/00check.log’
for details.
MSPrep.Rcheck/00install.out
############################################################################## ############################################################################## ### ### Running command: ### ### /home/biocbuild/R/R-beta-2024-04-15_r86425/bin/R CMD INSTALL MSPrep ### ############################################################################## ############################################################################## * installing to library ‘/home/biocbuild/R/R-beta-2024-04-15_r86425/site-library’ * installing *source* package ‘MSPrep’ ... ** using staged installation ** R ** data ** byte-compile and prepare package for lazy loading ** help *** installing help indices ** building package indices ** installing vignettes ** testing if installed package can be loaded from temporary location ** testing if installed package can be loaded from final location ** testing if installed package keeps a record of temporary installation path * DONE (MSPrep)
MSPrep.Rcheck/tests/testthat.Rout.fail
R version 4.4.0 beta (2024-04-15 r86425) -- "Puppy Cup"
Copyright (C) 2024 The R Foundation for Statistical Computing
Platform: aarch64-unknown-linux-gnu
R is free software and comes with ABSOLUTELY NO WARRANTY.
You are welcome to redistribute it under certain conditions.
Type 'license()' or 'licence()' for distribution details.
R is a collaborative project with many contributors.
Type 'contributors()' for more information and
'citation()' on how to cite R or R packages in publications.
Type 'demo()' for some demos, 'help()' for on-line help, or
'help.start()' for an HTML browser interface to help.
Type 'q()' to quit R.
> Sys.setenv(R_TESTS="")
> library(testthat)
> library(MSPrep)
>
> test_check("MSPrep")
Number of significant surrogate variables is: 4
Iteration (out of 5 ):1 2 3 4 5 Found 7 genes with uniform expression within a single batch (all zeros); these will not be adjusted for batch.
Number of significant surrogate variables is: 4
Iteration (out of 5 ):1 2 3 4 5
Number of significant surrogate variables is: 5
Iteration (out of 5 ):1 2 3 4 5 Found 7 genes with uniform expression within a single batch (all zeros); these will not be adjusted for batch.
Number of significant surrogate variables is: 5
Iteration (out of 5 ):1 2 3 4 5
[ FAIL 1 | WARN 12 | SKIP 0 | PASS 83 ]
══ Failed tests ════════════════════════════════════════════════════════════════
── Failure ('test_sedf_equality.R:246:5'): Check msNormalize(sva) ──────────────
identical(...) is not TRUE
`actual`: FALSE
`expected`: TRUE
[ FAIL 1 | WARN 12 | SKIP 0 | PASS 83 ]
Error: Test failures
Execution halted
MSPrep.Rcheck/MSPrep-Ex.timings
| name | user | system | elapsed | |
| COPD_131 | 0.224 | 0.004 | 0.229 | |
| MSPrep | 27.286 | 1.150 | 28.495 | |
| msFilter | 19.494 | 0.096 | 19.632 | |
| msImpute | 24.480 | 0.135 | 24.666 | |
| msNormalize | 19.755 | 0.036 | 19.834 | |
| msPrepare | 20.836 | 0.088 | 20.969 | |
| msSummarize | 18.157 | 0.011 | 18.208 | |
| msquant | 0.089 | 0.003 | 0.092 | |