| Back to Multiple platform build/check report for BioC 3.19: simplified long |
|
This page was generated on 2024-02-22 12:48:44 -0500 (Thu, 22 Feb 2024).
| Hostname | OS | Arch (*) | R version | Installed pkgs |
|---|---|---|---|---|
| nebbiolo1 | Linux (Ubuntu 22.04.3 LTS) | x86_64 | R Under development (unstable) (2024-01-16 r85808) -- "Unsuffered Consequences" | 4657 |
| palomino3 | Windows Server 2022 Datacenter | x64 | R Under development (unstable) (2024-01-14 r85805 ucrt) -- "Unsuffered Consequences" | 4397 |
| Click on any hostname to see more info about the system (e.g. compilers) (*) as reported by 'uname -p', except on Windows and Mac OS X | ||||
| Package 1304/2244 | Hostname | OS / Arch | INSTALL | BUILD | CHECK | BUILD BIN | ||||||||
| MQmetrics 1.11.0 (landing page) Alvaro Sanchez-Villalba
| nebbiolo1 | Linux (Ubuntu 22.04.3 LTS) / x86_64 | OK | OK | OK | |||||||||
| palomino3 | Windows Server 2022 Datacenter / x64 | OK | OK | OK | OK | |||||||||
|
To the developers/maintainers of the MQmetrics package: - Allow up to 24 hours (and sometimes 48 hours) for your latest push to git@git.bioconductor.org:packages/MQmetrics.git to reflect on this report. See Troubleshooting Build Report for more information. - Use the following Renviron settings to reproduce errors and warnings. - If 'R CMD check' started to fail recently on the Linux builder(s) over a missing dependency, add the missing dependency to 'Suggests:' in your DESCRIPTION file. See Renviron.bioc for more information. |
| Package: MQmetrics |
| Version: 1.11.0 |
| Command: rm -rf MQmetrics.buildbin-libdir && mkdir MQmetrics.buildbin-libdir && F:\biocbuild\bbs-3.19-bioc\R\bin\R.exe CMD INSTALL --build --library=MQmetrics.buildbin-libdir MQmetrics_1.11.0.tar.gz |
| StartedAt: 2024-02-22 10:30:30 -0500 (Thu, 22 Feb 2024) |
| EndedAt: 2024-02-22 10:30:44 -0500 (Thu, 22 Feb 2024) |
| EllapsedTime: 14.0 seconds |
| RetCode: 0 |
| Status: OK |
| PackageFile: MQmetrics_1.11.0.zip |
| PackageFileSize: 2.699 MiB |
############################################################################## ############################################################################## ### ### Running command: ### ### rm -rf MQmetrics.buildbin-libdir && mkdir MQmetrics.buildbin-libdir && F:\biocbuild\bbs-3.19-bioc\R\bin\R.exe CMD INSTALL --build --library=MQmetrics.buildbin-libdir MQmetrics_1.11.0.tar.gz ### ############################################################################## ############################################################################## * installing *source* package 'MQmetrics' ... ** using staged installation ** R ** inst ** byte-compile and prepare package for lazy loading ** help *** installing help indices *** copying figures ** building package indices ** installing vignettes ** testing if installed package can be loaded from temporary location ** testing if installed package can be loaded from final location ** testing if installed package keeps a record of temporary installation path * MD5 sums packaged installation of 'MQmetrics' as MQmetrics_1.11.0.zip * DONE (MQmetrics)