| Back to Multiple platform build/check report for BioC 3.19: simplified long | 
 | 
This page was generated on 2024-10-18 20:38 -0400 (Fri, 18 Oct 2024).
| Hostname | OS | Arch (*) | R version | Installed pkgs | 
|---|---|---|---|---|
| nebbiolo1 | Linux (Ubuntu 22.04.3 LTS) | x86_64 | 4.4.1 (2024-06-14) -- "Race for Your Life" | 4763 | 
| palomino7 | Windows Server 2022 Datacenter | x64 | 4.4.1 (2024-06-14 ucrt) -- "Race for Your Life" | 4500 | 
| merida1 | macOS 12.7.5 Monterey | x86_64 | 4.4.1 (2024-06-14) -- "Race for Your Life" | 4530 | 
| kjohnson1 | macOS 13.6.6 Ventura | arm64 | 4.4.1 (2024-06-14) -- "Race for Your Life" | 4480 | 
| Click on any hostname to see more info about the system (e.g. compilers) (*) as reported by 'uname -p', except on Windows and Mac OS X | ||||
| Package 1305/2300 | Hostname | OS / Arch | INSTALL | BUILD | CHECK | BUILD BIN | ||||||||
| MMUPHin 1.18.1  (landing page) Siyuan MA 
 | nebbiolo1 | Linux (Ubuntu 22.04.3 LTS) / x86_64 | OK | OK | OK |  | ||||||||
| palomino7 | Windows Server 2022 Datacenter / x64 | OK | OK | OK | OK |  | ||||||||
| merida1 | macOS 12.7.5 Monterey / x86_64 | OK | OK | OK | OK |  | ||||||||
| kjohnson1 | macOS 13.6.6 Ventura / arm64 | OK | OK | OK | OK |  | ||||||||
| To the developers/maintainers of the MMUPHin package: - Allow up to 24 hours (and sometimes 48 hours) for your latest push to git@git.bioconductor.org:packages/MMUPHin.git to reflect on this report. See Troubleshooting Build Report for more information. - Use the following Renviron settings to reproduce errors and warnings. - If 'R CMD check' started to fail recently on the Linux builder(s) over a missing dependency, add the missing dependency to 'Suggests:' in your DESCRIPTION file. See Renviron.bioc for more information. | 
| Package: MMUPHin | 
| Version: 1.18.1 | 
| Command: /home/biocbuild/bbs-3.19-bioc/R/bin/R CMD check --install=check:MMUPHin.install-out.txt --library=/home/biocbuild/bbs-3.19-bioc/R/site-library --timings MMUPHin_1.18.1.tar.gz | 
| StartedAt: 2024-10-17 02:35:58 -0400 (Thu, 17 Oct 2024) | 
| EndedAt: 2024-10-17 02:38:18 -0400 (Thu, 17 Oct 2024) | 
| EllapsedTime: 140.3 seconds | 
| RetCode: 0 | 
| Status: OK | 
| CheckDir: MMUPHin.Rcheck | 
| Warnings: 0 | 
##############################################################################
##############################################################################
###
### Running command:
###
###   /home/biocbuild/bbs-3.19-bioc/R/bin/R CMD check --install=check:MMUPHin.install-out.txt --library=/home/biocbuild/bbs-3.19-bioc/R/site-library --timings MMUPHin_1.18.1.tar.gz
###
##############################################################################
##############################################################################
* using log directory ‘/home/biocbuild/bbs-3.19-bioc/meat/MMUPHin.Rcheck’
* using R version 4.4.1 (2024-06-14)
* using platform: x86_64-pc-linux-gnu
* R was compiled by
    gcc (Ubuntu 11.4.0-1ubuntu1~22.04) 11.4.0
    GNU Fortran (Ubuntu 11.4.0-1ubuntu1~22.04) 11.4.0
* running under: Ubuntu 22.04.5 LTS
* using session charset: UTF-8
* checking for file ‘MMUPHin/DESCRIPTION’ ... OK
* checking extension type ... Package
* this is package ‘MMUPHin’ version ‘1.18.1’
* package encoding: UTF-8
* checking package namespace information ... OK
* checking package dependencies ... OK
* checking if this is a source package ... OK
* checking if there is a namespace ... OK
* checking for hidden files and directories ... OK
* checking for portable file names ... OK
* checking for sufficient/correct file permissions ... OK
* checking whether package ‘MMUPHin’ can be installed ... OK
* checking installed package size ... OK
* checking package directory ... OK
* checking ‘build’ directory ... OK
* checking DESCRIPTION meta-information ... OK
* checking top-level files ... OK
* checking for left-over files ... OK
* checking index information ... OK
* checking package subdirectories ... OK
* checking code files for non-ASCII characters ... OK
* checking R files for syntax errors ... OK
* checking whether the package can be loaded ... OK
* checking whether the package can be loaded with stated dependencies ... OK
* checking whether the package can be unloaded cleanly ... OK
* checking whether the namespace can be loaded with stated dependencies ... OK
* checking whether the namespace can be unloaded cleanly ... OK
* checking loading without being on the library search path ... OK
* checking dependencies in R code ... OK
* checking S3 generic/method consistency ... OK
* checking replacement functions ... OK
* checking foreign function calls ... OK
* checking R code for possible problems ... NOTE
Maaslin2_wrapper: no visible binding for global variable
  ‘feature_rename’
Maaslin2_wrapper: no visible binding for global variable ‘name’
check_exposure: no visible binding for global variable ‘lvl_batch’
diagnostic_adjust_batch: no visible binding for global variable
  ‘Adjustment’
diagnostic_adjust_batch: no visible binding for global variable ‘batch’
diagnostic_adjust_batch: no visible binding for global variable
  ‘mean_overall’
diagnostic_adjust_batch: no visible binding for global variable
  ‘mean_batch’
diagnostic_adjust_batch: no visible binding for global variable
  ‘Feature’
diagnostic_continuous_discover: no visible binding for global variable
  ‘community’
diagnostic_continuous_discover: no visible binding for global variable
  ‘correlation’
diagnostic_continuous_discover: no visible binding for global variable
  ‘batch’
diagnostic_discrete_discover: no visible binding for global variable
  ‘k’
Undefined global functions or variables:
  Adjustment Feature batch community correlation feature_rename k
  lvl_batch mean_batch mean_overall name
* checking Rd files ... OK
* checking Rd metadata ... OK
* checking Rd cross-references ... OK
* checking for missing documentation entries ... OK
* checking for code/documentation mismatches ... OK
* checking Rd \usage sections ... OK
* checking Rd contents ... OK
* checking for unstated dependencies in examples ... OK
* checking contents of ‘data’ directory ... OK
* checking data for non-ASCII characters ... OK
* checking data for ASCII and uncompressed saves ... OK
* checking files in ‘vignettes’ ... OK
* checking examples ... OK
Examples with CPU (user + system) or elapsed time > 5s
                      user system elapsed
continuous_discover 21.241  2.528  23.772
lm_meta             12.752  0.212  12.965
discrete_discover    9.402  0.180   9.581
* checking for unstated dependencies in ‘tests’ ... OK
* checking tests ...
  Running ‘testthat.R’
 OK
* checking for unstated dependencies in vignettes ... OK
* checking package vignettes ... OK
* checking re-building of vignette outputs ... OK
* checking PDF version of manual ... OK
* DONE
Status: 1 NOTE
See
  ‘/home/biocbuild/bbs-3.19-bioc/meat/MMUPHin.Rcheck/00check.log’
for details.
MMUPHin.Rcheck/00install.out
############################################################################## ############################################################################## ### ### Running command: ### ### /home/biocbuild/bbs-3.19-bioc/R/bin/R CMD INSTALL MMUPHin ### ############################################################################## ############################################################################## * installing to library ‘/home/biocbuild/bbs-3.19-bioc/R/site-library’ * installing *source* package ‘MMUPHin’ ... ** using staged installation ** R ** data ** byte-compile and prepare package for lazy loading ** help *** installing help indices *** copying figures ** building package indices ** installing vignettes ** testing if installed package can be loaded from temporary location ** testing if installed package can be loaded from final location ** testing if installed package keeps a record of temporary installation path * DONE (MMUPHin)
MMUPHin.Rcheck/tests/testthat.Rout
R version 4.4.1 (2024-06-14) -- "Race for Your Life"
Copyright (C) 2024 The R Foundation for Statistical Computing
Platform: x86_64-pc-linux-gnu
R is free software and comes with ABSOLUTELY NO WARRANTY.
You are welcome to redistribute it under certain conditions.
Type 'license()' or 'licence()' for distribution details.
R is a collaborative project with many contributors.
Type 'contributors()' for more information and
'citation()' on how to cite R or R packages in publications.
Type 'demo()' for some demos, 'help()' for on-line help, or
'help.start()' for an HTML browser interface to help.
Type 'q()' to quit R.
> library(testthat)
> library(MMUPHin)
> 
> test_check("MMUPHin")
[ FAIL 0 | WARN 2 | SKIP 0 | PASS 41 ]
[ FAIL 0 | WARN 2 | SKIP 0 | PASS 41 ]
> 
> proc.time()
   user  system elapsed 
  1.211   0.117   1.316 
MMUPHin.Rcheck/MMUPHin-Ex.timings
| name | user | system | elapsed | |
| CRC_abd | 0.031 | 0.032 | 0.064 | |
| CRC_meta | 0.007 | 0.000 | 0.006 | |
| adjust_batch | 2.089 | 0.080 | 2.169 | |
| continuous_discover | 21.241 | 2.528 | 23.772 | |
| discrete_discover | 9.402 | 0.180 | 9.581 | |
| lm_meta | 12.752 | 0.212 | 12.965 | |
| vaginal_abd | 0.004 | 0.004 | 0.008 | |
| vaginal_meta | 0.002 | 0.000 | 0.003 | |