| Back to Multiple platform build/check report for BioC 3.19: simplified long | 
 | 
This page was generated on 2024-05-09 11:41:04 -0400 (Thu, 09 May 2024).
| Hostname | OS | Arch (*) | R version | Installed pkgs | 
|---|---|---|---|---|
| nebbiolo1 | Linux (Ubuntu 22.04.3 LTS) | x86_64 | 4.4.0 (2024-04-24) -- "Puppy Cup" | 4748 | 
| palomino3 | Windows Server 2022 Datacenter | x64 | 4.4.0 (2024-04-24 ucrt) -- "Puppy Cup" | 4484 | 
| lconway | macOS 12.7.1 Monterey | x86_64 | 4.4.0 (2024-04-24) -- "Puppy Cup" | 4514 | 
| kunpeng2 | Linux (openEuler 22.03 LTS-SP1) | aarch64 | 4.4.0 beta (2024-04-15 r86425) -- "Puppy Cup" | 4480 | 
| Click on any hostname to see more info about the system (e.g. compilers) (*) as reported by 'uname -p', except on Windows and Mac OS X | ||||
| Package 1195/2300 | Hostname | OS / Arch | INSTALL | BUILD | CHECK | BUILD BIN | ||||||||
| MEDME 1.64.0  (landing page) Mattia Pelizzola 
 | nebbiolo1 | Linux (Ubuntu 22.04.3 LTS) / x86_64 | OK | OK | WARNINGS |  | ||||||||
| palomino3 | Windows Server 2022 Datacenter / x64 | OK | OK | WARNINGS | OK |  | ||||||||
| lconway | macOS 12.7.1 Monterey / x86_64 | OK | OK | WARNINGS | OK |  | ||||||||
| kunpeng2 | Linux (openEuler 22.03 LTS-SP1) / aarch64 | OK | OK | WARNINGS | ||||||||||
| kjohnson3 | macOS 13.6.5 Ventura / arm64 | see weekly results here | ||||||||||||
| To the developers/maintainers of the MEDME package: - Allow up to 24 hours (and sometimes 48 hours) for your latest push to git@git.bioconductor.org:packages/MEDME.git to reflect on this report. See Troubleshooting Build Report for more information. - Use the following Renviron settings to reproduce errors and warnings. - If 'R CMD check' started to fail recently on the Linux builder(s) over a missing dependency, add the missing dependency to 'Suggests:' in your DESCRIPTION file. See Renviron.bioc for more information. - See Martin Grigorov's blog post for how to debug Linux ARM64 related issues on a x86_64 host. | 
| Package: MEDME | 
| Version: 1.64.0 | 
| Command: /home/biocbuild/R/R-beta-2024-04-15_r86425/bin/R CMD INSTALL MEDME | 
| StartedAt: 2024-05-08 20:54:10 -0000 (Wed, 08 May 2024) | 
| EndedAt: 2024-05-08 20:54:31 -0000 (Wed, 08 May 2024) | 
| EllapsedTime: 20.6 seconds | 
| RetCode: 0 | 
| Status: OK | 
##############################################################################
##############################################################################
###
### Running command:
###
###   /home/biocbuild/R/R-beta-2024-04-15_r86425/bin/R CMD INSTALL MEDME
###
##############################################################################
##############################################################################
* installing to library ‘/home/biocbuild/R/R-beta-2024-04-15_r86425/site-library’
* installing *source* package ‘MEDME’ ...
** using staged installation
** libs
using C compiler: ‘gcc (GCC) 10.3.1’
gcc -I"/home/biocbuild/R/R-beta-2024-04-15_r86425/include" -DNDEBUG   -I/usr/local/include    -fPIC  -g -O2  -Wall -c MEDMEweight.c -o MEDMEweight.o
MEDMEweight.c: In function ‘MEDMEweight’:
MEDMEweight.c:77:11: warning: ‘weight’ may be used uninitialized in this function [-Wmaybe-uninitialized]
   77 |  MeDIPsum = MeDIPsum + MeDIP[j] * weight;
      |  ~~~~~~~~~^~~~~~~~~~~~~~~~~~~~~~~~~~~~~~
MEDMEweight.c:91:9: warning: ‘Max’ may be used uninitialized in this function [-Wmaybe-uninitialized]
   91 |       if(AMSfinal[i] > Max) {AMSfinal[i] = Max;}
      |         ^
MEDMEweight.c:92:42: warning: ‘Min’ may be used uninitialized in this function [-Wmaybe-uninitialized]
   92 |       if(AMSfinal[i] < Min) {AMSfinal[i] = Min;}
      |                              ~~~~~~~~~~~~^~~~~
MEDMEweight.c:90:33: warning: ‘E’ may be used uninitialized in this function [-Wmaybe-uninitialized]
   90 |       AMSfinal[i] = pow(2, pow( pow(E,B) * (D - Mlim) / (Mlim - C), 1/B));
      |                                 ^~~~~~~~
MEDMEweight.c:90:47: warning: ‘D’ may be used uninitialized in this function [-Wmaybe-uninitialized]
   90 |       AMSfinal[i] = pow(2, pow( pow(E,B) * (D - Mlim) / (Mlim - C), 1/B));
      |                                            ~~~^~~~~~~
MEDMEweight.c:90:63: warning: ‘C’ may be used uninitialized in this function [-Wmaybe-uninitialized]
   90 |       AMSfinal[i] = pow(2, pow( pow(E,B) * (D - Mlim) / (Mlim - C), 1/B));
      |                                                         ~~~~~~^~~~
MEDMEweight.c:90:33: warning: ‘B’ may be used uninitialized in this function [-Wmaybe-uninitialized]
   90 |       AMSfinal[i] = pow(2, pow( pow(E,B) * (D - Mlim) / (Mlim - C), 1/B));
      |                                 ^~~~~~~~
gcc -shared -L/home/biocbuild/R/R-beta-2024-04-15_r86425/lib -L/usr/local/lib -o MEDME.so MEDMEweight.o -L/home/biocbuild/R/R-beta-2024-04-15_r86425/lib -lR
installing to /home/biocbuild/R/R-beta-2024-04-15_r86425/site-library/00LOCK-MEDME/00new/MEDME/libs
** R
** data
** inst
** byte-compile and prepare package for lazy loading
** help
*** installing help indices
** building package indices
** installing vignettes
** testing if installed package can be loaded from temporary location
** checking absolute paths in shared objects and dynamic libraries
** testing if installed package can be loaded from final location
** testing if installed package keeps a record of temporary installation path
* DONE (MEDME)