| Back to Multiple platform build/check report for BioC 3.19: simplified long |
|
This page was generated on 2024-06-11 14:42 -0400 (Tue, 11 Jun 2024).
| Hostname | OS | Arch (*) | R version | Installed pkgs |
|---|---|---|---|---|
| nebbiolo1 | Linux (Ubuntu 22.04.3 LTS) | x86_64 | 4.4.0 (2024-04-24) -- "Puppy Cup" | 4757 |
| palomino3 | Windows Server 2022 Datacenter | x64 | 4.4.0 (2024-04-24 ucrt) -- "Puppy Cup" | 4491 |
| lconway | macOS 12.7.1 Monterey | x86_64 | 4.4.0 (2024-04-24) -- "Puppy Cup" | 4522 |
| kjohnson3 | macOS 13.6.5 Ventura | arm64 | 4.4.0 (2024-04-24) -- "Puppy Cup" | 4468 |
| Click on any hostname to see more info about the system (e.g. compilers) (*) as reported by 'uname -p', except on Windows and Mac OS X | ||||
| Package 1194/2300 | Hostname | OS / Arch | INSTALL | BUILD | CHECK | BUILD BIN | ||||||||
| MEDIPS 1.56.0 (landing page) Lukas Chavez
| nebbiolo1 | Linux (Ubuntu 22.04.3 LTS) / x86_64 | OK | OK | OK | |||||||||
| palomino3 | Windows Server 2022 Datacenter / x64 | OK | OK | OK | OK | |||||||||
| lconway | macOS 12.7.1 Monterey / x86_64 | OK | OK | OK | OK | |||||||||
| kjohnson3 | macOS 13.6.5 Ventura / arm64 | OK | OK | OK | OK | |||||||||
|
To the developers/maintainers of the MEDIPS package: - Allow up to 24 hours (and sometimes 48 hours) for your latest push to git@git.bioconductor.org:packages/MEDIPS.git to reflect on this report. See Troubleshooting Build Report for more information. - Use the following Renviron settings to reproduce errors and warnings. - If 'R CMD check' started to fail recently on the Linux builder(s) over a missing dependency, add the missing dependency to 'Suggests:' in your DESCRIPTION file. See Renviron.bioc for more information. |
| Package: MEDIPS |
| Version: 1.56.0 |
| Command: /Library/Frameworks/R.framework/Resources/bin/R CMD check --install=check:MEDIPS.install-out.txt --library=/Library/Frameworks/R.framework/Resources/library --no-vignettes --timings MEDIPS_1.56.0.tar.gz |
| StartedAt: 2024-06-09 21:20:22 -0400 (Sun, 09 Jun 2024) |
| EndedAt: 2024-06-09 21:26:36 -0400 (Sun, 09 Jun 2024) |
| EllapsedTime: 374.8 seconds |
| RetCode: 0 |
| Status: OK |
| CheckDir: MEDIPS.Rcheck |
| Warnings: 0 |
##############################################################################
##############################################################################
###
### Running command:
###
### /Library/Frameworks/R.framework/Resources/bin/R CMD check --install=check:MEDIPS.install-out.txt --library=/Library/Frameworks/R.framework/Resources/library --no-vignettes --timings MEDIPS_1.56.0.tar.gz
###
##############################################################################
##############################################################################
* using log directory ‘/Users/biocbuild/bbs-3.19-bioc/meat/MEDIPS.Rcheck’
* using R version 4.4.0 (2024-04-24)
* using platform: x86_64-apple-darwin20
* R was compiled by
Apple clang version 14.0.0 (clang-1400.0.29.202)
GNU Fortran (GCC) 12.2.0
* running under: macOS Monterey 12.7.1
* using session charset: UTF-8
* using option ‘--no-vignettes’
* checking for file ‘MEDIPS/DESCRIPTION’ ... OK
* checking extension type ... Package
* this is package ‘MEDIPS’ version ‘1.56.0’
* checking package namespace information ... OK
* checking package dependencies ... OK
* checking if this is a source package ... OK
* checking if there is a namespace ... OK
* checking for hidden files and directories ... OK
* checking for portable file names ... OK
* checking for sufficient/correct file permissions ... OK
* checking whether package ‘MEDIPS’ can be installed ... OK
* checking installed package size ... OK
* checking package directory ... OK
* checking ‘build’ directory ... OK
* checking DESCRIPTION meta-information ... OK
* checking top-level files ... OK
* checking for left-over files ... OK
* checking index information ... OK
* checking package subdirectories ... OK
* checking code files for non-ASCII characters ... OK
* checking R files for syntax errors ... OK
* checking whether the package can be loaded ... OK
* checking whether the package can be loaded with stated dependencies ... OK
* checking whether the package can be unloaded cleanly ... OK
* checking whether the namespace can be loaded with stated dependencies ... OK
* checking whether the namespace can be unloaded cleanly ... OK
* checking dependencies in R code ... OK
* checking S3 generic/method consistency ... OK
* checking replacement functions ... OK
* checking foreign function calls ... OK
* checking R code for possible problems ... NOTE
MEDIPS.CpGenrich: no visible global function definition for ‘seqlevels’
MEDIPS.CpGenrich: no visible global function definition for
‘seqlengths’
MEDIPS.CpGenrich: no visible global function definition for
‘GRangesList’
MEDIPS.CpGenrich : <anonymous>: no visible global function definition
for ‘seqnames’
MEDIPS.CpGenrich: no visible global function definition for ‘new’
MEDIPS.addCNV: no visible global function definition for ‘seqnames’
MEDIPS.correlation: no visible global function definition for ‘pdf’
MEDIPS.correlation: no visible global function definition for ‘dev.off’
MEDIPS.couplingVector: no visible global function definition for ‘new’
MEDIPS.createROIset: no visible global function definition for
‘seqnames’
MEDIPS.createROIset: no visible global function definition for
‘seqlengths’
MEDIPS.createROIset: no visible global function definition for ‘new’
MEDIPS.createSet: no visible global function definition for ‘seqnames’
MEDIPS.createSet: no visible global function definition for
‘seqlengths’
MEDIPS.createSet: no visible global function definition for ‘seqlevels’
MEDIPS.createSet: no visible global function definition for ‘new’
MEDIPS.diffMeth: no visible global function definition for ‘p.adjust’
MEDIPS.exportWIG: no visible global function definition for ‘seqnames’
MEDIPS.mergeSets: no visible global function definition for ‘new’
MEDIPS.meth: no visible global function definition for ‘seqnames’
MEDIPS.plotCalibrationPlot: no visible global function definition for
‘seqnames’
MEDIPS.plotCalibrationPlot: no visible global function definition for
‘points’
MEDIPS.plotSeqCoverage: no visible global function definition for ‘pie’
MEDIPS.plotSeqCoverage: no visible global function definition for
‘hist’
MEDIPS.saturation: no visible global function definition for
‘seqlevels’
MEDIPS.saturation: no visible global function definition for
‘seqlengths’
MEDIPS.selectROIs: no visible global function definition for
‘elementMetadata<-’
MEDIPS.selectROIs: no visible global function definition for
‘elementMetadata’
MEDIPS.selectROIs: no visible global function definition for
‘findOverlaps’
MEDIPS.selectROIs: no visible global function definition for ‘values’
MEDIPS.selectROIs: no visible global function definition for ‘seqnames’
MEDIPS.seqCoverage: no visible global function definition for
‘seqlevels’
MEDIPS.seqCoverage: no visible global function definition for
‘seqlengths’
MEDIPS.setAnnotation: no visible global function definition for
‘findOverlaps’
MEDIPS.setAnnotation: no visible global function definition for
‘values’
getGRange: no visible global function definition for ‘qpois’
getGRange: no visible global function definition for ‘seqlengths’
getGRange: no visible global function definition for ‘countMatches’
getGRange: no visible global function definition for ‘strand<-’
getMObjectFromWIG: no visible global function definition for
‘seqlengths’
getMObjectFromWIG: no visible global function definition for ‘values’
getMObjectFromWIG: no visible global function definition for
‘runLength’
getMObjectFromWIG: no visible global function definition for ‘seqnames’
getMObjectFromWIG: no visible global function definition for ‘runValue’
getMObjectFromWIG: no visible global function definition for ‘new’
getPairedGRange: no visible global function definition for ‘sd’
getPairedGRange: no visible global function definition for ‘qpois’
getPairedGRange: no visible global function definition for ‘seqlengths’
getPairedGRange: no visible global function definition for
‘countMatches’
getPairedGRange: no visible global function definition for ‘strand<-’
matSd: no visible binding for global variable ‘sd’
matTtest: no visible binding for global variable ‘sd’
matTtest: no visible global function definition for ‘pt’
Undefined global functions or variables:
GRangesList countMatches dev.off elementMetadata elementMetadata<-
findOverlaps hist new p.adjust pdf pie points pt qpois runLength
runValue sd seqlengths seqlevels seqnames strand<- values
Consider adding
importFrom("grDevices", "dev.off", "pdf")
importFrom("graphics", "hist", "pie", "points")
importFrom("methods", "new")
importFrom("stats", "p.adjust", "pt", "qpois", "sd")
to your NAMESPACE file (and ensure that your DESCRIPTION Imports field
contains 'methods').
* checking Rd files ... OK
* checking Rd metadata ... OK
* checking Rd cross-references ... OK
* checking for missing documentation entries ... OK
* checking for code/documentation mismatches ... OK
* checking Rd \usage sections ... OK
* checking Rd contents ... OK
* checking for unstated dependencies in examples ... OK
* checking sizes of PDF files under ‘inst/doc’ ... OK
* checking files in ‘vignettes’ ... OK
* checking examples ... OK
Examples with CPU (user + system) or elapsed time > 5s
user system elapsed
MEDIPS.meth 34.599 1.915 36.629
MEDIPS.addCNV 18.983 0.520 19.548
MEDIPS.plotSaturation 6.349 0.661 7.037
MEDIPS.saturation 6.209 0.576 6.838
* checking for unstated dependencies in vignettes ... OK
* checking package vignettes ... OK
* checking running R code from vignettes ... SKIPPED
* checking re-building of vignette outputs ... SKIPPED
* checking PDF version of manual ... OK
* DONE
Status: 1 NOTE
See
‘/Users/biocbuild/bbs-3.19-bioc/meat/MEDIPS.Rcheck/00check.log’
for details.
MEDIPS.Rcheck/00install.out
############################################################################## ############################################################################## ### ### Running command: ### ### /Library/Frameworks/R.framework/Resources/bin/R CMD INSTALL MEDIPS ### ############################################################################## ############################################################################## * installing to library ‘/Library/Frameworks/R.framework/Versions/4.4-x86_64/Resources/library’ * installing *source* package ‘MEDIPS’ ... ** using staged installation ** R ** inst ** byte-compile and prepare package for lazy loading No methods found in package ‘IRanges’ for request: ‘values’ when loading ‘MEDIPS’ ** help *** installing help indices ** building package indices ** installing vignettes ** testing if installed package can be loaded from temporary location No methods found in package ‘IRanges’ for request: ‘values’ when loading ‘MEDIPS’ ** testing if installed package can be loaded from final location No methods found in package ‘IRanges’ for request: ‘values’ when loading ‘MEDIPS’ ** testing if installed package keeps a record of temporary installation path * DONE (MEDIPS)
MEDIPS.Rcheck/MEDIPS-Ex.timings
| name | user | system | elapsed | |
| COUPLINGset-class | 0.001 | 0.000 | 0.002 | |
| MEDIPS.CpGenrich | 0.054 | 0.006 | 0.061 | |
| MEDIPS.addCNV | 18.983 | 0.520 | 19.548 | |
| MEDIPS.correlation | 1.633 | 0.120 | 1.757 | |
| MEDIPS.couplingVector | 3.519 | 0.135 | 3.665 | |
| MEDIPS.createROIset | 1.182 | 0.087 | 1.272 | |
| MEDIPS.createSet | 1.265 | 0.055 | 1.321 | |
| MEDIPS.exportWIG | 2.381 | 0.076 | 2.461 | |
| MEDIPS.getAnnotation | 0.000 | 0.000 | 0.001 | |
| MEDIPS.mergeFrames | 0.004 | 0.000 | 0.005 | |
| MEDIPS.mergeSets | 0.896 | 0.010 | 0.908 | |
| MEDIPS.meth | 34.599 | 1.915 | 36.629 | |
| MEDIPS.plotCalibrationPlot | 3.046 | 0.239 | 3.295 | |
| MEDIPS.plotSaturation | 6.349 | 0.661 | 7.037 | |
| MEDIPS.plotSeqCoverage | 2.999 | 0.193 | 3.209 | |
| MEDIPS.saturation | 6.209 | 0.576 | 6.838 | |
| MEDIPS.selectROIs | 1.659 | 0.039 | 1.710 | |
| MEDIPS.selectSig | 2.604 | 0.168 | 2.779 | |
| MEDIPS.seqCoverage | 3.040 | 0.193 | 3.240 | |
| MEDIPS.setAnnotation | 2.267 | 0.138 | 2.412 | |
| MEDIPSroiSet-class | 0.000 | 0.000 | 0.001 | |
| MEDIPSset-class | 0.000 | 0.001 | 0.000 | |