| Back to Multiple platform build/check report for BioC 3.19: simplified long | 
 | 
This page was generated on 2024-06-11 14:43 -0400 (Tue, 11 Jun 2024).
| Hostname | OS | Arch (*) | R version | Installed pkgs | 
|---|---|---|---|---|
| nebbiolo1 | Linux (Ubuntu 22.04.3 LTS) | x86_64 | 4.4.0 (2024-04-24) -- "Puppy Cup" | 4757 | 
| palomino3 | Windows Server 2022 Datacenter | x64 | 4.4.0 (2024-04-24 ucrt) -- "Puppy Cup" | 4491 | 
| lconway | macOS 12.7.1 Monterey | x86_64 | 4.4.0 (2024-04-24) -- "Puppy Cup" | 4522 | 
| kjohnson3 | macOS 13.6.5 Ventura | arm64 | 4.4.0 (2024-04-24) -- "Puppy Cup" | 4468 | 
| Click on any hostname to see more info about the system (e.g. compilers) (*) as reported by 'uname -p', except on Windows and Mac OS X | ||||
| Package 1136/2300 | Hostname | OS / Arch | INSTALL | BUILD | CHECK | BUILD BIN | ||||||||
| M3Drop 1.30.0  (landing page) Tallulah Andrews 
 | nebbiolo1 | Linux (Ubuntu 22.04.3 LTS) / x86_64 | OK | OK | OK |  | ||||||||
| palomino3 | Windows Server 2022 Datacenter / x64 | OK | OK | OK | OK |  | ||||||||
| lconway | macOS 12.7.1 Monterey / x86_64 | OK | OK | OK | OK |  | ||||||||
| kjohnson3 | macOS 13.6.5 Ventura / arm64 | OK | OK | OK | OK |  | ||||||||
| To the developers/maintainers of the M3Drop package: - Allow up to 24 hours (and sometimes 48 hours) for your latest push to git@git.bioconductor.org:packages/M3Drop.git to reflect on this report. See Troubleshooting Build Report for more information. - Use the following Renviron settings to reproduce errors and warnings. - If 'R CMD check' started to fail recently on the Linux builder(s) over a missing dependency, add the missing dependency to 'Suggests:' in your DESCRIPTION file. See Renviron.bioc for more information. | 
| Package: M3Drop | 
| Version: 1.30.0 | 
| Command: /Library/Frameworks/R.framework/Resources/bin/R CMD check --install=check:M3Drop.install-out.txt --library=/Library/Frameworks/R.framework/Resources/library --no-vignettes --timings M3Drop_1.30.0.tar.gz | 
| StartedAt: 2024-06-10 20:18:37 -0400 (Mon, 10 Jun 2024) | 
| EndedAt: 2024-06-10 20:26:49 -0400 (Mon, 10 Jun 2024) | 
| EllapsedTime: 491.9 seconds | 
| RetCode: 0 | 
| Status: OK | 
| CheckDir: M3Drop.Rcheck | 
| Warnings: 0 | 
##############################################################################
##############################################################################
###
### Running command:
###
###   /Library/Frameworks/R.framework/Resources/bin/R CMD check --install=check:M3Drop.install-out.txt --library=/Library/Frameworks/R.framework/Resources/library --no-vignettes --timings M3Drop_1.30.0.tar.gz
###
##############################################################################
##############################################################################
* using log directory ‘/Users/biocbuild/bbs-3.19-bioc/meat/M3Drop.Rcheck’
* using R version 4.4.0 (2024-04-24)
* using platform: aarch64-apple-darwin20
* R was compiled by
    Apple clang version 14.0.0 (clang-1400.0.29.202)
    GNU Fortran (GCC) 12.2.0
* running under: macOS Ventura 13.6.5
* using session charset: UTF-8
* using option ‘--no-vignettes’
* checking for file ‘M3Drop/DESCRIPTION’ ... OK
* this is package ‘M3Drop’ version ‘1.30.0’
* checking package namespace information ... OK
* checking package dependencies ... OK
* checking if this is a source package ... OK
* checking if there is a namespace ... OK
* checking for hidden files and directories ... OK
* checking for portable file names ... OK
* checking for sufficient/correct file permissions ... OK
* checking whether package ‘M3Drop’ can be installed ... OK
* checking installed package size ... OK
* checking package directory ... OK
* checking ‘build’ directory ... OK
* checking DESCRIPTION meta-information ... OK
* checking top-level files ... OK
* checking for left-over files ... OK
* checking index information ... OK
* checking package subdirectories ... OK
* checking code files for non-ASCII characters ... OK
* checking R files for syntax errors ... OK
* checking whether the package can be loaded ... OK
* checking whether the package can be loaded with stated dependencies ... OK
* checking whether the package can be unloaded cleanly ... OK
* checking whether the namespace can be loaded with stated dependencies ... OK
* checking whether the namespace can be unloaded cleanly ... OK
* checking dependencies in R code ... NOTE
Namespace in Imports field not imported from: ‘scater’
  All declared Imports should be used.
* checking S3 generic/method consistency ... OK
* checking replacement functions ... OK
* checking foreign function calls ... OK
* checking R code for possible problems ... NOTE
M3DropConvertData: no visible global function definition for ‘assays’
NBumiConvertData: no visible global function definition for ‘assays’
bg__filter_cells: no visible binding for global variable ‘x’
bg__get_extreme_residuals: no visible binding for global variable ‘x’
Undefined global functions or variables:
  assays x
* checking Rd files ... NOTE
prepare_Rd: NBumi_FSOther.Rd:8-10: Dropping empty section \usage
prepare_Rd: NBumi_TradDE.Rd:7-8: Dropping empty section \usage
* checking Rd metadata ... OK
* checking Rd cross-references ... OK
* checking for missing documentation entries ... OK
* checking for code/documentation mismatches ... OK
* checking Rd \usage sections ... OK
* checking Rd contents ... OK
* checking for unstated dependencies in examples ... OK
* checking sizes of PDF files under ‘inst/doc’ ... OK
* checking files in ‘vignettes’ ... OK
* checking examples ... OK
Examples with CPU (user + system) or elapsed time > 5s
                              user system elapsed
NewSimulations             104.453  1.422 144.747
Imputation                  45.976  0.300  64.323
M3D_getmarkers              40.092  1.000  56.148
M3D_ConverData               7.150  0.270  10.242
Brennecke_getVariableGenes   4.172  0.180   6.159
* checking for unstated dependencies in vignettes ... OK
* checking package vignettes ... OK
* checking running R code from vignettes ... SKIPPED
* checking re-building of vignette outputs ... SKIPPED
* checking PDF version of manual ... OK
* DONE
Status: 3 NOTEs
See
  ‘/Users/biocbuild/bbs-3.19-bioc/meat/M3Drop.Rcheck/00check.log’
for details.
M3Drop.Rcheck/00install.out
############################################################################## ############################################################################## ### ### Running command: ### ### /Library/Frameworks/R.framework/Resources/bin/R CMD INSTALL M3Drop ### ############################################################################## ############################################################################## * installing to library ‘/Library/Frameworks/R.framework/Versions/4.4-arm64/Resources/library’ * installing *source* package ‘M3Drop’ ... ** using staged installation ** R ** inst ** byte-compile and prepare package for lazy loading ** help *** installing help indices ** building package indices ** installing vignettes ** testing if installed package can be loaded from temporary location ** testing if installed package can be loaded from final location ** testing if installed package keeps a record of temporary installation path * DONE (M3Drop)
M3Drop.Rcheck/M3Drop-Ex.timings
| name | user | system | elapsed | |
| Brennecke_getVariableGenes | 4.172 | 0.180 | 6.159 | |
| Consensus_FS | 0.346 | 0.021 | 0.505 | |
| Fitting_Dropout_Models | 0.000 | 0.000 | 0.001 | |
| Imputation | 45.976 | 0.300 | 64.323 | |
| M3D_Clean_Data | 1.690 | 0.076 | 2.441 | |
| M3D_ConverData | 7.150 | 0.270 | 10.242 | |
| M3D_Differential_Expression | 2.710 | 0.061 | 3.911 | |
| M3D_Dropout_Models | 2.055 | 0.072 | 2.903 | |
| M3D_Expression_Heatmap | 0.528 | 0.014 | 0.765 | |
| M3D_Get_Extremes | 1.413 | 0.122 | 2.114 | |
| M3D_Get_Heatmap_Cell_Clusters | 0.460 | 0.012 | 0.590 | |
| M3D_Simulations | 0.001 | 0.000 | 0.000 | |
| M3D_Test_Shift | 1.487 | 0.046 | 1.861 | |
| M3D_ThreeSet_Venn | 0.342 | 0.008 | 0.471 | |
| M3D_TraditionalDE | 0.023 | 0.001 | 0.036 | |
| M3D_getmarkers | 40.092 | 1.000 | 56.148 | |
| M3D_horz_res | 0 | 0 | 0 | |
| NBumi_CheckFit | 1.604 | 0.070 | 2.374 | |
| NBumi_CoExpression | 2.032 | 0.062 | 2.850 | |
| NBumi_CompareModels | 3.135 | 0.107 | 4.528 | |
| NBumi_ConvertToInteger | 0.001 | 0.000 | 0.001 | |
| NBumi_ConvrtData | 0.541 | 0.025 | 0.753 | |
| NBumi_FSDrop | 1.048 | 0.033 | 1.521 | |
| NBumi_FSHighVar | 1.983 | 0.039 | 2.861 | |
| NBumi_FSOther | 0.022 | 0.001 | 0.029 | |
| NBumi_FitDisp | 0.000 | 0.001 | 0.000 | |
| NBumi_FitDispVsMean | 0.542 | 0.018 | 0.760 | |
| NBumi_FitModel | 0.880 | 0.030 | 1.249 | |
| NBumi_HVG | 0.884 | 0.033 | 1.350 | |
| NBumi_PearsonResiduals | 0.954 | 0.041 | 1.300 | |
| NBumi_TradDE | 0 | 0 | 0 | |
| NewSimulations | 104.453 | 1.422 | 144.747 | |
| Other_FS | 1.125 | 0.020 | 1.589 | |
| PoissonUMIFeatureSelectionDropouts | 0.711 | 0.035 | 0.991 | |
| bg__fit_gamma | 0 | 0 | 0 | |
| bg__get_stats | 0 | 0 | 0 | |
| bg__mean2disp | 0 | 0 | 0 | |
| bg__shift_size | 0 | 0 | 0 | |
| bg__var_vs_drop | 0 | 0 | 0 | |