| Back to Multiple platform build/check report for BioC 3.19: simplified long | 
 | 
This page was generated on 2024-10-18 20:42 -0400 (Fri, 18 Oct 2024).
| Hostname | OS | Arch (*) | R version | Installed pkgs | 
|---|---|---|---|---|
| nebbiolo1 | Linux (Ubuntu 22.04.3 LTS) | x86_64 | 4.4.1 (2024-06-14) -- "Race for Your Life" | 4763 | 
| palomino7 | Windows Server 2022 Datacenter | x64 | 4.4.1 (2024-06-14 ucrt) -- "Race for Your Life" | 4500 | 
| merida1 | macOS 12.7.5 Monterey | x86_64 | 4.4.1 (2024-06-14) -- "Race for Your Life" | 4530 | 
| kjohnson1 | macOS 13.6.6 Ventura | arm64 | 4.4.1 (2024-06-14) -- "Race for Your Life" | 4480 | 
| Click on any hostname to see more info about the system (e.g. compilers) (*) as reported by 'uname -p', except on Windows and Mac OS X | ||||
| Package 1136/2300 | Hostname | OS / Arch | INSTALL | BUILD | CHECK | BUILD BIN | ||||||||
| M3Drop 1.30.0  (landing page) Tallulah Andrews 
 | nebbiolo1 | Linux (Ubuntu 22.04.3 LTS) / x86_64 | OK | OK | OK |  | ||||||||
| palomino7 | Windows Server 2022 Datacenter / x64 | OK | OK | OK | OK |  | ||||||||
| merida1 | macOS 12.7.5 Monterey / x86_64 | OK | OK | OK | OK |  | ||||||||
| kjohnson1 | macOS 13.6.6 Ventura / arm64 | OK | OK | OK | OK |  | ||||||||
| To the developers/maintainers of the M3Drop package: - Allow up to 24 hours (and sometimes 48 hours) for your latest push to git@git.bioconductor.org:packages/M3Drop.git to reflect on this report. See Troubleshooting Build Report for more information. - Use the following Renviron settings to reproduce errors and warnings. - If 'R CMD check' started to fail recently on the Linux builder(s) over a missing dependency, add the missing dependency to 'Suggests:' in your DESCRIPTION file. See Renviron.bioc for more information. | 
| Package: M3Drop | 
| Version: 1.30.0 | 
| Command: /Library/Frameworks/R.framework/Resources/bin/R CMD check --install=check:M3Drop.install-out.txt --library=/Library/Frameworks/R.framework/Resources/library --no-vignettes --timings M3Drop_1.30.0.tar.gz | 
| StartedAt: 2024-10-18 02:18:59 -0400 (Fri, 18 Oct 2024) | 
| EndedAt: 2024-10-18 02:25:08 -0400 (Fri, 18 Oct 2024) | 
| EllapsedTime: 368.7 seconds | 
| RetCode: 0 | 
| Status: OK | 
| CheckDir: M3Drop.Rcheck | 
| Warnings: 0 | 
##############################################################################
##############################################################################
###
### Running command:
###
###   /Library/Frameworks/R.framework/Resources/bin/R CMD check --install=check:M3Drop.install-out.txt --library=/Library/Frameworks/R.framework/Resources/library --no-vignettes --timings M3Drop_1.30.0.tar.gz
###
##############################################################################
##############################################################################
* using log directory ‘/Users/biocbuild/bbs-3.19-bioc/meat/M3Drop.Rcheck’
* using R version 4.4.1 (2024-06-14)
* using platform: aarch64-apple-darwin20
* R was compiled by
    Apple clang version 14.0.0 (clang-1400.0.29.202)
    GNU Fortran (GCC) 12.2.0
* running under: macOS Ventura 13.6.6
* using session charset: UTF-8
* using option ‘--no-vignettes’
* checking for file ‘M3Drop/DESCRIPTION’ ... OK
* this is package ‘M3Drop’ version ‘1.30.0’
* checking package namespace information ... OK
* checking package dependencies ... OK
* checking if this is a source package ... OK
* checking if there is a namespace ... OK
* checking for hidden files and directories ... OK
* checking for portable file names ... OK
* checking for sufficient/correct file permissions ... OK
* checking whether package ‘M3Drop’ can be installed ... OK
* checking installed package size ... OK
* checking package directory ... OK
* checking ‘build’ directory ... OK
* checking DESCRIPTION meta-information ... OK
* checking top-level files ... OK
* checking for left-over files ... OK
* checking index information ... OK
* checking package subdirectories ... OK
* checking code files for non-ASCII characters ... OK
* checking R files for syntax errors ... OK
* checking whether the package can be loaded ... OK
* checking whether the package can be loaded with stated dependencies ... OK
* checking whether the package can be unloaded cleanly ... OK
* checking whether the namespace can be loaded with stated dependencies ... OK
* checking whether the namespace can be unloaded cleanly ... OK
* checking dependencies in R code ... NOTE
Namespace in Imports field not imported from: ‘scater’
  All declared Imports should be used.
* checking S3 generic/method consistency ... OK
* checking replacement functions ... OK
* checking foreign function calls ... OK
* checking R code for possible problems ... NOTE
M3DropConvertData: no visible global function definition for ‘assays’
NBumiConvertData: no visible global function definition for ‘assays’
bg__filter_cells: no visible binding for global variable ‘x’
bg__get_extreme_residuals: no visible binding for global variable ‘x’
Undefined global functions or variables:
  assays x
* checking Rd files ... NOTE
prepare_Rd: NBumi_FSOther.Rd:8-10: Dropping empty section \usage
prepare_Rd: NBumi_TradDE.Rd:7-8: Dropping empty section \usage
* checking Rd metadata ... OK
* checking Rd cross-references ... OK
* checking for missing documentation entries ... OK
* checking for code/documentation mismatches ... OK
* checking Rd \usage sections ... OK
* checking Rd contents ... OK
* checking for unstated dependencies in examples ... OK
* checking sizes of PDF files under ‘inst/doc’ ... OK
* checking files in ‘vignettes’ ... OK
* checking examples ... OK
Examples with CPU (user + system) or elapsed time > 5s
                  user system elapsed
NewSimulations 115.150  1.610 118.021
Imputation      54.262  0.227  55.158
M3D_getmarkers  32.854  0.951  34.368
M3D_ConverData   6.854  0.285   7.253
* checking for unstated dependencies in vignettes ... OK
* checking package vignettes ... OK
* checking running R code from vignettes ... SKIPPED
* checking re-building of vignette outputs ... SKIPPED
* checking PDF version of manual ... OK
* DONE
Status: 3 NOTEs
See
  ‘/Users/biocbuild/bbs-3.19-bioc/meat/M3Drop.Rcheck/00check.log’
for details.
M3Drop.Rcheck/00install.out
############################################################################## ############################################################################## ### ### Running command: ### ### /Library/Frameworks/R.framework/Resources/bin/R CMD INSTALL M3Drop ### ############################################################################## ############################################################################## * installing to library ‘/Library/Frameworks/R.framework/Versions/4.4-arm64/Resources/library’ * installing *source* package ‘M3Drop’ ... ** using staged installation ** R ** inst ** byte-compile and prepare package for lazy loading ** help *** installing help indices ** building package indices ** installing vignettes ** testing if installed package can be loaded from temporary location ** testing if installed package can be loaded from final location ** testing if installed package keeps a record of temporary installation path * DONE (M3Drop)
M3Drop.Rcheck/M3Drop-Ex.timings
| name | user | system | elapsed | |
| Brennecke_getVariableGenes | 4.346 | 0.241 | 4.619 | |
| Consensus_FS | 0.343 | 0.026 | 0.370 | |
| Fitting_Dropout_Models | 0.001 | 0.000 | 0.000 | |
| Imputation | 54.262 | 0.227 | 55.158 | |
| M3D_Clean_Data | 2.024 | 0.124 | 2.182 | |
| M3D_ConverData | 6.854 | 0.285 | 7.253 | |
| M3D_Differential_Expression | 2.285 | 0.152 | 2.553 | |
| M3D_Dropout_Models | 2.137 | 0.162 | 2.364 | |
| M3D_Expression_Heatmap | 0.781 | 0.012 | 0.798 | |
| M3D_Get_Extremes | 1.872 | 0.159 | 2.078 | |
| M3D_Get_Heatmap_Cell_Clusters | 0.694 | 0.011 | 0.710 | |
| M3D_Simulations | 0.000 | 0.001 | 0.000 | |
| M3D_Test_Shift | 1.392 | 0.067 | 1.477 | |
| M3D_ThreeSet_Venn | 0.575 | 0.009 | 0.587 | |
| M3D_TraditionalDE | 0.012 | 0.001 | 0.012 | |
| M3D_getmarkers | 32.854 | 0.951 | 34.368 | |
| M3D_horz_res | 0.000 | 0.001 | 0.001 | |
| NBumi_CheckFit | 1.738 | 0.105 | 1.866 | |
| NBumi_CoExpression | 1.688 | 0.110 | 1.816 | |
| NBumi_CompareModels | 1.812 | 0.189 | 2.111 | |
| NBumi_ConvertToInteger | 0.001 | 0.000 | 0.001 | |
| NBumi_ConvrtData | 0.325 | 0.013 | 0.365 | |
| NBumi_FSDrop | 1.927 | 0.086 | 2.075 | |
| NBumi_FSHighVar | 0.781 | 0.097 | 0.886 | |
| NBumi_FSOther | 0.014 | 0.001 | 0.015 | |
| NBumi_FitDisp | 0.000 | 0.000 | 0.001 | |
| NBumi_FitDispVsMean | 0.599 | 0.035 | 0.641 | |
| NBumi_FitModel | 0.827 | 0.055 | 0.889 | |
| NBumi_HVG | 0.927 | 0.108 | 1.039 | |
| NBumi_PearsonResiduals | 1.658 | 0.139 | 1.854 | |
| NBumi_TradDE | 0 | 0 | 0 | |
| NewSimulations | 115.150 | 1.610 | 118.021 | |
| Other_FS | 2.72 | 0.12 | 2.96 | |
| PoissonUMIFeatureSelectionDropouts | 0.652 | 0.079 | 0.749 | |
| bg__fit_gamma | 0 | 0 | 0 | |
| bg__get_stats | 0.000 | 0.000 | 0.001 | |
| bg__mean2disp | 0.000 | 0.001 | 0.000 | |
| bg__shift_size | 0 | 0 | 0 | |
| bg__var_vs_drop | 0.001 | 0.000 | 0.000 | |