| Back to Multiple platform build/check report for BioC 3.19: simplified long | 
 | 
This page was generated on 2024-10-18 20:38 -0400 (Fri, 18 Oct 2024).
| Hostname | OS | Arch (*) | R version | Installed pkgs | 
|---|---|---|---|---|
| nebbiolo1 | Linux (Ubuntu 22.04.3 LTS) | x86_64 | 4.4.1 (2024-06-14) -- "Race for Your Life" | 4763 | 
| palomino7 | Windows Server 2022 Datacenter | x64 | 4.4.1 (2024-06-14 ucrt) -- "Race for Your Life" | 4500 | 
| merida1 | macOS 12.7.5 Monterey | x86_64 | 4.4.1 (2024-06-14) -- "Race for Your Life" | 4530 | 
| kjohnson1 | macOS 13.6.6 Ventura | arm64 | 4.4.1 (2024-06-14) -- "Race for Your Life" | 4480 | 
| Click on any hostname to see more info about the system (e.g. compilers) (*) as reported by 'uname -p', except on Windows and Mac OS X | ||||
| Package 1134/2300 | Hostname | OS / Arch | INSTALL | BUILD | CHECK | BUILD BIN | ||||||||
| LymphoSeq 1.32.0  (landing page) David Coffey 
 | nebbiolo1 | Linux (Ubuntu 22.04.3 LTS) / x86_64 | OK | OK | OK |  | ||||||||
| palomino7 | Windows Server 2022 Datacenter / x64 | OK | OK | OK | OK |  | ||||||||
| merida1 | macOS 12.7.5 Monterey / x86_64 | OK | OK | OK | OK |  | ||||||||
| kjohnson1 | macOS 13.6.6 Ventura / arm64 | OK | OK | OK | OK |  | ||||||||
| To the developers/maintainers of the LymphoSeq package: - Allow up to 24 hours (and sometimes 48 hours) for your latest push to git@git.bioconductor.org:packages/LymphoSeq.git to reflect on this report. See Troubleshooting Build Report for more information. - Use the following Renviron settings to reproduce errors and warnings. - If 'R CMD check' started to fail recently on the Linux builder(s) over a missing dependency, add the missing dependency to 'Suggests:' in your DESCRIPTION file. See Renviron.bioc for more information. | 
| Package: LymphoSeq | 
| Version: 1.32.0 | 
| Command: /home/biocbuild/bbs-3.19-bioc/R/bin/R CMD check --install=check:LymphoSeq.install-out.txt --library=/home/biocbuild/bbs-3.19-bioc/R/site-library --timings LymphoSeq_1.32.0.tar.gz | 
| StartedAt: 2024-10-17 01:56:23 -0400 (Thu, 17 Oct 2024) | 
| EndedAt: 2024-10-17 02:00:05 -0400 (Thu, 17 Oct 2024) | 
| EllapsedTime: 222.5 seconds | 
| RetCode: 0 | 
| Status: OK | 
| CheckDir: LymphoSeq.Rcheck | 
| Warnings: 0 | 
##############################################################################
##############################################################################
###
### Running command:
###
###   /home/biocbuild/bbs-3.19-bioc/R/bin/R CMD check --install=check:LymphoSeq.install-out.txt --library=/home/biocbuild/bbs-3.19-bioc/R/site-library --timings LymphoSeq_1.32.0.tar.gz
###
##############################################################################
##############################################################################
* using log directory ‘/home/biocbuild/bbs-3.19-bioc/meat/LymphoSeq.Rcheck’
* using R version 4.4.1 (2024-06-14)
* using platform: x86_64-pc-linux-gnu
* R was compiled by
    gcc (Ubuntu 11.4.0-1ubuntu1~22.04) 11.4.0
    GNU Fortran (Ubuntu 11.4.0-1ubuntu1~22.04) 11.4.0
* running under: Ubuntu 22.04.5 LTS
* using session charset: UTF-8
* checking for file ‘LymphoSeq/DESCRIPTION’ ... OK
* this is package ‘LymphoSeq’ version ‘1.32.0’
* checking package namespace information ... OK
* checking package dependencies ... OK
* checking if this is a source package ... OK
* checking if there is a namespace ... OK
* checking for hidden files and directories ... OK
* checking for portable file names ... OK
* checking for sufficient/correct file permissions ... OK
* checking whether package ‘LymphoSeq’ can be installed ... OK
* checking installed package size ... OK
* checking package directory ... OK
* checking ‘build’ directory ... OK
* checking DESCRIPTION meta-information ... OK
* checking top-level files ... OK
* checking for left-over files ... OK
* checking index information ... OK
* checking package subdirectories ... OK
* checking code files for non-ASCII characters ... OK
* checking R files for syntax errors ... OK
* checking whether the package can be loaded ... OK
* checking whether the package can be loaded with stated dependencies ... OK
* checking whether the package can be unloaded cleanly ... OK
* checking whether the namespace can be loaded with stated dependencies ... OK
* checking whether the namespace can be unloaded cleanly ... OK
* checking loading without being on the library search path ... OK
* checking dependencies in R code ... OK
* checking S3 generic/method consistency ... OK
* checking replacement functions ... OK
* checking foreign function calls ... OK
* checking R code for possible problems ... OK
* checking Rd files ... OK
* checking Rd metadata ... OK
* checking Rd cross-references ... OK
* checking for missing documentation entries ... OK
* checking for code/documentation mismatches ... OK
* checking Rd \usage sections ... OK
* checking Rd contents ... OK
* checking for unstated dependencies in examples ... OK
* checking files in ‘vignettes’ ... OK
* checking examples ... OK
Examples with CPU (user + system) or elapsed time > 5s
                user system elapsed
cloneTrack    20.673  1.688  22.364
productiveSeq 19.166  1.344  20.510
* checking for unstated dependencies in vignettes ... OK
* checking package vignettes ... OK
* checking re-building of vignette outputs ... OK
* checking PDF version of manual ... OK
* DONE
Status: OK
LymphoSeq.Rcheck/00install.out
############################################################################## ############################################################################## ### ### Running command: ### ### /home/biocbuild/bbs-3.19-bioc/R/bin/R CMD INSTALL LymphoSeq ### ############################################################################## ############################################################################## * installing to library ‘/home/biocbuild/bbs-3.19-bioc/R/site-library’ * installing *source* package ‘LymphoSeq’ ... ** using staged installation ** R ** inst ** byte-compile and prepare package for lazy loading ** help *** installing help indices ** building package indices ** installing vignettes ** testing if installed package can be loaded from temporary location ** testing if installed package can be loaded from final location ** testing if installed package keeps a record of temporary installation path * DONE (LymphoSeq)
LymphoSeq.Rcheck/LymphoSeq-Ex.timings
| name | user | system | elapsed | |
| alignSeq | 0.668 | 0.060 | 0.735 | |
| bhattacharyyaCoefficient | 0.161 | 0.016 | 0.188 | |
| bhattacharyyaMatrix | 0.164 | 0.004 | 0.167 | |
| chordDiagramVDJ | 0.742 | 0.052 | 0.794 | |
| clonalRelatedness | 0.709 | 0.004 | 0.376 | |
| clonality | 0.043 | 0.008 | 0.050 | |
| cloneTrack | 20.673 | 1.688 | 22.364 | |
| commonSeqs | 0.131 | 0.036 | 0.167 | |
| commonSeqsBar | 1.381 | 0.168 | 1.549 | |
| commonSeqsPlot | 0.33 | 0.00 | 0.33 | |
| commonSeqsVenn | 0.703 | 0.024 | 0.711 | |
| differentialAbundance | 1.639 | 0.088 | 1.727 | |
| exportFasta | 0.175 | 0.048 | 0.223 | |
| geneFreq | 1.567 | 0.112 | 1.679 | |
| lorenzCurve | 0.781 | 0.004 | 0.785 | |
| mergeFiles | 0.064 | 0.004 | 0.068 | |
| pairwisePlot | 0.587 | 0.000 | 0.586 | |
| phyloTree | 3.458 | 0.048 | 3.506 | |
| productive | 0.053 | 0.004 | 0.057 | |
| productiveSeq | 19.166 | 1.344 | 20.510 | |
| readImmunoSeq | 0.039 | 0.004 | 0.043 | |
| removeSeq | 0.051 | 0.000 | 0.052 | |
| searchPublished | 0.136 | 0.016 | 0.152 | |
| searchSeq | 0.740 | 0.008 | 0.748 | |
| seqMatrix | 2.390 | 0.140 | 2.529 | |
| similarityMatrix | 0.148 | 0.004 | 0.152 | |
| similarityScore | 0.135 | 0.004 | 0.138 | |
| topFreq | 3.372 | 0.176 | 3.548 | |
| topSeqs | 0.142 | 0.004 | 0.147 | |
| topSeqsPlot | 0.360 | 0.008 | 0.369 | |
| uniqueSeqs | 0.185 | 0.004 | 0.189 | |