| Back to Multiple platform build/check report for BioC 3.19: simplified long | 
 | 
This page was generated on 2024-10-18 20:38 -0400 (Fri, 18 Oct 2024).
| Hostname | OS | Arch (*) | R version | Installed pkgs | 
|---|---|---|---|---|
| nebbiolo1 | Linux (Ubuntu 22.04.3 LTS) | x86_64 | 4.4.1 (2024-06-14) -- "Race for Your Life" | 4763 | 
| palomino7 | Windows Server 2022 Datacenter | x64 | 4.4.1 (2024-06-14 ucrt) -- "Race for Your Life" | 4500 | 
| merida1 | macOS 12.7.5 Monterey | x86_64 | 4.4.1 (2024-06-14) -- "Race for Your Life" | 4530 | 
| kjohnson1 | macOS 13.6.6 Ventura | arm64 | 4.4.1 (2024-06-14) -- "Race for Your Life" | 4480 | 
| Click on any hostname to see more info about the system (e.g. compilers) (*) as reported by 'uname -p', except on Windows and Mac OS X | ||||
| Package 1073/2300 | Hostname | OS / Arch | INSTALL | BUILD | CHECK | BUILD BIN | ||||||||
| IsoBayes 1.2.7  (landing page) Simone Tiberi 
 | nebbiolo1 | Linux (Ubuntu 22.04.3 LTS) / x86_64 | OK | OK | OK | |||||||||
| palomino7 | Windows Server 2022 Datacenter / x64 | OK | OK | OK | OK | |||||||||
| merida1 | macOS 12.7.5 Monterey / x86_64 | OK | OK | OK | OK | |||||||||
| kjohnson1 | macOS 13.6.6 Ventura / arm64 | OK | OK | OK | OK | |||||||||
| To the developers/maintainers of the IsoBayes package: - Allow up to 24 hours (and sometimes 48 hours) for your latest push to git@git.bioconductor.org:packages/IsoBayes.git to reflect on this report. See Troubleshooting Build Report for more information. - Use the following Renviron settings to reproduce errors and warnings. - If 'R CMD check' started to fail recently on the Linux builder(s) over a missing dependency, add the missing dependency to 'Suggests:' in your DESCRIPTION file. See Renviron.bioc for more information. | 
| Package: IsoBayes | 
| Version: 1.2.7 | 
| Command: /home/biocbuild/bbs-3.19-bioc/R/bin/R CMD check --install=check:IsoBayes.install-out.txt --library=/home/biocbuild/bbs-3.19-bioc/R/site-library --timings IsoBayes_1.2.7.tar.gz | 
| StartedAt: 2024-10-17 01:44:10 -0400 (Thu, 17 Oct 2024) | 
| EndedAt: 2024-10-17 01:50:46 -0400 (Thu, 17 Oct 2024) | 
| EllapsedTime: 395.8 seconds | 
| RetCode: 0 | 
| Status: OK | 
| CheckDir: IsoBayes.Rcheck | 
| Warnings: 0 | 
##############################################################################
##############################################################################
###
### Running command:
###
###   /home/biocbuild/bbs-3.19-bioc/R/bin/R CMD check --install=check:IsoBayes.install-out.txt --library=/home/biocbuild/bbs-3.19-bioc/R/site-library --timings IsoBayes_1.2.7.tar.gz
###
##############################################################################
##############################################################################
* using log directory ‘/home/biocbuild/bbs-3.19-bioc/meat/IsoBayes.Rcheck’
* using R version 4.4.1 (2024-06-14)
* using platform: x86_64-pc-linux-gnu
* R was compiled by
    gcc (Ubuntu 11.4.0-1ubuntu1~22.04) 11.4.0
    GNU Fortran (Ubuntu 11.4.0-1ubuntu1~22.04) 11.4.0
* running under: Ubuntu 22.04.5 LTS
* using session charset: UTF-8
* checking for file ‘IsoBayes/DESCRIPTION’ ... OK
* checking extension type ... Package
* this is package ‘IsoBayes’ version ‘1.2.7’
* checking package namespace information ... OK
* checking package dependencies ... OK
* checking if this is a source package ... OK
* checking if there is a namespace ... OK
* checking for hidden files and directories ... OK
* checking for portable file names ... OK
* checking for sufficient/correct file permissions ... OK
* checking whether package ‘IsoBayes’ can be installed ... OK
* used C++ compiler: ‘g++ (Ubuntu 11.4.0-1ubuntu1~22.04) 11.4.0’
* checking C++ specification ... OK
  Not all R platforms support C++17
* checking installed package size ... OK
* checking package directory ... OK
* checking ‘build’ directory ... OK
* checking DESCRIPTION meta-information ... OK
* checking top-level files ... NOTE
File
  LICENSE
is not mentioned in the DESCRIPTION file.
* checking for left-over files ... OK
* checking index information ... OK
* checking package subdirectories ... OK
* checking code files for non-ASCII characters ... OK
* checking R files for syntax errors ... OK
* checking whether the package can be loaded ... OK
* checking whether the package can be loaded with stated dependencies ... OK
* checking whether the package can be unloaded cleanly ... OK
* checking whether the namespace can be loaded with stated dependencies ... OK
* checking whether the namespace can be unloaded cleanly ... OK
* checking loading without being on the library search path ... OK
* checking dependencies in R code ... OK
* checking S3 generic/method consistency ... OK
* checking replacement functions ... OK
* checking foreign function calls ... OK
* checking R code for possible problems ... NOTE
input_data: no visible global function definition for ‘metadata<-’
Undefined global functions or variables:
  metadata<-
* checking Rd files ... OK
* checking Rd metadata ... OK
* checking Rd cross-references ... OK
* checking for missing documentation entries ... OK
* checking for code/documentation mismatches ... OK
* checking Rd \usage sections ... OK
* checking Rd contents ... OK
* checking for unstated dependencies in examples ... OK
* checking line endings in C/C++/Fortran sources/headers ... OK
* checking line endings in Makefiles ... OK
* checking compilation flags in Makevars ... OK
* checking for GNU extensions in Makefiles ... OK
* checking for portable use of $(BLAS_LIBS) and $(LAPACK_LIBS) ... OK
* checking use of PKG_*FLAGS in Makefiles ... OK
* checking compiled code ... NOTE
Note: information on .o files is not available
* checking files in ‘vignettes’ ... OK
* checking examples ... OK
Examples with CPU (user + system) or elapsed time > 5s
            user system elapsed
inference 44.676  1.568  46.252
* checking for unstated dependencies in ‘tests’ ... OK
* checking tests ...
  Running ‘testthat.R’
 OK
* checking for unstated dependencies in vignettes ... OK
* checking package vignettes ... OK
* checking re-building of vignette outputs ... OK
* checking PDF version of manual ... OK
* DONE
Status: 3 NOTEs
See
  ‘/home/biocbuild/bbs-3.19-bioc/meat/IsoBayes.Rcheck/00check.log’
for details.
IsoBayes.Rcheck/00install.out
############################################################################## ############################################################################## ### ### Running command: ### ### /home/biocbuild/bbs-3.19-bioc/R/bin/R CMD INSTALL IsoBayes ### ############################################################################## ############################################################################## * installing to library ‘/home/biocbuild/bbs-3.19-bioc/R/site-library’ * installing *source* package ‘IsoBayes’ ... ** using staged installation ** libs using C++ compiler: ‘g++ (Ubuntu 11.4.0-1ubuntu1~22.04) 11.4.0’ using C++17 g++ -std=gnu++17 -I"/home/biocbuild/bbs-3.19-bioc/R/include" -DNDEBUG -I'/home/biocbuild/bbs-3.19-bioc/R/site-library/Rcpp/include' -I'/home/biocbuild/bbs-3.19-bioc/R/site-library/RcppArmadillo/include' -I/usr/local/include -fopenmp -fpic -g -O2 -Wall -c MCMC.cpp -o MCMC.o g++ -std=gnu++17 -I"/home/biocbuild/bbs-3.19-bioc/R/include" -DNDEBUG -I'/home/biocbuild/bbs-3.19-bioc/R/site-library/Rcpp/include' -I'/home/biocbuild/bbs-3.19-bioc/R/site-library/RcppArmadillo/include' -I/usr/local/include -fopenmp -fpic -g -O2 -Wall -c MCMC_PEP.cpp -o MCMC_PEP.o g++ -std=gnu++17 -I"/home/biocbuild/bbs-3.19-bioc/R/include" -DNDEBUG -I'/home/biocbuild/bbs-3.19-bioc/R/site-library/Rcpp/include' -I'/home/biocbuild/bbs-3.19-bioc/R/site-library/RcppArmadillo/include' -I/usr/local/include -fopenmp -fpic -g -O2 -Wall -c MCMC_Unique.cpp -o MCMC_Unique.o g++ -std=gnu++17 -I"/home/biocbuild/bbs-3.19-bioc/R/include" -DNDEBUG -I'/home/biocbuild/bbs-3.19-bioc/R/site-library/Rcpp/include' -I'/home/biocbuild/bbs-3.19-bioc/R/site-library/RcppArmadillo/include' -I/usr/local/include -fopenmp -fpic -g -O2 -Wall -c RcppExports.cpp -o RcppExports.o g++ -std=gnu++17 -shared -L/home/biocbuild/bbs-3.19-bioc/R/lib -L/usr/local/lib -o IsoBayes.so MCMC.o MCMC_PEP.o MCMC_Unique.o RcppExports.o -fopenmp -llapack -L/home/biocbuild/bbs-3.19-bioc/R/lib -lRblas -lgfortran -lm -lquadmath -L/home/biocbuild/bbs-3.19-bioc/R/lib -lR installing to /home/biocbuild/bbs-3.19-bioc/R/site-library/00LOCK-IsoBayes/00new/IsoBayes/libs ** R ** inst ** byte-compile and prepare package for lazy loading ** help *** installing help indices ** building package indices ** installing vignettes ** testing if installed package can be loaded from temporary location ** checking absolute paths in shared objects and dynamic libraries ** testing if installed package can be loaded from final location ** testing if installed package keeps a record of temporary installation path * DONE (IsoBayes)
IsoBayes.Rcheck/tests/testthat.Rout
R version 4.4.1 (2024-06-14) -- "Race for Your Life"
Copyright (C) 2024 The R Foundation for Statistical Computing
Platform: x86_64-pc-linux-gnu
R is free software and comes with ABSOLUTELY NO WARRANTY.
You are welcome to redistribute it under certain conditions.
Type 'license()' or 'licence()' for distribution details.
R is a collaborative project with many contributors.
Type 'contributors()' for more information and
'citation()' on how to cite R or R packages in publications.
Type 'demo()' for some demos, 'help()' for on-line help, or
'help.start()' for an HTML browser interface to help.
Type 'q()' to quit R.
> library(testthat)
> library(IsoBayes)
> test_check("IsoBayes")
[ FAIL 0 | WARN 2 | SKIP 0 | PASS 10 ]
[ FAIL 0 | WARN 2 | SKIP 0 | PASS 10 ]
> 
> proc.time()
   user  system elapsed 
 92.461   4.958 137.590 
IsoBayes.Rcheck/IsoBayes-Ex.timings
| name | user | system | elapsed | |
| generate_SE | 0.775 | 0.036 | 0.813 | |
| inference | 44.676 | 1.568 | 46.252 | |
| input_data | 3.426 | 0.084 | 3.510 | |
| plot_relative_abundances | 0.084 | 0.004 | 0.088 | |
| plot_traceplot | 0.066 | 0.008 | 0.075 | |