| Back to Multiple platform build/check report for BioC 3.19: simplified long |
|
This page was generated on 2023-11-07 11:35:57 -0500 (Tue, 07 Nov 2023).
| Hostname | OS | Arch (*) | R version | Installed pkgs |
|---|---|---|---|---|
| nebbiolo1 | Linux (Ubuntu 22.04.2 LTS) | x86_64 | R Under development (unstable) (2023-10-22 r85388) -- "Unsuffered Consequences" | 4602 |
| palomino3 | Windows Server 2022 Datacenter | x64 | R Under development (unstable) (2023-10-23 r85389 ucrt) -- "Unsuffered Consequences" | 4355 |
| merida1 | macOS 12.7.1 Monterey | x86_64 | R Under development (unstable) (2023-10-31 r85450) -- "Unsuffered Consequences" | 4333 |
| Click on any hostname to see more info about the system (e.g. compilers) (*) as reported by 'uname -p', except on Windows and Mac OS X | ||||
| Package 994/2221 | Hostname | OS / Arch | INSTALL | BUILD | CHECK | BUILD BIN | ||||||||
| ImmuneSpaceR 1.31.0 (landing page) ImmuneSpace Package Maintainer
| nebbiolo1 | Linux (Ubuntu 22.04.2 LTS) / x86_64 | OK | OK | OK | |||||||||
| palomino3 | Windows Server 2022 Datacenter / x64 | OK | OK | OK | OK | |||||||||
| merida1 | macOS 12.7.1 Monterey / x86_64 | OK | OK | OK | OK | |||||||||
|
To the developers/maintainers of the ImmuneSpaceR package: - Allow up to 24 hours (and sometimes 48 hours) for your latest push to git@git.bioconductor.org:packages/ImmuneSpaceR.git to reflect on this report. See Troubleshooting Build Report for more information. - Use the following Renviron settings to reproduce errors and warnings. - If 'R CMD check' started to fail recently on the Linux builder(s) over a missing dependency, add the missing dependency to 'Suggests:' in your DESCRIPTION file. See Renviron.bioc for more information. |
| Package: ImmuneSpaceR |
| Version: 1.31.0 |
| Command: rm -rf ImmuneSpaceR.buildbin-libdir && mkdir ImmuneSpaceR.buildbin-libdir && F:\biocbuild\bbs-3.19-bioc\R\bin\R.exe CMD INSTALL --build --library=ImmuneSpaceR.buildbin-libdir ImmuneSpaceR_1.31.0.tar.gz |
| StartedAt: 2023-11-07 10:21:52 -0500 (Tue, 07 Nov 2023) |
| EndedAt: 2023-11-07 10:22:12 -0500 (Tue, 07 Nov 2023) |
| EllapsedTime: 20.0 seconds |
| RetCode: 0 |
| Status: OK |
| PackageFile: ImmuneSpaceR_1.31.0.zip |
| PackageFileSize: 787.9 KiB |
############################################################################## ############################################################################## ### ### Running command: ### ### rm -rf ImmuneSpaceR.buildbin-libdir && mkdir ImmuneSpaceR.buildbin-libdir && F:\biocbuild\bbs-3.19-bioc\R\bin\R.exe CMD INSTALL --build --library=ImmuneSpaceR.buildbin-libdir ImmuneSpaceR_1.31.0.tar.gz ### ############################################################################## ############################################################################## * installing *source* package 'ImmuneSpaceR' ... ** using staged installation ** R ** inst ** byte-compile and prepare package for lazy loading ** help *** installing help indices *** copying figures ** building package indices ** installing vignettes ** testing if installed package can be loaded from temporary location ** testing if installed package can be loaded from final location ** testing if installed package keeps a record of temporary installation path * MD5 sums packaged installation of 'ImmuneSpaceR' as ImmuneSpaceR_1.31.0.zip * DONE (ImmuneSpaceR)