| Back to Multiple platform build/check report for BioC 3.19: simplified long | 
 | 
This page was generated on 2024-10-18 20:39 -0400 (Fri, 18 Oct 2024).
| Hostname | OS | Arch (*) | R version | Installed pkgs | 
|---|---|---|---|---|
| nebbiolo1 | Linux (Ubuntu 22.04.3 LTS) | x86_64 | 4.4.1 (2024-06-14) -- "Race for Your Life" | 4763 | 
| palomino7 | Windows Server 2022 Datacenter | x64 | 4.4.1 (2024-06-14 ucrt) -- "Race for Your Life" | 4500 | 
| merida1 | macOS 12.7.5 Monterey | x86_64 | 4.4.1 (2024-06-14) -- "Race for Your Life" | 4530 | 
| kjohnson1 | macOS 13.6.6 Ventura | arm64 | 4.4.1 (2024-06-14) -- "Race for Your Life" | 4480 | 
| Click on any hostname to see more info about the system (e.g. compilers) (*) as reported by 'uname -p', except on Windows and Mac OS X | ||||
| Package 1040/2300 | Hostname | OS / Arch | INSTALL | BUILD | CHECK | BUILD BIN | ||||||||
| INSPEcT 1.34.0  (landing page) Stefano de Pretis 
 | nebbiolo1 | Linux (Ubuntu 22.04.3 LTS) / x86_64 | OK | OK | OK |  | ||||||||
| palomino7 | Windows Server 2022 Datacenter / x64 | OK | OK | OK | OK |  | ||||||||
| merida1 | macOS 12.7.5 Monterey / x86_64 | OK | OK | OK | OK |  | ||||||||
| kjohnson1 | macOS 13.6.6 Ventura / arm64 | OK | ERROR | skipped | skipped | |||||||||
| To the developers/maintainers of the INSPEcT package: - Allow up to 24 hours (and sometimes 48 hours) for your latest push to git@git.bioconductor.org:packages/INSPEcT.git to reflect on this report. See Troubleshooting Build Report for more information. - Use the following Renviron settings to reproduce errors and warnings. - If 'R CMD check' started to fail recently on the Linux builder(s) over a missing dependency, add the missing dependency to 'Suggests:' in your DESCRIPTION file. See Renviron.bioc for more information. | 
| Package: INSPEcT | 
| Version: 1.34.0 | 
| Command: E:\biocbuild\bbs-3.19-bioc\R\bin\R.exe CMD check --no-multiarch --install=check:INSPEcT.install-out.txt --library=E:\biocbuild\bbs-3.19-bioc\R\library --no-vignettes --timings INSPEcT_1.34.0.tar.gz | 
| StartedAt: 2024-10-17 02:31:32 -0400 (Thu, 17 Oct 2024) | 
| EndedAt: 2024-10-17 02:40:09 -0400 (Thu, 17 Oct 2024) | 
| EllapsedTime: 516.5 seconds | 
| RetCode: 0 | 
| Status: OK | 
| CheckDir: INSPEcT.Rcheck | 
| Warnings: 0 | 
##############################################################################
##############################################################################
###
### Running command:
###
###   E:\biocbuild\bbs-3.19-bioc\R\bin\R.exe CMD check --no-multiarch --install=check:INSPEcT.install-out.txt --library=E:\biocbuild\bbs-3.19-bioc\R\library --no-vignettes --timings INSPEcT_1.34.0.tar.gz
###
##############################################################################
##############################################################################
* using log directory 'E:/biocbuild/bbs-3.19-bioc/meat/INSPEcT.Rcheck'
* using R version 4.4.1 (2024-06-14 ucrt)
* using platform: x86_64-w64-mingw32
* R was compiled by
    gcc.exe (GCC) 13.2.0
    GNU Fortran (GCC) 13.2.0
* running under: Windows Server 2022 x64 (build 20348)
* using session charset: UTF-8
* using option '--no-vignettes'
* checking for file 'INSPEcT/DESCRIPTION' ... OK
* checking extension type ... Package
* this is package 'INSPEcT' version '1.34.0'
* checking package namespace information ... OK
* checking package dependencies ... OK
* checking if this is a source package ... OK
* checking if there is a namespace ... OK
* checking for hidden files and directories ... OK
* checking for portable file names ... OK
* checking whether package 'INSPEcT' can be installed ... OK
* checking installed package size ... NOTE
  installed size is  7.1Mb
  sub-directories of 1Mb or more:
    R      1.8Mb
    data   2.8Mb
* checking package directory ... OK
* checking 'build' directory ... OK
* checking DESCRIPTION meta-information ... OK
* checking top-level files ... OK
* checking for left-over files ... OK
* checking index information ... OK
* checking package subdirectories ... OK
* checking code files for non-ASCII characters ... OK
* checking R files for syntax errors ... OK
* checking whether the package can be loaded ... OK
* checking whether the package can be loaded with stated dependencies ... OK
* checking whether the package can be unloaded cleanly ... OK
* checking whether the namespace can be loaded with stated dependencies ... OK
* checking whether the namespace can be unloaded cleanly ... OK
* checking dependencies in R code ... OK
* checking S3 generic/method consistency ... OK
* checking replacement functions ... OK
* checking foreign function calls ... OK
* checking R code for possible problems ... NOTE
output_pars: no visible global function definition for 'plot.new'
plotSingleRNADynamic: no visible global function definition for 'lines'
Undefined global functions or variables:
  lines plot.new
Consider adding
  importFrom("graphics", "lines", "plot.new")
to your NAMESPACE file.
* checking Rd files ... OK
* checking Rd metadata ... OK
* checking Rd cross-references ... OK
* checking for missing documentation entries ... OK
* checking for code/documentation mismatches ... OK
* checking Rd \usage sections ... OK
* checking Rd contents ... OK
* checking for unstated dependencies in examples ... OK
* checking contents of 'data' directory ... OK
* checking data for non-ASCII characters ... OK
* checking data for ASCII and uncompressed saves ... OK
* checking files in 'vignettes' ... OK
* checking examples ... OK
Examples with CPU (user + system) or elapsed time > 5s
                                 user system elapsed
makeSimModel                    31.41   0.25   31.67
quantifyExpressionsFromTrCounts 18.52   0.12   18.66
newINSPEcT                      17.41   0.11   17.64
processingDelay                 15.40   0.08   15.51
compareSteadyNoNascent           9.19   0.30    9.49
makeOscillatorySimModel          7.41   0.05    7.45
* checking for unstated dependencies in vignettes ... OK
* checking package vignettes ... OK
* checking running R code from vignettes ... SKIPPED
* checking re-building of vignette outputs ... SKIPPED
* checking PDF version of manual ... OK
* DONE
Status: 2 NOTEs
See
  'E:/biocbuild/bbs-3.19-bioc/meat/INSPEcT.Rcheck/00check.log'
for details.
INSPEcT.Rcheck/00install.out
############################################################################## ############################################################################## ### ### Running command: ### ### E:\biocbuild\bbs-3.19-bioc\R\bin\R.exe CMD INSTALL INSPEcT ### ############################################################################## ############################################################################## * installing to library 'E:/biocbuild/bbs-3.19-bioc/R/library' * installing *source* package 'INSPEcT' ... ** using staged installation ** R ** data ** inst ** byte-compile and prepare package for lazy loading ** help *** installing help indices ** building package indices ** installing vignettes ** testing if installed package can be loaded from temporary location ** testing if installed package can be loaded from final location ** testing if installed package keeps a record of temporary installation path * DONE (INSPEcT)
INSPEcT.Rcheck/INSPEcT-Ex.timings
| name | user | system | elapsed | |
| AIC-INSPEcT-method | 0.21 | 0.05 | 0.26 | |
| Extract | 0.55 | 0.03 | 0.57 | |
| INSPEcT_diffsteady-class | 0 | 0 | 0 | |
| calculateRatePvals | 0.33 | 0.00 | 0.33 | |
| chisqmodel | 0.23 | 0.00 | 0.23 | |
| chisqtest | 0.24 | 0.03 | 0.27 | |
| combine | 0.31 | 0.03 | 0.34 | |
| compareSteady | 0 | 0 | 0 | |
| compareSteadyNoNascent | 9.19 | 0.30 | 9.49 | |
| convergence | 0.19 | 0.01 | 0.20 | |
| geneClass | 0.23 | 0.04 | 0.27 | |
| inHeatmap | 0.30 | 0.01 | 0.31 | |
| inspectFromPCR | 0 | 0 | 0 | |
| labeledSF | 0.22 | 0.00 | 0.22 | |
| logLik | 0.27 | 0.00 | 0.27 | |
| makeModelRates | 0.28 | 0.00 | 0.28 | |
| makeOscillatorySimModel | 7.41 | 0.05 | 7.45 | |
| makeSimDataset | 0 | 0 | 0 | |
| makeSimModel | 31.41 | 0.25 | 31.67 | |
| modelRates | 0 | 0 | 0 | |
| modelRatesNF | 0 | 0 | 0 | |
| modelSelection | 0.20 | 0.00 | 0.23 | |
| modelingParams | 0.16 | 0.00 | 0.16 | |
| nGenes | 0.14 | 0.03 | 0.17 | |
| nTpts | 0.15 | 0.01 | 0.17 | |
| newINSPEcT | 17.41 | 0.11 | 17.64 | |
| plotGene | 0.17 | 0.02 | 0.19 | |
| plotMA | 0 | 0 | 0 | |
| processingDelay | 15.40 | 0.08 | 15.51 | |
| quantifyExpressionsFromBAMs | 0 | 0 | 0 | |
| quantifyExpressionsFromTrCounts | 18.52 | 0.12 | 18.66 | |
| ratePvals | 0.25 | 0.02 | 0.27 | |
| ratesFirstGuess | 0.2 | 0.0 | 0.2 | |
| ratesFirstGuessVar | 0.16 | 0.00 | 0.15 | |
| removeModel | 0.26 | 0.00 | 0.27 | |
| rocCurve | 0 | 0 | 0 | |
| rocThresholds | 0 | 0 | 0 | |
| split | 0.24 | 0.00 | 0.23 | |
| tpts | 0.15 | 0.00 | 0.16 | |
| viewConfidenceIntervals | 0.15 | 0.00 | 0.14 | |
| viewModelRates | 0.18 | 0.00 | 0.19 | |