| Back to Multiple platform build/check report for BioC 3.19: simplified long |
|
This page was generated on 2024-05-09 11:40:57 -0400 (Thu, 09 May 2024).
| Hostname | OS | Arch (*) | R version | Installed pkgs |
|---|---|---|---|---|
| nebbiolo1 | Linux (Ubuntu 22.04.3 LTS) | x86_64 | 4.4.0 (2024-04-24) -- "Puppy Cup" | 4748 |
| palomino3 | Windows Server 2022 Datacenter | x64 | 4.4.0 (2024-04-24 ucrt) -- "Puppy Cup" | 4484 |
| lconway | macOS 12.7.1 Monterey | x86_64 | 4.4.0 (2024-04-24) -- "Puppy Cup" | 4514 |
| kunpeng2 | Linux (openEuler 22.03 LTS-SP1) | aarch64 | 4.4.0 beta (2024-04-15 r86425) -- "Puppy Cup" | 4480 |
| Click on any hostname to see more info about the system (e.g. compilers) (*) as reported by 'uname -p', except on Windows and Mac OS X | ||||
| Package 975/2300 | Hostname | OS / Arch | INSTALL | BUILD | CHECK | BUILD BIN | ||||||||
| HiLDA 1.18.0 (landing page) Zhi Yang
| nebbiolo1 | Linux (Ubuntu 22.04.3 LTS) / x86_64 | OK | OK | OK | |||||||||
| palomino3 | Windows Server 2022 Datacenter / x64 | OK | OK | OK | OK | |||||||||
| lconway | macOS 12.7.1 Monterey / x86_64 | OK | OK | OK | OK | |||||||||
| kunpeng2 | Linux (openEuler 22.03 LTS-SP1) / aarch64 | OK | OK | OK | ||||||||||
| kjohnson3 | macOS 13.6.5 Ventura / arm64 | see weekly results here | ||||||||||||
|
To the developers/maintainers of the HiLDA package: - Allow up to 24 hours (and sometimes 48 hours) for your latest push to git@git.bioconductor.org:packages/HiLDA.git to reflect on this report. See Troubleshooting Build Report for more information. - Use the following Renviron settings to reproduce errors and warnings. - If 'R CMD check' started to fail recently on the Linux builder(s) over a missing dependency, add the missing dependency to 'Suggests:' in your DESCRIPTION file. See Renviron.bioc for more information. - See Martin Grigorov's blog post for how to debug Linux ARM64 related issues on a x86_64 host. |
| Package: HiLDA |
| Version: 1.18.0 |
| Command: /home/biocbuild/R/R-beta-2024-04-15_r86425/bin/R CMD check --install=check:HiLDA.install-out.txt --library=/home/biocbuild/R/R-beta-2024-04-15_r86425/site-library --no-vignettes --timings HiLDA_1.18.0.tar.gz |
| StartedAt: 2024-05-09 08:22:20 -0000 (Thu, 09 May 2024) |
| EndedAt: 2024-05-09 08:27:08 -0000 (Thu, 09 May 2024) |
| EllapsedTime: 288.5 seconds |
| RetCode: 0 |
| Status: OK |
| CheckDir: HiLDA.Rcheck |
| Warnings: 0 |
##############################################################################
##############################################################################
###
### Running command:
###
### /home/biocbuild/R/R-beta-2024-04-15_r86425/bin/R CMD check --install=check:HiLDA.install-out.txt --library=/home/biocbuild/R/R-beta-2024-04-15_r86425/site-library --no-vignettes --timings HiLDA_1.18.0.tar.gz
###
##############################################################################
##############################################################################
* using log directory ‘/home/biocbuild/bbs-3.19-bioc/meat/HiLDA.Rcheck’
* using R version 4.4.0 beta (2024-04-15 r86425)
* using platform: aarch64-unknown-linux-gnu
* R was compiled by
gcc (GCC) 10.3.1
GNU Fortran (GCC) 10.3.1
* running under: openEuler 22.03 (LTS-SP1)
* using session charset: UTF-8
* using option ‘--no-vignettes’
* checking for file ‘HiLDA/DESCRIPTION’ ... OK
* checking extension type ... Package
* this is package ‘HiLDA’ version ‘1.18.0’
* package encoding: UTF-8
* checking package namespace information ... OK
* checking package dependencies ... OK
* checking if this is a source package ... OK
* checking if there is a namespace ... OK
* checking for hidden files and directories ... OK
* checking for portable file names ... OK
* checking for sufficient/correct file permissions ... OK
* checking whether package ‘HiLDA’ can be installed ... OK
* used C++ compiler: ‘g++ (GCC) 10.3.1’
* checking installed package size ... OK
* checking package directory ... OK
* checking ‘build’ directory ... OK
* checking DESCRIPTION meta-information ... OK
* checking top-level files ... OK
* checking for left-over files ... OK
* checking index information ... OK
* checking package subdirectories ... OK
* checking code files for non-ASCII characters ... OK
* checking R files for syntax errors ... OK
* checking whether the package can be loaded ... OK
* checking whether the package can be loaded with stated dependencies ... OK
* checking whether the package can be unloaded cleanly ... OK
* checking whether the namespace can be loaded with stated dependencies ... OK
* checking whether the namespace can be unloaded cleanly ... OK
* checking loading without being on the library search path ... OK
* checking dependencies in R code ... OK
* checking S3 generic/method consistency ... OK
* checking replacement functions ... OK
* checking foreign function calls ... OK
* checking R code for possible problems ... OK
* checking Rd files ... OK
* checking Rd metadata ... OK
* checking Rd cross-references ... OK
* checking for missing documentation entries ... OK
* checking for code/documentation mismatches ... OK
* checking Rd \usage sections ... OK
* checking Rd contents ... OK
* checking for unstated dependencies in examples ... OK
* checking line endings in C/C++/Fortran sources/headers ... OK
* checking compiled code ... NOTE
Note: information on .o files is not available
* checking files in ‘vignettes’ ... OK
* checking examples ... OK
Examples with CPU (user + system) or elapsed time > 5s
user system elapsed
hildaTest 139.973 0.212 140.546
hildaGlobalResult 57.010 0.108 57.269
hildaReadMPFile 18.671 0.506 19.235
* checking for unstated dependencies in ‘tests’ ... OK
* checking tests ...
Running ‘testthat.R’
OK
* checking for unstated dependencies in vignettes ... OK
* checking package vignettes ... OK
* checking running R code from vignettes ... SKIPPED
* checking re-building of vignette outputs ... SKIPPED
* checking PDF version of manual ... OK
* DONE
Status: 1 NOTE
See
‘/home/biocbuild/bbs-3.19-bioc/meat/HiLDA.Rcheck/00check.log’
for details.
HiLDA.Rcheck/00install.out
############################################################################## ############################################################################## ### ### Running command: ### ### /home/biocbuild/R/R-beta-2024-04-15_r86425/bin/R CMD INSTALL HiLDA ### ############################################################################## ############################################################################## * installing to library ‘/home/biocbuild/R/R-beta-2024-04-15_r86425/site-library’ * installing *source* package ‘HiLDA’ ... ** using staged installation ** libs using C++ compiler: ‘g++ (GCC) 10.3.1’ g++ -std=gnu++17 -I"/home/biocbuild/R/R-beta-2024-04-15_r86425/include" -DNDEBUG -I'/home/biocbuild/R/R-beta-2024-04-15_r86425/site-library/Rcpp/include' -I/usr/local/include -fPIC -g -O2 -Wall -c EMalgorithm.cpp -o EMalgorithm.o g++ -std=gnu++17 -I"/home/biocbuild/R/R-beta-2024-04-15_r86425/include" -DNDEBUG -I'/home/biocbuild/R/R-beta-2024-04-15_r86425/site-library/Rcpp/include' -I/usr/local/include -fPIC -g -O2 -Wall -c RcppExports.cpp -o RcppExports.o g++ -std=gnu++17 -I"/home/biocbuild/R/R-beta-2024-04-15_r86425/include" -DNDEBUG -I'/home/biocbuild/R/R-beta-2024-04-15_r86425/site-library/Rcpp/include' -I/usr/local/include -fPIC -g -O2 -Wall -c checkBoundary.cpp -o checkBoundary.o g++ -std=gnu++17 -I"/home/biocbuild/R/R-beta-2024-04-15_r86425/include" -DNDEBUG -I'/home/biocbuild/R/R-beta-2024-04-15_r86425/site-library/Rcpp/include' -I/usr/local/include -fPIC -g -O2 -Wall -c convertFromToVector.cpp -o convertFromToVector.o g++ -std=gnu++17 -shared -L/home/biocbuild/R/R-beta-2024-04-15_r86425/lib -L/usr/local/lib -o HiLDA.so EMalgorithm.o RcppExports.o checkBoundary.o convertFromToVector.o -L/home/biocbuild/R/R-beta-2024-04-15_r86425/lib -lR installing to /home/biocbuild/R/R-beta-2024-04-15_r86425/site-library/00LOCK-HiLDA/00new/HiLDA/libs ** R ** inst ** byte-compile and prepare package for lazy loading ** help *** installing help indices ** building package indices ** installing vignettes ** testing if installed package can be loaded from temporary location ** checking absolute paths in shared objects and dynamic libraries ** testing if installed package can be loaded from final location ** testing if installed package keeps a record of temporary installation path * DONE (HiLDA)
HiLDA.Rcheck/tests/testthat.Rout
R version 4.4.0 beta (2024-04-15 r86425) -- "Puppy Cup"
Copyright (C) 2024 The R Foundation for Statistical Computing
Platform: aarch64-unknown-linux-gnu
R is free software and comes with ABSOLUTELY NO WARRANTY.
You are welcome to redistribute it under certain conditions.
Type 'license()' or 'licence()' for distribution details.
R is a collaborative project with many contributors.
Type 'contributors()' for more information and
'citation()' on how to cite R or R packages in publications.
Type 'demo()' for some demos, 'help()' for on-line help, or
'help.start()' for an HTML browser interface to help.
Type 'q()' to quit R.
> library(testthat)
> library(HiLDA)
Loading required package: ggplot2
>
> test_check("HiLDA")
#trial: 1; #iteration: 38; time(s): 0.10; convergence: TRUE; loglikelihood: -8202.3184
#trial: 2; #iteration: 16; time(s): 0.04; convergence: TRUE; loglikelihood: -8202.3188
#trial: 3; #iteration: 15; time(s): 0.03; convergence: TRUE; loglikelihood: -8202.3183
#trial: 4; #iteration: 12; time(s): 0.03; convergence: TRUE; loglikelihood: -8202.3187
#trial: 5; #iteration: 16; time(s): 0.04; convergence: TRUE; loglikelihood: -8202.3185
#trial: 6; #iteration: 20; time(s): 0.05; convergence: TRUE; loglikelihood: -8202.3185
#trial: 7; #iteration: 41; time(s): 0.08; convergence: TRUE; loglikelihood: -8202.3184
#trial: 8; #iteration: 18; time(s): 0.05; convergence: TRUE; loglikelihood: -8202.3184
#trial: 9; #iteration: 20; time(s): 0.05; convergence: TRUE; loglikelihood: -8202.3186
#trial: 10; #iteration: 20; time(s): 0.05; convergence: TRUE; loglikelihood: -8202.3320
[ FAIL 0 | WARN 2 | SKIP 0 | PASS 4 ]
[ FAIL 0 | WARN 2 | SKIP 0 | PASS 4 ]
>
> proc.time()
user system elapsed
3.038 0.152 3.179
HiLDA.Rcheck/HiLDA-Ex.timings
| name | user | system | elapsed | |
| hildaBarplot | 1.525 | 0.040 | 1.572 | |
| hildaDiffPlot | 1.146 | 0.032 | 1.180 | |
| hildaGlobalResult | 57.010 | 0.108 | 57.269 | |
| hildaLocalResult | 0.018 | 0.000 | 0.018 | |
| hildaPlotSignature | 0.681 | 0.000 | 0.683 | |
| hildaReadMPFile | 18.671 | 0.506 | 19.235 | |
| hildaRhat | 0.018 | 0.000 | 0.018 | |
| hildaTest | 139.973 | 0.212 | 140.546 | |
| pmBarplot | 1.636 | 0.048 | 1.687 | |
| pmMultiBarplot | 1.661 | 0.016 | 1.680 | |
| pmPlotSignature | 1.135 | 0.024 | 1.166 | |
| pmgetSignature | 0.431 | 0.004 | 0.436 | |
| visPMS | 0.660 | 0.004 | 0.666 | |