| Back to Multiple platform build/check report for BioC 3.19: simplified long |
|
This page was generated on 2024-10-18 20:42 -0400 (Fri, 18 Oct 2024).
| Hostname | OS | Arch (*) | R version | Installed pkgs |
|---|---|---|---|---|
| nebbiolo1 | Linux (Ubuntu 22.04.3 LTS) | x86_64 | 4.4.1 (2024-06-14) -- "Race for Your Life" | 4763 |
| palomino7 | Windows Server 2022 Datacenter | x64 | 4.4.1 (2024-06-14 ucrt) -- "Race for Your Life" | 4500 |
| merida1 | macOS 12.7.5 Monterey | x86_64 | 4.4.1 (2024-06-14) -- "Race for Your Life" | 4530 |
| kjohnson1 | macOS 13.6.6 Ventura | arm64 | 4.4.1 (2024-06-14) -- "Race for Your Life" | 4480 |
| Click on any hostname to see more info about the system (e.g. compilers) (*) as reported by 'uname -p', except on Windows and Mac OS X | ||||
| Package 964/2300 | Hostname | OS / Arch | INSTALL | BUILD | CHECK | BUILD BIN | ||||||||
| HiCDCPlus 1.12.0 (landing page) Merve Sahin
| nebbiolo1 | Linux (Ubuntu 22.04.3 LTS) / x86_64 | OK | OK | OK | |||||||||
| palomino7 | Windows Server 2022 Datacenter / x64 | OK | OK | OK | OK | |||||||||
| merida1 | macOS 12.7.5 Monterey / x86_64 | OK | OK | OK | OK | |||||||||
| kjohnson1 | macOS 13.6.6 Ventura / arm64 | OK | OK | OK | OK | |||||||||
|
To the developers/maintainers of the HiCDCPlus package: - Allow up to 24 hours (and sometimes 48 hours) for your latest push to git@git.bioconductor.org:packages/HiCDCPlus.git to reflect on this report. See Troubleshooting Build Report for more information. - Use the following Renviron settings to reproduce errors and warnings. - If 'R CMD check' started to fail recently on the Linux builder(s) over a missing dependency, add the missing dependency to 'Suggests:' in your DESCRIPTION file. See Renviron.bioc for more information. |
| Package: HiCDCPlus |
| Version: 1.12.0 |
| Command: /Library/Frameworks/R.framework/Resources/bin/R CMD check --install=check:HiCDCPlus.install-out.txt --library=/Library/Frameworks/R.framework/Resources/library --no-vignettes --timings HiCDCPlus_1.12.0.tar.gz |
| StartedAt: 2024-10-18 00:29:45 -0400 (Fri, 18 Oct 2024) |
| EndedAt: 2024-10-18 00:36:32 -0400 (Fri, 18 Oct 2024) |
| EllapsedTime: 407.1 seconds |
| RetCode: 0 |
| Status: OK |
| CheckDir: HiCDCPlus.Rcheck |
| Warnings: 0 |
##############################################################################
##############################################################################
###
### Running command:
###
### /Library/Frameworks/R.framework/Resources/bin/R CMD check --install=check:HiCDCPlus.install-out.txt --library=/Library/Frameworks/R.framework/Resources/library --no-vignettes --timings HiCDCPlus_1.12.0.tar.gz
###
##############################################################################
##############################################################################
* using log directory ‘/Users/biocbuild/bbs-3.19-bioc/meat/HiCDCPlus.Rcheck’
* using R version 4.4.1 (2024-06-14)
* using platform: aarch64-apple-darwin20
* R was compiled by
Apple clang version 14.0.0 (clang-1400.0.29.202)
GNU Fortran (GCC) 12.2.0
* running under: macOS Ventura 13.6.6
* using session charset: UTF-8
* using option ‘--no-vignettes’
* checking for file ‘HiCDCPlus/DESCRIPTION’ ... OK
* checking extension type ... Package
* this is package ‘HiCDCPlus’ version ‘1.12.0’
* package encoding: UTF-8
* checking package namespace information ... OK
* checking package dependencies ... OK
* checking if this is a source package ... OK
* checking if there is a namespace ... OK
* checking for hidden files and directories ... OK
* checking for portable file names ... OK
* checking for sufficient/correct file permissions ... OK
* checking whether package ‘HiCDCPlus’ can be installed ... OK
* used C++ compiler: ‘Apple clang version 15.0.0 (clang-1500.0.40.1)’
* used SDK: ‘MacOSX11.3.sdk’
* checking C++ specification ... NOTE
Specified C++11: please drop specification unless essential
* checking installed package size ... OK
* checking package directory ... OK
* checking ‘build’ directory ... OK
* checking DESCRIPTION meta-information ... OK
* checking top-level files ... OK
* checking for left-over files ... OK
* checking index information ... OK
* checking package subdirectories ... OK
* checking code files for non-ASCII characters ... OK
* checking R files for syntax errors ... OK
* checking whether the package can be loaded ... OK
* checking whether the package can be loaded with stated dependencies ... OK
* checking whether the package can be unloaded cleanly ... OK
* checking whether the namespace can be loaded with stated dependencies ... OK
* checking whether the namespace can be unloaded cleanly ... OK
* checking dependencies in R code ... OK
* checking S3 generic/method consistency ... OK
* checking replacement functions ... OK
* checking foreign function calls ... OK
* checking R code for possible problems ... OK
* checking Rd files ... OK
* checking Rd metadata ... OK
* checking Rd cross-references ... OK
* checking for missing documentation entries ... OK
* checking for code/documentation mismatches ... OK
* checking Rd \usage sections ... OK
* checking Rd contents ... OK
* checking for unstated dependencies in examples ... OK
* checking line endings in C/C++/Fortran sources/headers ... OK
* checking line endings in Makefiles ... OK
* checking compilation flags in Makevars ... OK
* checking for GNU extensions in Makefiles ... OK
* checking for portable use of $(BLAS_LIBS) and $(LAPACK_LIBS) ... OK
* checking use of PKG_*FLAGS in Makefiles ... OK
* checking compiled code ... NOTE
Note: information on .o files is not available
* checking files in ‘vignettes’ ... OK
* checking examples ... OK
Examples with CPU (user + system) or elapsed time > 5s
user system elapsed
construct_features 11.326 2.260 13.696
construct_features_chr 8.557 2.634 11.299
HTClist2gi_list 9.347 0.524 10.256
HiCDCPlus_parallel 0.540 0.055 17.858
construct_features_parallel 0.015 0.011 27.512
* checking for unstated dependencies in ‘tests’ ... OK
* checking tests ...
Running ‘runTests.R’
OK
* checking for unstated dependencies in vignettes ... OK
* checking package vignettes ... OK
* checking running R code from vignettes ... SKIPPED
* checking re-building of vignette outputs ... SKIPPED
* checking PDF version of manual ... OK
* DONE
Status: 2 NOTEs
See
‘/Users/biocbuild/bbs-3.19-bioc/meat/HiCDCPlus.Rcheck/00check.log’
for details.
HiCDCPlus.Rcheck/00install.out
############################################################################## ############################################################################## ### ### Running command: ### ### /Library/Frameworks/R.framework/Resources/bin/R CMD INSTALL HiCDCPlus ### ############################################################################## ############################################################################## * installing to library ‘/Library/Frameworks/R.framework/Versions/4.4-arm64/Resources/library’ * installing *source* package ‘HiCDCPlus’ ... ** using staged installation ** libs using C++ compiler: ‘Apple clang version 15.0.0 (clang-1500.0.40.1)’ using C++11 using SDK: ‘MacOSX11.3.sdk’ clang++ -arch arm64 -std=gnu++11 -I"/Library/Frameworks/R.framework/Resources/include" -DNDEBUG -I'/Library/Frameworks/R.framework/Versions/4.4-arm64/Resources/library/Rcpp/include' -I/opt/R/arm64/include -fPIC -falign-functions=64 -Wall -g -O2 -c RcppExports.cpp -o RcppExports.o clang++ -arch arm64 -std=gnu++11 -I"/Library/Frameworks/R.framework/Resources/include" -DNDEBUG -I'/Library/Frameworks/R.framework/Versions/4.4-arm64/Resources/library/Rcpp/include' -I/opt/R/arm64/include -fPIC -falign-functions=64 -Wall -g -O2 -c straw.cpp -o straw.o clang++ -arch arm64 -std=gnu++11 -dynamiclib -Wl,-headerpad_max_install_names -undefined dynamic_lookup -L/Library/Frameworks/R.framework/Resources/lib -L/opt/R/arm64/lib -o HiCDCPlus.so RcppExports.o straw.o -lz -F/Library/Frameworks/R.framework/.. -framework R -Wl,-framework -Wl,CoreFoundation installing to /Library/Frameworks/R.framework/Versions/4.4-arm64/Resources/library/00LOCK-HiCDCPlus/00new/HiCDCPlus/libs ** R ** inst ** byte-compile and prepare package for lazy loading ** help *** installing help indices *** copying figures ** building package indices ** installing vignettes ** testing if installed package can be loaded from temporary location ** checking absolute paths in shared objects and dynamic libraries ** testing if installed package can be loaded from final location ** testing if installed package keeps a record of temporary installation path * DONE (HiCDCPlus)
HiCDCPlus.Rcheck/tests/runTests.Rout
R version 4.4.1 (2024-06-14) -- "Race for Your Life"
Copyright (C) 2024 The R Foundation for Statistical Computing
Platform: aarch64-apple-darwin20
R is free software and comes with ABSOLUTELY NO WARRANTY.
You are welcome to redistribute it under certain conditions.
Type 'license()' or 'licence()' for distribution details.
R is a collaborative project with many contributors.
Type 'contributors()' for more information and
'citation()' on how to cite R or R packages in publications.
Type 'demo()' for some demos, 'help()' for on-line help, or
'help.start()' for an HTML browser interface to help.
Type 'q()' to quit R.
> BiocGenerics:::testPackage("HiCDCPlus")
Loading required package: BSgenome
Loading required package: BiocGenerics
Attaching package: 'BiocGenerics'
The following objects are masked from 'package:stats':
IQR, mad, sd, var, xtabs
The following objects are masked from 'package:base':
Filter, Find, Map, Position, Reduce, anyDuplicated, aperm, append,
as.data.frame, basename, cbind, colnames, dirname, do.call,
duplicated, eval, evalq, get, grep, grepl, intersect, is.unsorted,
lapply, mapply, match, mget, order, paste, pmax, pmax.int, pmin,
pmin.int, rank, rbind, rownames, sapply, setdiff, table, tapply,
union, unique, unsplit, which.max, which.min
Loading required package: S4Vectors
Loading required package: stats4
Attaching package: 'S4Vectors'
The following object is masked from 'package:utils':
findMatches
The following objects are masked from 'package:base':
I, expand.grid, unname
Loading required package: IRanges
Loading required package: GenomeInfoDb
Loading required package: GenomicRanges
Loading required package: Biostrings
Loading required package: XVector
Attaching package: 'Biostrings'
The following object is masked from 'package:base':
strsplit
Loading required package: BiocIO
Loading required package: rtracklayer
Attaching package: 'rtracklayer'
The following object is masked from 'package:BiocIO':
FileForFormat
RUNIT TEST PROTOCOL -- Fri Oct 18 00:36:20 2024
***********************************************
Number of test functions: 1
Number of errors: 0
Number of failures: 0
1 Test Suite :
HiCDCPlus RUnit Tests - 1 test function, 0 errors, 0 failures
Number of test functions: 1
Number of errors: 0
Number of failures: 0
>
> proc.time()
user system elapsed
13.719 0.785 15.051
HiCDCPlus.Rcheck/HiCDCPlus-Ex.timings
| name | user | system | elapsed | |
| HTClist2gi_list | 9.347 | 0.524 | 10.256 | |
| HiCDCPlus | 2.489 | 0.094 | 2.602 | |
| HiCDCPlus_chr | 2.329 | 0.082 | 2.426 | |
| HiCDCPlus_parallel | 0.540 | 0.055 | 17.858 | |
| add_1D_features | 0.084 | 0.001 | 0.090 | |
| add_2D_features | 0.445 | 0.019 | 0.489 | |
| add_hic_counts | 0.509 | 0.029 | 0.548 | |
| construct_features | 11.326 | 2.260 | 13.696 | |
| construct_features_chr | 8.557 | 2.634 | 11.299 | |
| construct_features_parallel | 0.015 | 0.011 | 27.512 | |
| expand_1D_features | 0.092 | 0.002 | 0.096 | |
| extract_hic_eigenvectors | 2.852 | 0.367 | 3.163 | |
| generate_binned_gi_list | 0.313 | 0.031 | 0.348 | |
| generate_bintolen_gi_list | 0.449 | 0.025 | 0.475 | |
| generate_df_gi_list | 0.298 | 0.016 | 0.315 | |
| get_chr_sizes | 0.252 | 0.018 | 0.271 | |
| get_chrs | 0.272 | 0.016 | 0.290 | |
| get_enzyme_cutsites | 2.626 | 0.079 | 2.746 | |
| gi_list2HTClist | 0.521 | 0.040 | 0.563 | |
| gi_list_Dthreshold.detect | 0.301 | 0.027 | 0.335 | |
| gi_list_binsize_detect | 0.303 | 0.026 | 0.330 | |
| gi_list_read | 0.394 | 0.028 | 0.422 | |
| gi_list_topdom | 2.335 | 0.351 | 2.530 | |
| gi_list_validate | 0.290 | 0.019 | 0.309 | |
| gi_list_write | 0.320 | 0.022 | 0.343 | |
| hic2icenorm_gi_list | 1.198 | 0.448 | 1.661 | |
| hicdc2hic | 3.090 | 0.350 | 2.767 | |
| hicdcdiff | 3.083 | 0.295 | 3.396 | |