| Back to Multiple platform build/check report for BioC 3.19: simplified long |
|
This page was generated on 2024-10-18 20:38 -0400 (Fri, 18 Oct 2024).
| Hostname | OS | Arch (*) | R version | Installed pkgs |
|---|---|---|---|---|
| nebbiolo1 | Linux (Ubuntu 22.04.3 LTS) | x86_64 | 4.4.1 (2024-06-14) -- "Race for Your Life" | 4763 |
| palomino7 | Windows Server 2022 Datacenter | x64 | 4.4.1 (2024-06-14 ucrt) -- "Race for Your Life" | 4500 |
| merida1 | macOS 12.7.5 Monterey | x86_64 | 4.4.1 (2024-06-14) -- "Race for Your Life" | 4530 |
| kjohnson1 | macOS 13.6.6 Ventura | arm64 | 4.4.1 (2024-06-14) -- "Race for Your Life" | 4480 |
| Click on any hostname to see more info about the system (e.g. compilers) (*) as reported by 'uname -p', except on Windows and Mac OS X | ||||
| Package 962/2300 | Hostname | OS / Arch | INSTALL | BUILD | CHECK | BUILD BIN | ||||||||
| HiCBricks 1.22.0 (landing page) Koustav Pal
| nebbiolo1 | Linux (Ubuntu 22.04.3 LTS) / x86_64 | OK | OK | OK | |||||||||
| palomino7 | Windows Server 2022 Datacenter / x64 | OK | OK | OK | OK | |||||||||
| merida1 | macOS 12.7.5 Monterey / x86_64 | OK | OK | OK | OK | |||||||||
| kjohnson1 | macOS 13.6.6 Ventura / arm64 | OK | OK | OK | OK | |||||||||
|
To the developers/maintainers of the HiCBricks package: - Allow up to 24 hours (and sometimes 48 hours) for your latest push to git@git.bioconductor.org:packages/HiCBricks.git to reflect on this report. See Troubleshooting Build Report for more information. - Use the following Renviron settings to reproduce errors and warnings. - If 'R CMD check' started to fail recently on the Linux builder(s) over a missing dependency, add the missing dependency to 'Suggests:' in your DESCRIPTION file. See Renviron.bioc for more information. |
| Package: HiCBricks |
| Version: 1.22.0 |
| Command: /home/biocbuild/bbs-3.19-bioc/R/bin/R CMD check --install=check:HiCBricks.install-out.txt --library=/home/biocbuild/bbs-3.19-bioc/R/site-library --timings HiCBricks_1.22.0.tar.gz |
| StartedAt: 2024-10-17 01:22:23 -0400 (Thu, 17 Oct 2024) |
| EndedAt: 2024-10-17 01:26:08 -0400 (Thu, 17 Oct 2024) |
| EllapsedTime: 224.5 seconds |
| RetCode: 0 |
| Status: OK |
| CheckDir: HiCBricks.Rcheck |
| Warnings: 0 |
##############################################################################
##############################################################################
###
### Running command:
###
### /home/biocbuild/bbs-3.19-bioc/R/bin/R CMD check --install=check:HiCBricks.install-out.txt --library=/home/biocbuild/bbs-3.19-bioc/R/site-library --timings HiCBricks_1.22.0.tar.gz
###
##############################################################################
##############################################################################
* using log directory ‘/home/biocbuild/bbs-3.19-bioc/meat/HiCBricks.Rcheck’
* using R version 4.4.1 (2024-06-14)
* using platform: x86_64-pc-linux-gnu
* R was compiled by
gcc (Ubuntu 11.4.0-1ubuntu1~22.04) 11.4.0
GNU Fortran (Ubuntu 11.4.0-1ubuntu1~22.04) 11.4.0
* running under: Ubuntu 22.04.5 LTS
* using session charset: UTF-8
* checking for file ‘HiCBricks/DESCRIPTION’ ... OK
* checking extension type ... Package
* this is package ‘HiCBricks’ version ‘1.22.0’
* package encoding: UTF-8
* checking package namespace information ... OK
* checking package dependencies ... OK
* checking if this is a source package ... OK
* checking if there is a namespace ... OK
* checking for hidden files and directories ... OK
* checking for portable file names ... OK
* checking for sufficient/correct file permissions ... OK
* checking whether package ‘HiCBricks’ can be installed ... OK
* checking installed package size ... OK
* checking package directory ... OK
* checking ‘build’ directory ... OK
* checking DESCRIPTION meta-information ... OK
* checking top-level files ... OK
* checking for left-over files ... OK
* checking index information ... OK
* checking package subdirectories ... OK
* checking code files for non-ASCII characters ... OK
* checking R files for syntax errors ... OK
* checking whether the package can be loaded ... OK
* checking whether the package can be loaded with stated dependencies ... OK
* checking whether the package can be unloaded cleanly ... OK
* checking whether the namespace can be loaded with stated dependencies ... OK
* checking whether the namespace can be unloaded cleanly ... OK
* checking loading without being on the library search path ... OK
* checking dependencies in R code ... OK
* checking S3 generic/method consistency ... OK
* checking replacement functions ... OK
* checking foreign function calls ... OK
* checking R code for possible problems ... OK
* checking Rd files ... OK
* checking Rd metadata ... OK
* checking Rd cross-references ... OK
* checking for missing documentation entries ... OK
* checking for code/documentation mismatches ... OK
* checking Rd \usage sections ... OK
* checking Rd contents ... OK
* checking for unstated dependencies in examples ... OK
* checking files in ‘vignettes’ ... OK
* checking examples ... OK
* checking for unstated dependencies in vignettes ... OK
* checking package vignettes ... OK
* checking re-building of vignette outputs ... OK
* checking PDF version of manual ... OK
* DONE
Status: OK
HiCBricks.Rcheck/00install.out
############################################################################## ############################################################################## ### ### Running command: ### ### /home/biocbuild/bbs-3.19-bioc/R/bin/R CMD INSTALL HiCBricks ### ############################################################################## ############################################################################## * installing to library ‘/home/biocbuild/bbs-3.19-bioc/R/site-library’ * installing *source* package ‘HiCBricks’ ... ** using staged installation ** R ** inst ** byte-compile and prepare package for lazy loading ** help *** installing help indices ** building package indices ** installing vignettes ** testing if installed package can be loaded from temporary location ** testing if installed package can be loaded from final location ** testing if installed package keeps a record of temporary installation path * DONE (HiCBricks)
HiCBricks.Rcheck/HiCBricks-Ex.timings
| name | user | system | elapsed | |
| BrickContainer_change_experiment_name | 1.063 | 0.021 | 1.103 | |
| BrickContainer_change_output_directory | 0.887 | 0.040 | 0.927 | |
| BrickContainer_get_path_to_file | 0.752 | 0.016 | 0.768 | |
| BrickContainer_list_chromosomes | 0.721 | 0.012 | 0.733 | |
| BrickContainer_list_experiment_name | 0.692 | 0.008 | 0.701 | |
| BrickContainer_list_files | 0.703 | 0.028 | 0.730 | |
| BrickContainer_list_output_directory | 0.683 | 0.040 | 0.723 | |
| BrickContainer_list_resolutions | 0.707 | 0.015 | 0.722 | |
| BrickContainer_unlink_resolution | 1.513 | 0.016 | 1.528 | |
| Brick_add_ranges | 1.678 | 0.056 | 1.734 | |
| Brick_call_compartments | 1.266 | 0.068 | 1.336 | |
| Brick_export_to_sparse | 2.228 | 0.068 | 2.296 | |
| Brick_fetch_range_index | 0.907 | 0.036 | 0.942 | |
| Brick_fetch_row_vector | 1.359 | 0.072 | 1.431 | |
| Brick_get_bintable | 0.806 | 0.012 | 0.819 | |
| Brick_get_chrominfo | 0.803 | 0.024 | 0.826 | |
| Brick_get_entire_matrix | 1.095 | 0.044 | 1.139 | |
| Brick_get_matrix | 1.637 | 0.068 | 1.705 | |
| Brick_get_matrix_mcols | 1.208 | 0.036 | 1.243 | |
| Brick_get_matrix_within_coords | 1.628 | 0.024 | 1.652 | |
| Brick_get_ranges | 0.888 | 0.024 | 0.912 | |
| Brick_get_values_by_distance | 1.281 | 0.063 | 1.343 | |
| Brick_get_vector_values | 1.190 | 0.028 | 1.218 | |
| Brick_list_matrices | 0.815 | 0.008 | 0.823 | |
| Brick_list_matrix_mcols | 0.841 | 0.048 | 0.888 | |
| Brick_list_mcool_normalisations | 0.001 | 0.000 | 0.001 | |
| Brick_list_mcool_resolutions | 0.001 | 0.000 | 0.001 | |
| Brick_list_rangekeys | 0.825 | 0.016 | 0.841 | |
| Brick_list_ranges_mcols | 0.864 | 0.023 | 0.886 | |
| Brick_load_cis_matrix_till_distance | 1.078 | 0.016 | 1.095 | |
| Brick_load_data_from_mcool | 0 | 0 | 0 | |
| Brick_load_data_from_sparse | 0 | 0 | 0 | |
| Brick_load_matrix | 1.182 | 0.070 | 1.252 | |
| Brick_local_score_differentiator | 1.869 | 0.128 | 1.999 | |
| Brick_make_ranges | 0.011 | 0.000 | 0.010 | |
| Brick_matrix_dimensions | 1.233 | 0.068 | 1.301 | |
| Brick_matrix_exists | 1.132 | 0.024 | 1.155 | |
| Brick_matrix_filename | 1.283 | 0.076 | 1.359 | |
| Brick_matrix_isdone | 1.183 | 0.048 | 1.231 | |
| Brick_matrix_issparse | 1.251 | 0.036 | 1.286 | |
| Brick_matrix_maxdist | 1.311 | 0.020 | 1.331 | |
| Brick_matrix_minmax | 1.254 | 0.048 | 1.302 | |
| Brick_mcool_normalisation_exists | 0 | 0 | 0 | |
| Brick_rangekey_exists | 0.884 | 0.032 | 0.916 | |
| Brick_return_region_position | 0.923 | 0.012 | 0.934 | |
| Brick_vizart_plot_heatmap | 2.156 | 0.048 | 2.204 | |
| Create_many_Bricks | 0.821 | 0.036 | 0.857 | |
| Create_many_Bricks_from_mcool | 0 | 0 | 0 | |
| load_BrickContainer | 0.889 | 0.016 | 0.905 | |