| Back to Multiple platform build/check report for BioC 3.19: simplified long | 
 | 
This page was generated on 2024-03-06 11:37:39 -0500 (Wed, 06 Mar 2024).
| Hostname | OS | Arch (*) | R version | Installed pkgs | 
|---|---|---|---|---|
| nebbiolo1 | Linux (Ubuntu 22.04.3 LTS) | x86_64 | R Under development (unstable) (2024-01-16 r85808) -- "Unsuffered Consequences" | 4682 | 
| palomino3 | Windows Server 2022 Datacenter | x64 | R Under development (unstable) (2024-01-14 r85805 ucrt) -- "Unsuffered Consequences" | 4421 | 
| lconway | macOS 12.7.1 Monterey | x86_64 | R Under development (unstable) (2024-03-04 r86048) -- "Unsuffered Consequences" | 4380 | 
| kunpeng2 | Linux (openEuler 22.03 LTS-SP1) | aarch64 | R Under development (unstable) (2024-01-16 r85812) -- "Unsuffered Consequences" | 4423 | 
| Click on any hostname to see more info about the system (e.g. compilers) (*) as reported by 'uname -p', except on Windows and Mac OS X | ||||
| Package 969/2255 | Hostname | OS / Arch | INSTALL | BUILD | CHECK | BUILD BIN | ||||||||
| HTqPCR 1.57.0  (landing page) Heidi Dvinge 
 | nebbiolo1 | Linux (Ubuntu 22.04.3 LTS) / x86_64 | OK | OK | OK |  | ||||||||
| palomino3 | Windows Server 2022 Datacenter / x64 | OK | OK | OK | OK |  | ||||||||
| lconway | macOS 12.7.1 Monterey / x86_64 | OK | ERROR | skipped | skipped | |||||||||
| kunpeng2 | Linux (openEuler 22.03 LTS-SP1) / aarch64 | OK | OK | OK | ||||||||||
| To the developers/maintainers of the HTqPCR package: - Allow up to 24 hours (and sometimes 48 hours) for your latest push to git@git.bioconductor.org:packages/HTqPCR.git to reflect on this report. See Troubleshooting Build Report for more information. - Use the following Renviron settings to reproduce errors and warnings. - If 'R CMD check' started to fail recently on the Linux builder(s) over a missing dependency, add the missing dependency to 'Suggests:' in your DESCRIPTION file. See Renviron.bioc for more information. | 
| Package: HTqPCR | 
| Version: 1.57.0 | 
| Command: rm -rf HTqPCR.buildbin-libdir && mkdir HTqPCR.buildbin-libdir && F:\biocbuild\bbs-3.19-bioc\R\bin\R.exe CMD INSTALL --build --library=HTqPCR.buildbin-libdir HTqPCR_1.57.0.tar.gz | 
| StartedAt: 2024-03-05 10:33:43 -0500 (Tue, 05 Mar 2024) | 
| EndedAt: 2024-03-05 10:34:20 -0500 (Tue, 05 Mar 2024) | 
| EllapsedTime: 36.8 seconds | 
| RetCode: 0 | 
| Status: OK | 
| PackageFile: HTqPCR_1.57.0.zip | 
| PackageFileSize: 2.288 MiB | 
############################################################################## ############################################################################## ### ### Running command: ### ### rm -rf HTqPCR.buildbin-libdir && mkdir HTqPCR.buildbin-libdir && F:\biocbuild\bbs-3.19-bioc\R\bin\R.exe CMD INSTALL --build --library=HTqPCR.buildbin-libdir HTqPCR_1.57.0.tar.gz ### ############################################################################## ############################################################################## * installing *source* package 'HTqPCR' ... ** using staged installation ** R ** data ** inst ** byte-compile and prepare package for lazy loading ** help *** installing help indices ** building package indices ** installing vignettes ** testing if installed package can be loaded from temporary location ** testing if installed package can be loaded from final location ** testing if installed package keeps a record of temporary installation path * MD5 sums packaged installation of 'HTqPCR' as HTqPCR_1.57.0.zip * DONE (HTqPCR)