| Back to Multiple platform build/check report for BioC 3.19: simplified long |
|
This page was generated on 2024-05-09 11:40:57 -0400 (Thu, 09 May 2024).
| Hostname | OS | Arch (*) | R version | Installed pkgs |
|---|---|---|---|---|
| nebbiolo1 | Linux (Ubuntu 22.04.3 LTS) | x86_64 | 4.4.0 (2024-04-24) -- "Puppy Cup" | 4748 |
| palomino3 | Windows Server 2022 Datacenter | x64 | 4.4.0 (2024-04-24 ucrt) -- "Puppy Cup" | 4484 |
| lconway | macOS 12.7.1 Monterey | x86_64 | 4.4.0 (2024-04-24) -- "Puppy Cup" | 4514 |
| kunpeng2 | Linux (openEuler 22.03 LTS-SP1) | aarch64 | 4.4.0 beta (2024-04-15 r86425) -- "Puppy Cup" | 4480 |
| Click on any hostname to see more info about the system (e.g. compilers) (*) as reported by 'uname -p', except on Windows and Mac OS X | ||||
| Package 985/2300 | Hostname | OS / Arch | INSTALL | BUILD | CHECK | BUILD BIN | ||||||||
| HPAanalyze 1.22.0 (landing page) Anh Nhat Tran
| nebbiolo1 | Linux (Ubuntu 22.04.3 LTS) / x86_64 | OK | OK | OK | |||||||||
| palomino3 | Windows Server 2022 Datacenter / x64 | OK | OK | OK | OK | |||||||||
| lconway | macOS 12.7.1 Monterey / x86_64 | OK | OK | OK | OK | |||||||||
| kunpeng2 | Linux (openEuler 22.03 LTS-SP1) / aarch64 | OK | OK | OK | ||||||||||
| kjohnson3 | macOS 13.6.5 Ventura / arm64 | see weekly results here | ||||||||||||
|
To the developers/maintainers of the HPAanalyze package: - Allow up to 24 hours (and sometimes 48 hours) for your latest push to git@git.bioconductor.org:packages/HPAanalyze.git to reflect on this report. See Troubleshooting Build Report for more information. - Use the following Renviron settings to reproduce errors and warnings. - If 'R CMD check' started to fail recently on the Linux builder(s) over a missing dependency, add the missing dependency to 'Suggests:' in your DESCRIPTION file. See Renviron.bioc for more information. - See Martin Grigorov's blog post for how to debug Linux ARM64 related issues on a x86_64 host. |
| Package: HPAanalyze |
| Version: 1.22.0 |
| Command: /home/biocbuild/R/R-beta-2024-04-15_r86425/bin/R CMD check --install=check:HPAanalyze.install-out.txt --library=/home/biocbuild/R/R-beta-2024-04-15_r86425/site-library --no-vignettes --timings HPAanalyze_1.22.0.tar.gz |
| StartedAt: 2024-05-09 08:24:36 -0000 (Thu, 09 May 2024) |
| EndedAt: 2024-05-09 08:26:05 -0000 (Thu, 09 May 2024) |
| EllapsedTime: 89.1 seconds |
| RetCode: 0 |
| Status: OK |
| CheckDir: HPAanalyze.Rcheck |
| Warnings: 0 |
##############################################################################
##############################################################################
###
### Running command:
###
### /home/biocbuild/R/R-beta-2024-04-15_r86425/bin/R CMD check --install=check:HPAanalyze.install-out.txt --library=/home/biocbuild/R/R-beta-2024-04-15_r86425/site-library --no-vignettes --timings HPAanalyze_1.22.0.tar.gz
###
##############################################################################
##############################################################################
* using log directory ‘/home/biocbuild/bbs-3.19-bioc/meat/HPAanalyze.Rcheck’
* using R version 4.4.0 beta (2024-04-15 r86425)
* using platform: aarch64-unknown-linux-gnu
* R was compiled by
gcc (GCC) 10.3.1
GNU Fortran (GCC) 10.3.1
* running under: openEuler 22.03 (LTS-SP1)
* using session charset: UTF-8
* using option ‘--no-vignettes’
* checking for file ‘HPAanalyze/DESCRIPTION’ ... OK
* checking extension type ... Package
* this is package ‘HPAanalyze’ version ‘1.22.0’
* package encoding: UTF-8
* checking package namespace information ... OK
* checking package dependencies ... OK
* checking if this is a source package ... OK
* checking if there is a namespace ... OK
* checking for hidden files and directories ... OK
* checking for portable file names ... OK
* checking for sufficient/correct file permissions ... OK
* checking whether package ‘HPAanalyze’ can be installed ... OK
* checking installed package size ... OK
* checking package directory ... OK
* checking ‘build’ directory ... OK
* checking DESCRIPTION meta-information ... OK
* checking top-level files ... OK
* checking for left-over files ... OK
* checking index information ... OK
* checking package subdirectories ... OK
* checking code files for non-ASCII characters ... OK
* checking R files for syntax errors ... OK
* checking whether the package can be loaded ... OK
* checking whether the package can be loaded with stated dependencies ... OK
* checking whether the package can be unloaded cleanly ... OK
* checking whether the namespace can be loaded with stated dependencies ... OK
* checking whether the namespace can be unloaded cleanly ... OK
* checking loading without being on the library search path ... OK
* checking dependencies in R code ... OK
* checking S3 generic/method consistency ... OK
* checking replacement functions ... OK
* checking foreign function calls ... OK
* checking R code for possible problems ... NOTE
hpaDownload: no visible binding for global variable ‘datasetnames’
hpaDownload: no visible binding for global variable
‘hpa_histology_data’
hpaDownload: no visible binding for global variable ‘.’
hpaSubset : subsetting: no visible binding for global variable ‘gene’
hpaSubset : subsetting: no visible binding for global variable ‘tissue’
hpaSubset : subsetting: no visible binding for global variable
‘cell_type’
hpaSubset : subsetting: no visible binding for global variable ‘cancer’
hpaSubset : subsetting: no visible binding for global variable
‘cell_line’
hpaVis: no visible binding for global variable ‘hpa_histology_data’
hpaVisPatho: no visible binding for global variable ‘gene’
hpaVisPatho: no visible binding for global variable ‘cancer’
hpaVisPatho: no visible binding for global variable ‘high’
hpaVisPatho: no visible binding for global variable ‘medium’
hpaVisPatho: no visible binding for global variable ‘low’
hpaVisPatho: no visible binding for global variable ‘not_detected’
hpaVisPatho: no visible binding for global variable ‘patient_count’
hpaVisPatho: no visible binding for global variable ‘level’
hpaVisSubcell: no visible binding for global variable ‘gene’
hpaVisSubcell: no visible binding for global variable ‘sub_location’
hpaVisTissue: no visible binding for global variable ‘gene’
hpaVisTissue: no visible binding for global variable ‘.’
hpaVisTissue: no visible binding for global variable ‘tissue’
hpaVisTissue: no visible binding for global variable ‘cell_type’
hpaVisTissue: no visible binding for global variable ‘level’
hpaVisTissue: no visible binding for global variable ‘tissue_cell’
hpaXmlTissueExpr : <anonymous>: no visible binding for global variable
‘patientId’
hpaXmlTissueExpr : <anonymous>: no visible binding for global variable
‘age’
hpaXmlTissueExpr : <anonymous>: no visible binding for global variable
‘sex’
hpaXmlTissueExpr : <anonymous>: no visible binding for global variable
‘staining’
hpaXmlTissueExpr : <anonymous>: no visible binding for global variable
‘intensity’
hpaXmlTissueExpr : <anonymous>: no visible binding for global variable
‘quantity’
hpaXmlTissueExpr : <anonymous>: no visible binding for global variable
‘imageUrl’
hpaXmlTissueExprSum: no visible binding for global variable ‘tissue’
hpaXmlTissueExprSum: no visible binding for global variable ‘imageUrl’
is_null_data: no visible binding for global variable
‘hpa_histology_data’
named_vector_list_to_tibble: no visible binding for global variable
‘index’
Undefined global functions or variables:
. age cancer cell_line cell_type datasetnames gene high
hpa_histology_data imageUrl index intensity level low medium
not_detected patientId patient_count quantity sex staining
sub_location tissue tissue_cell
* checking Rd files ... OK
* checking Rd metadata ... OK
* checking Rd cross-references ... OK
* checking for missing documentation entries ... OK
* checking for code/documentation mismatches ... OK
* checking Rd \usage sections ... OK
* checking Rd contents ... OK
* checking for unstated dependencies in examples ... OK
* checking contents of ‘data’ directory ... OK
* checking data for non-ASCII characters ... OK
* checking LazyData ... OK
* checking data for ASCII and uncompressed saves ... OK
* checking R/sysdata.rda ... OK
* checking files in ‘vignettes’ ... OK
* checking examples ... OK
* checking for unstated dependencies in vignettes ... OK
* checking package vignettes ... OK
* checking running R code from vignettes ... SKIPPED
* checking re-building of vignette outputs ... SKIPPED
* checking PDF version of manual ... OK
* DONE
Status: 1 NOTE
See
‘/home/biocbuild/bbs-3.19-bioc/meat/HPAanalyze.Rcheck/00check.log’
for details.
HPAanalyze.Rcheck/00install.out
############################################################################## ############################################################################## ### ### Running command: ### ### /home/biocbuild/R/R-beta-2024-04-15_r86425/bin/R CMD INSTALL HPAanalyze ### ############################################################################## ############################################################################## * installing to library ‘/home/biocbuild/R/R-beta-2024-04-15_r86425/site-library’ * installing *source* package ‘HPAanalyze’ ... ** using staged installation ** R ** data *** moving datasets to lazyload DB ** inst ** byte-compile and prepare package for lazy loading ** help *** installing help indices ** building package indices ** installing vignettes ** testing if installed package can be loaded from temporary location ** testing if installed package can be loaded from final location ** testing if installed package keeps a record of temporary installation path * DONE (HPAanalyze)
HPAanalyze.Rcheck/HPAanalyze-Ex.timings
| name | user | system | elapsed | |
| hpaDownload | 2.126 | 0.120 | 2.249 | |
| hpaExport | 0.663 | 0.016 | 0.680 | |
| hpaListParam | 0.212 | 0.012 | 0.225 | |
| hpaVis | 1.694 | 0.028 | 1.725 | |
| hpaVisPatho | 4.221 | 0.088 | 4.317 | |
| hpaVisSubcell | 2.535 | 0.080 | 2.620 | |
| hpaVisTissue | 2.693 | 0.075 | 2.774 | |
| hpaXml | 0.267 | 0.013 | 3.209 | |
| hpaXmlAntibody | 0.001 | 0.000 | 0.000 | |
| hpaXmlGet | 0 | 0 | 0 | |
| hpaXmlProtClass | 0 | 0 | 0 | |
| hpaXmlTissueExpr | 0.000 | 0.000 | 0.001 | |
| hpaXmlTissueExprSum | 0 | 0 | 0 | |
| hpa_histology_data | 1.913 | 0.080 | 1.996 | |