| Back to Multiple platform build/check report for BioC 3.19: simplified long | 
 | 
This page was generated on 2024-06-11 14:43 -0400 (Tue, 11 Jun 2024).
| Hostname | OS | Arch (*) | R version | Installed pkgs | 
|---|---|---|---|---|
| nebbiolo1 | Linux (Ubuntu 22.04.3 LTS) | x86_64 | 4.4.0 (2024-04-24) -- "Puppy Cup" | 4757 | 
| palomino3 | Windows Server 2022 Datacenter | x64 | 4.4.0 (2024-04-24 ucrt) -- "Puppy Cup" | 4491 | 
| lconway | macOS 12.7.1 Monterey | x86_64 | 4.4.0 (2024-04-24) -- "Puppy Cup" | 4522 | 
| kjohnson3 | macOS 13.6.5 Ventura | arm64 | 4.4.0 (2024-04-24) -- "Puppy Cup" | 4468 | 
| Click on any hostname to see more info about the system (e.g. compilers) (*) as reported by 'uname -p', except on Windows and Mac OS X | ||||
| Package 876/2300 | Hostname | OS / Arch | INSTALL | BUILD | CHECK | BUILD BIN | ||||||||
| GladiaTOX 1.20.0  (landing page) PMP S.A. R Support 
 | nebbiolo1 | Linux (Ubuntu 22.04.3 LTS) / x86_64 | OK | OK | OK |  | ||||||||
| palomino3 | Windows Server 2022 Datacenter / x64 | OK | OK | OK | OK |  | ||||||||
| lconway | macOS 12.7.1 Monterey / x86_64 | OK | OK | OK | OK |  | ||||||||
| kjohnson3 | macOS 13.6.5 Ventura / arm64 | OK | OK | OK | OK |  | ||||||||
| To the developers/maintainers of the GladiaTOX package: - Allow up to 24 hours (and sometimes 48 hours) for your latest push to git@git.bioconductor.org:packages/GladiaTOX.git to reflect on this report. See Troubleshooting Build Report for more information. - Use the following Renviron settings to reproduce errors and warnings. - If 'R CMD check' started to fail recently on the Linux builder(s) over a missing dependency, add the missing dependency to 'Suggests:' in your DESCRIPTION file. See Renviron.bioc for more information. | 
| Package: GladiaTOX | 
| Version: 1.20.0 | 
| Command: /Library/Frameworks/R.framework/Resources/bin/R CMD check --install=check:GladiaTOX.install-out.txt --library=/Library/Frameworks/R.framework/Resources/library --no-vignettes --timings GladiaTOX_1.20.0.tar.gz | 
| StartedAt: 2024-06-10 17:20:06 -0400 (Mon, 10 Jun 2024) | 
| EndedAt: 2024-06-10 17:23:55 -0400 (Mon, 10 Jun 2024) | 
| EllapsedTime: 229.4 seconds | 
| RetCode: 0 | 
| Status: OK | 
| CheckDir: GladiaTOX.Rcheck | 
| Warnings: 0 | 
##############################################################################
##############################################################################
###
### Running command:
###
###   /Library/Frameworks/R.framework/Resources/bin/R CMD check --install=check:GladiaTOX.install-out.txt --library=/Library/Frameworks/R.framework/Resources/library --no-vignettes --timings GladiaTOX_1.20.0.tar.gz
###
##############################################################################
##############################################################################
* using log directory ‘/Users/biocbuild/bbs-3.19-bioc/meat/GladiaTOX.Rcheck’
* using R version 4.4.0 (2024-04-24)
* using platform: aarch64-apple-darwin20
* R was compiled by
    Apple clang version 14.0.0 (clang-1400.0.29.202)
    GNU Fortran (GCC) 12.2.0
* running under: macOS Ventura 13.6.5
* using session charset: UTF-8
* using option ‘--no-vignettes’
* checking for file ‘GladiaTOX/DESCRIPTION’ ... OK
* checking extension type ... Package
* this is package ‘GladiaTOX’ version ‘1.20.0’
* checking package namespace information ... OK
* checking package dependencies ... OK
* checking if this is a source package ... OK
* checking if there is a namespace ... OK
* checking for hidden files and directories ... OK
* checking for portable file names ... OK
* checking for sufficient/correct file permissions ... OK
* checking whether package ‘GladiaTOX’ can be installed ... OK
* checking installed package size ... NOTE
  installed size is  5.3Mb
  sub-directories of 1Mb or more:
    sql   3.8Mb
* checking package directory ... OK
* checking ‘build’ directory ... OK
* checking DESCRIPTION meta-information ... OK
* checking top-level files ... OK
* checking for left-over files ... OK
* checking index information ... OK
* checking package subdirectories ... OK
* checking code files for non-ASCII characters ... OK
* checking R files for syntax errors ... OK
* checking whether the package can be loaded ... OK
* checking whether the package can be loaded with stated dependencies ... OK
* checking whether the package can be unloaded cleanly ... OK
* checking whether the namespace can be loaded with stated dependencies ... OK
* checking whether the namespace can be unloaded cleanly ... OK
* checking whether startup messages can be suppressed ... OK
* checking dependencies in R code ... OK
* checking S3 generic/method consistency ... OK
* checking replacement functions ... OK
* checking foreign function calls ... OK
* checking R code for possible problems ... NOTE
glCheckInput: no visible global function definition for ‘read.csv’
glLoadInput: no visible global function definition for ‘read.csv’
glPlotPosCtrlMEC: no visible binding for global variable ‘aenm_wrap’
glPlotPosCtrlMEC: no visible binding for global variable ‘modl_acc’
Undefined global functions or variables:
  aenm_wrap modl_acc read.csv
Consider adding
  importFrom("utils", "read.csv")
to your NAMESPACE file.
* checking Rd files ... OK
* checking Rd metadata ... OK
* checking Rd cross-references ... OK
* checking for missing documentation entries ... OK
* checking for code/documentation mismatches ... OK
* checking Rd \usage sections ... OK
* checking Rd contents ... OK
* checking for unstated dependencies in examples ... OK
* checking files in ‘vignettes’ ... OK
* checking examples ... OK
Examples with CPU (user + system) or elapsed time > 5s
                     user system elapsed
gtoxRun            25.715 15.513  34.775
assignDefaultMthds 20.744  9.259  27.016
* checking for unstated dependencies in ‘tests’ ... OK
* checking tests ...
  Running ‘testthat.R’
 OK
* checking for unstated dependencies in vignettes ... OK
* checking package vignettes ... OK
* checking running R code from vignettes ... SKIPPED
* checking re-building of vignette outputs ... SKIPPED
* checking PDF version of manual ... OK
* DONE
Status: 2 NOTEs
See
  ‘/Users/biocbuild/bbs-3.19-bioc/meat/GladiaTOX.Rcheck/00check.log’
for details.
GladiaTOX.Rcheck/00install.out
############################################################################## ############################################################################## ### ### Running command: ### ### /Library/Frameworks/R.framework/Resources/bin/R CMD INSTALL GladiaTOX ### ############################################################################## ############################################################################## * installing to library ‘/Library/Frameworks/R.framework/Versions/4.4-arm64/Resources/library’ * installing *source* package ‘GladiaTOX’ ... ** using staged installation ** R ** inst ** byte-compile and prepare package for lazy loading ** help *** installing help indices ** building package indices ** installing vignettes ** testing if installed package can be loaded from temporary location ** testing if installed package can be loaded from final location ** testing if installed package keeps a record of temporary installation path * DONE (GladiaTOX)
GladiaTOX.Rcheck/tests/testthat.Rout
R version 4.4.0 (2024-04-24) -- "Puppy Cup"
Copyright (C) 2024 The R Foundation for Statistical Computing
Platform: aarch64-apple-darwin20
R is free software and comes with ABSOLUTELY NO WARRANTY.
You are welcome to redistribute it under certain conditions.
Type 'license()' or 'licence()' for distribution details.
R is a collaborative project with many contributors.
Type 'contributors()' for more information and
'citation()' on how to cite R or R packages in publications.
Type 'demo()' for some demos, 'help()' for on-line help, or
'help.start()' for an HTML browser interface to help.
Type 'q()' to quit R.
> library(testthat)
> library(GladiaTOX)
Loading required package: data.table
GladiaTOX (v1.20.0) loaded with the following settings:
  TCPL_DB:    /Library/Frameworks/R.framework/Versions/4.4-arm64/Resources/library/GladiaTOX/sql/gladiatoxdb.sqlite
  TCPL_USER:  NA
  TCPL_HOST:  NA
  TCPL_DRVR:  SQLite
Default settings stored in gtox config file. See ?gtoxConf for more information.
> 
> options(testthat.junit.output_file="tests-out.xml")
> test_dir("testthat")
✔ | F W  S  OK | Context
⠏ |          0 | assignDefaultMthds                                             
⠋ |          1 | assignDefaultMthds                                             
✔ |          1 | assignDefaultMthds [1.2s]
⠏ |          0 | exportResultTable                                              
⠙ |          2 | exportResultTable                                              
✔ |          2 | exportResultTable
⠏ |          0 | getsplit                                                       
⠏ |          0 | getsplit                                                       
✔ |          1 | getsplit
⠏ |          0 | glComputeToxInd                                                
⠋ |          1 | glComputeToxInd                                                
✔ |          1 | glComputeToxInd
⠏ |          0 | gtoxAICProb                                                    
✔ |          1 | gtoxAICProb
⠏ |          0 | gtoxCalcVmad                                                   
⠏ |          0 | Calculate Vmad                                                 
✔ |          1 | Calculate Vmad
⠏ |          0 | gtoxLoadAcid                                                   
⠏ |          0 | Check assay component table                                    
⠙ |          2 | Check assay component table                                    
✔ |          2 | Check assay component table
⠏ |          0 | gtoxLoadAeid                                                   
⠏ |          0 | Check assay endpoint table                                     
⠙ |          2 | Check assay endpoint table                                     
✔ |          2 | Check assay endpoint table
⠏ |          0 | gtoxLoadAid                                                    
✔ |          1 | gtoxLoadAid
⠏ |          0 | gtoxLoadApid                                                   
⠏ |          0 | Check assay plate table                                        
✔ |          2 | Check assay plate table
⠏ |          0 | gtoxLoadAsid                                                   
⠋ |          1 | gtoxLoadAsid                                                   
✔ |          3 | gtoxLoadAsid
⠏ |          0 | gtoxLoadChem                                                   
⠏ |          0 | Check assay chemical table                                     
⠙ |          2 | Check assay chemical table                                     
✔ |          3 | Check assay chemical table
⠏ |          0 | gtoxLoadWaid                                                   
⠏ |          0 | Check assay well table                                         
⠙ |          2 | Check assay well table                                         
✔ |          2 | Check assay well table
⠏ |          0 | is.odd                                                         
✔ |          2 | is.odd
⠏ |          0 | lu                                                             
✔ |          1 | lu
⠏ |          0 | lw                                                             
✔ |          1 | lw
⠏ |          0 | mc2                                                            
✔ |          1 | mc2
⠏ |          0 | mc3                                                            
✔ |          1 | mc3
⠏ |          0 | mc5                                                            
✔ |          1 | mc5
⠏ |          0 | mc6                                                            
✔ |          1 | mc6
⠏ |          0 | sc1                                                            
✔ |          1 | sc1
⠏ |          0 | sc2                                                            
✔ |          1 | sc2
══ Results ═════════════════════════════════════════════════════════════════════
Duration: 3.6 s
[ FAIL 0 | WARN 0 | SKIP 0 | PASS 32 ]
> test_check("GladiaTOX")
[ FAIL 0 | WARN 0 | SKIP 0 | PASS 32 ]
> 
> proc.time()
   user  system elapsed 
  7.536   0.919  12.508 
GladiaTOX.Rcheck/GladiaTOX-Ex.timings
| name | user | system | elapsed | |
| Models | 0.149 | 0.031 | 0.289 | |
| assay_funcs | 0.591 | 0.108 | 1.105 | |
| assignDefaultMthds | 20.744 | 9.259 | 27.016 | |
| buildAssayTab | 0.031 | 0.007 | 0.068 | |
| config_funcs | 0.007 | 0.003 | 0.017 | |
| deleteStudy | 0 | 0 | 0 | |
| exportResultForToxpiGUI | 0.416 | 0.072 | 0.757 | |
| exportResultTable | 0.156 | 0.021 | 0.259 | |
| glComputeToxInd | 0.356 | 0.041 | 0.580 | |
| glPlotPie | 1.620 | 0.085 | 2.557 | |
| glPlotPieLogo | 0.894 | 0.016 | 1.291 | |
| glPlotPosCtrl | 1.052 | 0.048 | 1.670 | |
| glPlotPosCtrlMEC | 0.537 | 0.081 | 0.920 | |
| glPlotStat | 1.021 | 0.043 | 1.658 | |
| glPlotToxInd | 0.730 | 0.049 | 1.252 | |
| gtoxAICProb | 0.001 | 0.000 | 0.002 | |
| gtoxAddModel | 0.483 | 0.014 | 0.749 | |
| gtoxCalcVmad | 0.035 | 0.006 | 0.073 | |
| gtoxCode2CASN | 0.001 | 0.000 | 0.001 | |
| gtoxFit | 0.396 | 0.005 | 0.459 | |
| gtoxImportThermoDB | 0.001 | 0.001 | 0.001 | |
| gtoxListFlds | 0.008 | 0.001 | 0.016 | |
| gtoxLoadApid | 0.011 | 0.003 | 0.027 | |
| gtoxLoadChem | 0.065 | 0.010 | 0.133 | |
| gtoxLoadClib | 0.007 | 0.002 | 0.015 | |
| gtoxLoadData | 0.089 | 0.015 | 0.186 | |
| gtoxLoadVehicle | 0.009 | 0.001 | 0.020 | |
| gtoxLoadVmad | 0.009 | 0.002 | 0.020 | |
| gtoxLoadWaid | 0.026 | 0.003 | 0.051 | |
| gtoxMakeAeidPlts | 0.536 | 0.070 | 0.972 | |
| gtoxPlotErrBar | 0.363 | 0.035 | 0.496 | |
| gtoxPlotFitc | 0.302 | 0.010 | 0.573 | |
| gtoxPlotFits | 0.212 | 0.030 | 0.522 | |
| gtoxPlotM4ID | 0.867 | 0.122 | 1.498 | |
| gtoxPlotPie | 0.194 | 0.024 | 0.390 | |
| gtoxPlotPieLgnd | 0.006 | 0.002 | 0.011 | |
| gtoxPlotPlate | 0.303 | 0.040 | 0.600 | |
| gtoxPlotWin | 0 | 0 | 0 | |
| gtoxPrepOtpt | 0.152 | 0.019 | 0.220 | |
| gtoxReport | 0 | 0 | 0 | |
| gtoxRun | 25.715 | 15.513 | 34.775 | |
| gtoxSetWllq | 0.131 | 0.043 | 0.302 | |
| gtoxSubsetChid | 0.127 | 0.023 | 0.263 | |
| gtoxWriteData | 0.000 | 0.001 | 0.000 | |
| hill_utils | 0.000 | 0.001 | 0.001 | |
| loadAnnot | 0.000 | 0.001 | 0.000 | |
| lu | 0 | 0 | 0 | |
| lw | 0 | 0 | 0 | |
| mthd_funcs | 0.019 | 0.004 | 0.041 | |
| prepareDatForDB | 0 | 0 | 0 | |
| query_funcs | 0.049 | 0.006 | 0.100 | |
| rgstr_funcs | 0.321 | 0.055 | 0.526 | |