| Back to Multiple platform build/check report for BioC 3.19: simplified long | 
 | 
This page was generated on 2024-10-18 20:42 -0400 (Fri, 18 Oct 2024).
| Hostname | OS | Arch (*) | R version | Installed pkgs | 
|---|---|---|---|---|
| nebbiolo1 | Linux (Ubuntu 22.04.3 LTS) | x86_64 | 4.4.1 (2024-06-14) -- "Race for Your Life" | 4763 | 
| palomino7 | Windows Server 2022 Datacenter | x64 | 4.4.1 (2024-06-14 ucrt) -- "Race for Your Life" | 4500 | 
| merida1 | macOS 12.7.5 Monterey | x86_64 | 4.4.1 (2024-06-14) -- "Race for Your Life" | 4530 | 
| kjohnson1 | macOS 13.6.6 Ventura | arm64 | 4.4.1 (2024-06-14) -- "Race for Your Life" | 4480 | 
| Click on any hostname to see more info about the system (e.g. compilers) (*) as reported by 'uname -p', except on Windows and Mac OS X | ||||
| Package 876/2300 | Hostname | OS / Arch | INSTALL | BUILD | CHECK | BUILD BIN | ||||||||
| GladiaTOX 1.20.0  (landing page) PMP S.A. R Support 
 | nebbiolo1 | Linux (Ubuntu 22.04.3 LTS) / x86_64 | OK | OK | OK |  | ||||||||
| palomino7 | Windows Server 2022 Datacenter / x64 | OK | OK | OK | OK |  | ||||||||
| merida1 | macOS 12.7.5 Monterey / x86_64 | OK | OK | OK | OK |  | ||||||||
| kjohnson1 | macOS 13.6.6 Ventura / arm64 | OK | OK | OK | OK |  | ||||||||
| To the developers/maintainers of the GladiaTOX package: - Allow up to 24 hours (and sometimes 48 hours) for your latest push to git@git.bioconductor.org:packages/GladiaTOX.git to reflect on this report. See Troubleshooting Build Report for more information. - Use the following Renviron settings to reproduce errors and warnings. - If 'R CMD check' started to fail recently on the Linux builder(s) over a missing dependency, add the missing dependency to 'Suggests:' in your DESCRIPTION file. See Renviron.bioc for more information. | 
| Package: GladiaTOX | 
| Version: 1.20.0 | 
| Command: /Library/Frameworks/R.framework/Resources/bin/R CMD check --install=check:GladiaTOX.install-out.txt --library=/Library/Frameworks/R.framework/Resources/library --no-vignettes --timings GladiaTOX_1.20.0.tar.gz | 
| StartedAt: 2024-10-17 23:24:11 -0400 (Thu, 17 Oct 2024) | 
| EndedAt: 2024-10-17 23:26:26 -0400 (Thu, 17 Oct 2024) | 
| EllapsedTime: 134.3 seconds | 
| RetCode: 0 | 
| Status: OK | 
| CheckDir: GladiaTOX.Rcheck | 
| Warnings: 0 | 
##############################################################################
##############################################################################
###
### Running command:
###
###   /Library/Frameworks/R.framework/Resources/bin/R CMD check --install=check:GladiaTOX.install-out.txt --library=/Library/Frameworks/R.framework/Resources/library --no-vignettes --timings GladiaTOX_1.20.0.tar.gz
###
##############################################################################
##############################################################################
* using log directory ‘/Users/biocbuild/bbs-3.19-bioc/meat/GladiaTOX.Rcheck’
* using R version 4.4.1 (2024-06-14)
* using platform: aarch64-apple-darwin20
* R was compiled by
    Apple clang version 14.0.0 (clang-1400.0.29.202)
    GNU Fortran (GCC) 12.2.0
* running under: macOS Ventura 13.6.6
* using session charset: UTF-8
* using option ‘--no-vignettes’
* checking for file ‘GladiaTOX/DESCRIPTION’ ... OK
* checking extension type ... Package
* this is package ‘GladiaTOX’ version ‘1.20.0’
* checking package namespace information ... OK
* checking package dependencies ... OK
* checking if this is a source package ... OK
* checking if there is a namespace ... OK
* checking for hidden files and directories ... OK
* checking for portable file names ... OK
* checking for sufficient/correct file permissions ... OK
* checking whether package ‘GladiaTOX’ can be installed ... OK
* checking installed package size ... NOTE
  installed size is  5.3Mb
  sub-directories of 1Mb or more:
    sql   3.8Mb
* checking package directory ... OK
* checking ‘build’ directory ... OK
* checking DESCRIPTION meta-information ... OK
* checking top-level files ... OK
* checking for left-over files ... OK
* checking index information ... OK
* checking package subdirectories ... OK
* checking code files for non-ASCII characters ... OK
* checking R files for syntax errors ... OK
* checking whether the package can be loaded ... OK
* checking whether the package can be loaded with stated dependencies ... OK
* checking whether the package can be unloaded cleanly ... OK
* checking whether the namespace can be loaded with stated dependencies ... OK
* checking whether the namespace can be unloaded cleanly ... OK
* checking whether startup messages can be suppressed ... OK
* checking dependencies in R code ... OK
* checking S3 generic/method consistency ... OK
* checking replacement functions ... OK
* checking foreign function calls ... OK
* checking R code for possible problems ... NOTE
glCheckInput: no visible global function definition for ‘read.csv’
glLoadInput: no visible global function definition for ‘read.csv’
glPlotPosCtrlMEC: no visible binding for global variable ‘aenm_wrap’
glPlotPosCtrlMEC: no visible binding for global variable ‘modl_acc’
Undefined global functions or variables:
  aenm_wrap modl_acc read.csv
Consider adding
  importFrom("utils", "read.csv")
to your NAMESPACE file.
* checking Rd files ... OK
* checking Rd metadata ... OK
* checking Rd cross-references ... OK
* checking for missing documentation entries ... OK
* checking for code/documentation mismatches ... OK
* checking Rd \usage sections ... OK
* checking Rd contents ... OK
* checking for unstated dependencies in examples ... OK
* checking files in ‘vignettes’ ... OK
* checking examples ... OK
Examples with CPU (user + system) or elapsed time > 5s
                     user system elapsed
gtoxRun            21.809 18.230  21.077
assignDefaultMthds 20.304 10.438  16.840
* checking for unstated dependencies in ‘tests’ ... OK
* checking tests ...
  Running ‘testthat.R’
 OK
* checking for unstated dependencies in vignettes ... OK
* checking package vignettes ... OK
* checking running R code from vignettes ... SKIPPED
* checking re-building of vignette outputs ... SKIPPED
* checking PDF version of manual ... OK
* DONE
Status: 2 NOTEs
See
  ‘/Users/biocbuild/bbs-3.19-bioc/meat/GladiaTOX.Rcheck/00check.log’
for details.
GladiaTOX.Rcheck/00install.out
############################################################################## ############################################################################## ### ### Running command: ### ### /Library/Frameworks/R.framework/Resources/bin/R CMD INSTALL GladiaTOX ### ############################################################################## ############################################################################## * installing to library ‘/Library/Frameworks/R.framework/Versions/4.4-arm64/Resources/library’ * installing *source* package ‘GladiaTOX’ ... ** using staged installation ** R ** inst ** byte-compile and prepare package for lazy loading ** help *** installing help indices ** building package indices ** installing vignettes ** testing if installed package can be loaded from temporary location ** testing if installed package can be loaded from final location ** testing if installed package keeps a record of temporary installation path * DONE (GladiaTOX)
GladiaTOX.Rcheck/tests/testthat.Rout
R version 4.4.1 (2024-06-14) -- "Race for Your Life"
Copyright (C) 2024 The R Foundation for Statistical Computing
Platform: aarch64-apple-darwin20
R is free software and comes with ABSOLUTELY NO WARRANTY.
You are welcome to redistribute it under certain conditions.
Type 'license()' or 'licence()' for distribution details.
R is a collaborative project with many contributors.
Type 'contributors()' for more information and
'citation()' on how to cite R or R packages in publications.
Type 'demo()' for some demos, 'help()' for on-line help, or
'help.start()' for an HTML browser interface to help.
Type 'q()' to quit R.
> library(testthat)
> library(GladiaTOX)
Loading required package: data.table
GladiaTOX (v1.20.0) loaded with the following settings:
  TCPL_DB:    /Library/Frameworks/R.framework/Versions/4.4-arm64/Resources/library/GladiaTOX/sql/gladiatoxdb.sqlite
  TCPL_USER:  NA
  TCPL_HOST:  NA
  TCPL_DRVR:  SQLite
Default settings stored in gtox config file. See ?gtoxConf for more information.
> 
> options(testthat.junit.output_file="tests-out.xml")
> test_dir("testthat")
✔ | F W  S  OK | Context
⠏ |          0 | assignDefaultMthds                                             
⠋ |          1 | assignDefaultMthds                                             
✔ |          1 | assignDefaultMthds
⠏ |          0 | exportResultTable                                              
⠙ |          2 | exportResultTable                                              
✔ |          2 | exportResultTable
⠏ |          0 | getsplit                                                       
⠏ |          0 | getsplit                                                       
✔ |          1 | getsplit
⠏ |          0 | glComputeToxInd                                                
⠋ |          1 | glComputeToxInd                                                
✔ |          1 | glComputeToxInd
⠏ |          0 | gtoxAICProb                                                    
✔ |          1 | gtoxAICProb
⠏ |          0 | gtoxCalcVmad                                                   
⠏ |          0 | Calculate Vmad                                                 
✔ |          1 | Calculate Vmad
⠏ |          0 | gtoxLoadAcid                                                   
⠏ |          0 | Check assay component table                                    
⠙ |          2 | Check assay component table                                    
✔ |          2 | Check assay component table
⠏ |          0 | gtoxLoadAeid                                                   
⠏ |          0 | Check assay endpoint table                                     
⠙ |          2 | Check assay endpoint table                                     
✔ |          2 | Check assay endpoint table
⠏ |          0 | gtoxLoadAid                                                    
✔ |          1 | gtoxLoadAid
⠏ |          0 | gtoxLoadApid                                                   
⠏ |          0 | Check assay plate table                                        
✔ |          2 | Check assay plate table
⠏ |          0 | gtoxLoadAsid                                                   
✔ |          3 | gtoxLoadAsid
⠏ |          0 | gtoxLoadChem                                                   
⠏ |          0 | Check assay chemical table                                     
✔ |          3 | Check assay chemical table
⠏ |          0 | gtoxLoadWaid                                                   
⠏ |          0 | Check assay well table                                         
✔ |          2 | Check assay well table
⠏ |          0 | is.odd                                                         
✔ |          2 | is.odd
⠏ |          0 | lu                                                             
✔ |          1 | lu
⠏ |          0 | lw                                                             
✔ |          1 | lw
⠏ |          0 | mc2                                                            
✔ |          1 | mc2
⠏ |          0 | mc3                                                            
✔ |          1 | mc3
⠏ |          0 | mc5                                                            
✔ |          1 | mc5
⠏ |          0 | mc6                                                            
✔ |          1 | mc6
⠏ |          0 | sc1                                                            
✔ |          1 | sc1
⠏ |          0 | sc2                                                            
✔ |          1 | sc2
══ Results ═════════════════════════════════════════════════════════════════════
Duration: 2.1 s
[ FAIL 0 | WARN 0 | SKIP 0 | PASS 32 ]
> test_check("GladiaTOX")
[ FAIL 0 | WARN 0 | SKIP 0 | PASS 32 ]
> 
> proc.time()
   user  system elapsed 
  6.830   0.669   7.190 
GladiaTOX.Rcheck/GladiaTOX-Ex.timings
| name | user | system | elapsed | |
| Models | 0.130 | 0.024 | 0.161 | |
| assay_funcs | 0.473 | 0.068 | 0.551 | |
| assignDefaultMthds | 20.304 | 10.438 | 16.840 | |
| buildAssayTab | 0.038 | 0.006 | 0.045 | |
| config_funcs | 0.006 | 0.004 | 0.010 | |
| deleteStudy | 0.000 | 0.000 | 0.001 | |
| exportResultForToxpiGUI | 0.344 | 0.069 | 0.414 | |
| exportResultTable | 0.154 | 0.015 | 0.168 | |
| glComputeToxInd | 0.287 | 0.025 | 0.320 | |
| glPlotPie | 1.752 | 0.113 | 1.512 | |
| glPlotPieLogo | 0.768 | 0.011 | 0.782 | |
| glPlotPosCtrl | 1.223 | 0.066 | 0.942 | |
| glPlotPosCtrlMEC | 0.411 | 0.045 | 0.465 | |
| glPlotStat | 0.872 | 0.032 | 0.904 | |
| glPlotToxInd | 0.718 | 0.045 | 0.575 | |
| gtoxAICProb | 0.001 | 0.000 | 0.001 | |
| gtoxAddModel | 0.501 | 0.013 | 0.513 | |
| gtoxCalcVmad | 0.031 | 0.004 | 0.035 | |
| gtoxCode2CASN | 0.001 | 0.000 | 0.001 | |
| gtoxFit | 0.375 | 0.004 | 0.379 | |
| gtoxImportThermoDB | 0.001 | 0.001 | 0.002 | |
| gtoxListFlds | 0.006 | 0.001 | 0.006 | |
| gtoxLoadApid | 0.010 | 0.003 | 0.012 | |
| gtoxLoadChem | 0.058 | 0.010 | 0.068 | |
| gtoxLoadClib | 0.007 | 0.001 | 0.008 | |
| gtoxLoadData | 0.094 | 0.010 | 0.104 | |
| gtoxLoadVehicle | 0.009 | 0.001 | 0.010 | |
| gtoxLoadVmad | 0.010 | 0.002 | 0.012 | |
| gtoxLoadWaid | 0.028 | 0.003 | 0.031 | |
| gtoxMakeAeidPlts | 0.427 | 0.041 | 0.470 | |
| gtoxPlotErrBar | 0.435 | 0.035 | 0.348 | |
| gtoxPlotFitc | 0.296 | 0.015 | 0.251 | |
| gtoxPlotFits | 0.142 | 0.016 | 0.159 | |
| gtoxPlotM4ID | 0.637 | 0.067 | 0.712 | |
| gtoxPlotPie | 0.161 | 0.013 | 0.173 | |
| gtoxPlotPieLgnd | 0.009 | 0.001 | 0.010 | |
| gtoxPlotPlate | 0.197 | 0.021 | 0.218 | |
| gtoxPlotWin | 0.000 | 0.000 | 0.001 | |
| gtoxPrepOtpt | 0.284 | 0.029 | 0.196 | |
| gtoxReport | 0.000 | 0.000 | 0.001 | |
| gtoxRun | 21.809 | 18.230 | 21.077 | |
| gtoxSetWllq | 0.109 | 0.041 | 0.151 | |
| gtoxSubsetChid | 0.104 | 0.021 | 0.126 | |
| gtoxWriteData | 0.000 | 0.000 | 0.001 | |
| hill_utils | 0.001 | 0.001 | 0.001 | |
| loadAnnot | 0.000 | 0.000 | 0.001 | |
| lu | 0 | 0 | 0 | |
| lw | 0 | 0 | 0 | |
| mthd_funcs | 0.016 | 0.004 | 0.020 | |
| prepareDatForDB | 0.000 | 0.001 | 0.000 | |
| query_funcs | 0.019 | 0.004 | 0.022 | |
| rgstr_funcs | 0.359 | 0.066 | 0.425 | |