| Back to Multiple platform build/check report for BioC 3.19: simplified long | 
 | 
This page was generated on 2024-05-09 11:40:53 -0400 (Thu, 09 May 2024).
| Hostname | OS | Arch (*) | R version | Installed pkgs | 
|---|---|---|---|---|
| nebbiolo1 | Linux (Ubuntu 22.04.3 LTS) | x86_64 | 4.4.0 (2024-04-24) -- "Puppy Cup" | 4748 | 
| palomino3 | Windows Server 2022 Datacenter | x64 | 4.4.0 (2024-04-24 ucrt) -- "Puppy Cup" | 4484 | 
| lconway | macOS 12.7.1 Monterey | x86_64 | 4.4.0 (2024-04-24) -- "Puppy Cup" | 4514 | 
| kunpeng2 | Linux (openEuler 22.03 LTS-SP1) | aarch64 | 4.4.0 beta (2024-04-15 r86425) -- "Puppy Cup" | 4480 | 
| Click on any hostname to see more info about the system (e.g. compilers) (*) as reported by 'uname -p', except on Windows and Mac OS X | ||||
| Package 832/2300 | Hostname | OS / Arch | INSTALL | BUILD | CHECK | BUILD BIN | ||||||||
| GenomicFeatures 1.56.0  (landing page) H. Pagès 
 | nebbiolo1 | Linux (Ubuntu 22.04.3 LTS) / x86_64 | OK | OK | OK |  | ||||||||
| palomino3 | Windows Server 2022 Datacenter / x64 | OK | OK | OK | OK |  | ||||||||
| lconway | macOS 12.7.1 Monterey / x86_64 | OK | OK | OK | OK |  | ||||||||
| kunpeng2 | Linux (openEuler 22.03 LTS-SP1) / aarch64 | OK | OK | OK | ||||||||||
| kjohnson3 | macOS 13.6.5 Ventura / arm64 | see weekly results here | ||||||||||||
| To the developers/maintainers of the GenomicFeatures package: - Allow up to 24 hours (and sometimes 48 hours) for your latest push to git@git.bioconductor.org:packages/GenomicFeatures.git to reflect on this report. See Troubleshooting Build Report for more information. - Use the following Renviron settings to reproduce errors and warnings. - If 'R CMD check' started to fail recently on the Linux builder(s) over a missing dependency, add the missing dependency to 'Suggests:' in your DESCRIPTION file. See Renviron.bioc for more information. - See Martin Grigorov's blog post for how to debug Linux ARM64 related issues on a x86_64 host. | 
| Package: GenomicFeatures | 
| Version: 1.56.0 | 
| Command: /home/biocbuild/R/R-beta-2024-04-15_r86425/bin/R CMD check --install=check:GenomicFeatures.install-out.txt --library=/home/biocbuild/R/R-beta-2024-04-15_r86425/site-library --no-vignettes --timings GenomicFeatures_1.56.0.tar.gz | 
| StartedAt: 2024-05-09 07:42:48 -0000 (Thu, 09 May 2024) | 
| EndedAt: 2024-05-09 07:54:30 -0000 (Thu, 09 May 2024) | 
| EllapsedTime: 702.1 seconds | 
| RetCode: 0 | 
| Status: OK | 
| CheckDir: GenomicFeatures.Rcheck | 
| Warnings: 0 | 
##############################################################################
##############################################################################
###
### Running command:
###
###   /home/biocbuild/R/R-beta-2024-04-15_r86425/bin/R CMD check --install=check:GenomicFeatures.install-out.txt --library=/home/biocbuild/R/R-beta-2024-04-15_r86425/site-library --no-vignettes --timings GenomicFeatures_1.56.0.tar.gz
###
##############################################################################
##############################################################################
* using log directory ‘/home/biocbuild/bbs-3.19-bioc/meat/GenomicFeatures.Rcheck’
* using R version 4.4.0 beta (2024-04-15 r86425)
* using platform: aarch64-unknown-linux-gnu
* R was compiled by
    gcc (GCC) 10.3.1
    GNU Fortran (GCC) 10.3.1
* running under: openEuler 22.03 (LTS-SP1)
* using session charset: UTF-8
* using option ‘--no-vignettes’
* checking for file ‘GenomicFeatures/DESCRIPTION’ ... OK
* this is package ‘GenomicFeatures’ version ‘1.56.0’
* package encoding: UTF-8
* checking package namespace information ... OK
* checking package dependencies ... NOTE
Depends: includes the non-default packages:
  'BiocGenerics', 'S4Vectors', 'IRanges', 'GenomeInfoDb',
  'GenomicRanges', 'AnnotationDbi'
Adding so many packages to the search path is excessive and importing
selectively is preferable.
* checking if this is a source package ... OK
* checking if there is a namespace ... OK
* checking for hidden files and directories ... OK
* checking for portable file names ... OK
* checking for sufficient/correct file permissions ... OK
* checking whether package ‘GenomicFeatures’ can be installed ... OK
* checking installed package size ... OK
* checking package directory ... OK
* checking ‘build’ directory ... OK
* checking DESCRIPTION meta-information ... OK
* checking top-level files ... OK
* checking for left-over files ... OK
* checking index information ... OK
* checking package subdirectories ... OK
* checking code files for non-ASCII characters ... OK
* checking R files for syntax errors ... OK
* checking whether the package can be loaded ... OK
* checking whether the package can be loaded with stated dependencies ... OK
* checking whether the package can be unloaded cleanly ... OK
* checking whether the namespace can be loaded with stated dependencies ... OK
* checking whether the namespace can be unloaded cleanly ... OK
* checking loading without being on the library search path ... OK
* checking dependencies in R code ... NOTE
Unexported objects imported by ':::' calls:
  ‘AnnotationDbi:::.getMetaValue’ ‘AnnotationDbi:::.valid.colnames’
  ‘AnnotationDbi:::.valid.metadata.table’
  ‘AnnotationDbi:::.valid.table.colnames’ ‘AnnotationDbi:::dbEasyQuery’
  ‘AnnotationDbi:::dbQuery’ ‘AnnotationDbi:::smartKeys’
  ‘BiocGenerics:::testPackage’
  ‘GenomeInfoDb:::getSeqlevelsReplacementMode’
  ‘GenomeInfoDb:::normarg_new2old’
  ‘GenomicRanges:::unsafe.transcriptLocs2refLocs’
  ‘GenomicRanges:::unsafe.transcriptWidths’
  ‘IRanges:::regroupBySupergroup’ ‘S4Vectors:::V_recycle’
  ‘S4Vectors:::decodeRle’ ‘S4Vectors:::extract_data_frame_rows’
  See the note in ?`:::` about the use of this operator.
* checking S3 generic/method consistency ... OK
* checking replacement functions ... OK
* checking foreign function calls ... OK
* checking R code for possible problems ... OK
* checking Rd files ... NOTE
checkRd: (-1) coordinate-mapping-methods.Rd:144-168: Lost braces in \itemize; meant \describe ?
checkRd: (-1) coordinate-mapping-methods.Rd:169-194: Lost braces in \itemize; meant \describe ?
checkRd: (-1) nearest-methods.Rd:43-61: Lost braces in \itemize; meant \describe ?
* checking Rd metadata ... OK
* checking Rd cross-references ... OK
* checking for missing documentation entries ... OK
* checking for code/documentation mismatches ... OK
* checking Rd \usage sections ... OK
* checking Rd contents ... OK
* checking for unstated dependencies in examples ... OK
* checking files in ‘vignettes’ ... OK
* checking examples ... OK
Examples with CPU (user + system) or elapsed time > 5s
                              user system elapsed
coverageByTranscript       108.693  2.993 113.591
coordinate-mapping-methods  56.404  1.712  67.129
exonicParts                 52.812  1.789  55.526
extractTranscriptSeqs       15.937  0.577  16.834
transcriptLocs2refLocs       7.572  0.600   8.395
* checking for unstated dependencies in ‘tests’ ... OK
* checking tests ...
  Running ‘run_unitTests.R’
 OK
* checking for unstated dependencies in vignettes ... OK
* checking package vignettes ... OK
* checking running R code from vignettes ... SKIPPED
* checking re-building of vignette outputs ... SKIPPED
* checking PDF version of manual ... OK
* DONE
Status: 3 NOTEs
See
  ‘/home/biocbuild/bbs-3.19-bioc/meat/GenomicFeatures.Rcheck/00check.log’
for details.
GenomicFeatures.Rcheck/00install.out
############################################################################## ############################################################################## ### ### Running command: ### ### /home/biocbuild/R/R-beta-2024-04-15_r86425/bin/R CMD INSTALL GenomicFeatures ### ############################################################################## ############################################################################## * installing to library ‘/home/biocbuild/R/R-beta-2024-04-15_r86425/site-library’ * installing *source* package ‘GenomicFeatures’ ... ** using staged installation ** R ** inst ** byte-compile and prepare package for lazy loading ** help *** installing help indices ** building package indices ** installing vignettes ** testing if installed package can be loaded from temporary location ** testing if installed package can be loaded from final location ** testing if installed package keeps a record of temporary installation path * DONE (GenomicFeatures)
GenomicFeatures.Rcheck/tests/run_unitTests.Rout
R version 4.4.0 beta (2024-04-15 r86425) -- "Puppy Cup"
Copyright (C) 2024 The R Foundation for Statistical Computing
Platform: aarch64-unknown-linux-gnu
R is free software and comes with ABSOLUTELY NO WARRANTY.
You are welcome to redistribute it under certain conditions.
Type 'license()' or 'licence()' for distribution details.
R is a collaborative project with many contributors.
Type 'contributors()' for more information and
'citation()' on how to cite R or R packages in publications.
Type 'demo()' for some demos, 'help()' for on-line help, or
'help.start()' for an HTML browser interface to help.
Type 'q()' to quit R.
> require("GenomicFeatures") || stop("unable to load GenomicFeatures package")
Loading required package: GenomicFeatures
Loading required package: BiocGenerics
Attaching package: 'BiocGenerics'
The following objects are masked from 'package:stats':
    IQR, mad, sd, var, xtabs
The following objects are masked from 'package:base':
    Filter, Find, Map, Position, Reduce, anyDuplicated, aperm, append,
    as.data.frame, basename, cbind, colnames, dirname, do.call,
    duplicated, eval, evalq, get, grep, grepl, intersect, is.unsorted,
    lapply, mapply, match, mget, order, paste, pmax, pmax.int, pmin,
    pmin.int, rank, rbind, rownames, sapply, setdiff, table, tapply,
    union, unique, unsplit, which.max, which.min
Loading required package: S4Vectors
Loading required package: stats4
Attaching package: 'S4Vectors'
The following object is masked from 'package:utils':
    findMatches
The following objects are masked from 'package:base':
    I, expand.grid, unname
Loading required package: IRanges
Loading required package: GenomeInfoDb
Loading required package: GenomicRanges
Loading required package: AnnotationDbi
Loading required package: Biobase
Welcome to Bioconductor
    Vignettes contain introductory material; view with
    'browseVignettes()'. To cite Bioconductor, see
    'citation("Biobase")', and for packages 'citation("pkgname")'.
[1] TRUE
> GenomicFeatures:::.test()
Loading required package: BSgenome
Loading required package: Biostrings
Loading required package: XVector
Attaching package: 'Biostrings'
The following object is masked from 'package:base':
    strsplit
Loading required package: BiocIO
Loading required package: rtracklayer
Attaching package: 'rtracklayer'
The following object is masked from 'package:BiocIO':
    FileForFormat
'select()' returned 1:1 mapping between keys and columns
'select()' returned 1:many mapping between keys and columns
'select()' returned 1:many mapping between keys and columns
'select()' returned 1:1 mapping between keys and columns
'select()' returned 1:1 mapping between keys and columns
'select()' returned 1:many mapping between keys and columns
'select()' returned 1:many mapping between keys and columns
'select()' returned 1:many mapping between keys and columns
'select()' returned 1:many mapping between keys and columns
'select()' returned 1:many mapping between keys and columns
'select()' returned 1:many mapping between keys and columns
'select()' returned 1:many mapping between keys and columns
'select()' returned 1:many mapping between keys and columns
'select()' returned 1:many mapping between keys and columns
'select()' returned 1:many mapping between keys and columns
'select()' returned 1:1 mapping between keys and columns
'select()' returned 1:many mapping between keys and columns
'select()' returned 1:many mapping between keys and columns
'select()' returned 1:many mapping between keys and columns
'select()' returned 1:1 mapping between keys and columns
Import genomic features from the file as a GRanges object ... OK
Prepare the 'metadata' data frame ... OK
Make the TxDb object ... OK
Import genomic features from the file as a GRanges object ... OK
Prepare the 'metadata' data frame ... OK
Make the TxDb object ... OK
RUNIT TEST PROTOCOL -- Thu May  9 07:54:24 2024 
*********************************************** 
Number of test functions: 67 
Number of errors: 0 
Number of failures: 0 
 
1 Test Suite : 
GenomicFeatures RUnit Tests - 67 test functions, 0 errors, 0 failures
Number of test functions: 67 
Number of errors: 0 
Number of failures: 0 
There were 11 warnings (use warnings() to see them)
> 
> proc.time()
   user  system elapsed 
 88.197   2.072 110.615 
GenomicFeatures.Rcheck/GenomicFeatures-Ex.timings
| name | user | system | elapsed | |
| FeatureDb-class | 0.092 | 0.004 | 0.098 | |
| TxDb-class | 2.634 | 0.147 | 2.789 | |
| as-format-methods | 1.714 | 0.052 | 1.770 | |
| coordinate-mapping-methods | 56.404 | 1.712 | 67.129 | |
| coverageByTranscript | 108.693 | 2.993 | 113.591 | |
| exonicParts | 52.812 | 1.789 | 55.526 | |
| extendExonsIntoIntrons | 3.665 | 0.137 | 4.096 | |
| extractTranscriptSeqs | 15.937 | 0.577 | 16.834 | |
| extractUpstreamSeqs | 1.765 | 0.128 | 2.198 | |
| features | 0.076 | 0.000 | 0.076 | |
| getPromoterSeq-methods | 3.440 | 0.569 | 4.413 | |
| id2name | 0.267 | 0.019 | 0.295 | |
| mapIdsToRanges | 0.976 | 0.106 | 1.102 | |
| mapRangesToIds | 0.920 | 0.074 | 1.011 | |
| microRNAs | 0 | 0 | 0 | |
| nearest-methods | 0.797 | 0.069 | 0.880 | |
| proteinToGenome | 2.148 | 0.118 | 2.306 | |
| select-methods | 0.279 | 0.027 | 0.314 | |
| transcriptLengths | 4.569 | 0.208 | 4.847 | |
| transcriptLocs2refLocs | 7.572 | 0.600 | 8.395 | |
| transcripts | 3.173 | 0.155 | 3.394 | |
| transcriptsBy | 1.259 | 0.118 | 1.410 | |
| transcriptsByOverlaps | 0.270 | 0.019 | 0.298 | |