| Back to Multiple platform build/check report for BioC 3.19: simplified long |
|
This page was generated on 2024-10-18 20:38 -0400 (Fri, 18 Oct 2024).
| Hostname | OS | Arch (*) | R version | Installed pkgs |
|---|---|---|---|---|
| nebbiolo1 | Linux (Ubuntu 22.04.3 LTS) | x86_64 | 4.4.1 (2024-06-14) -- "Race for Your Life" | 4763 |
| palomino7 | Windows Server 2022 Datacenter | x64 | 4.4.1 (2024-06-14 ucrt) -- "Race for Your Life" | 4500 |
| merida1 | macOS 12.7.5 Monterey | x86_64 | 4.4.1 (2024-06-14) -- "Race for Your Life" | 4530 |
| kjohnson1 | macOS 13.6.6 Ventura | arm64 | 4.4.1 (2024-06-14) -- "Race for Your Life" | 4480 |
| Click on any hostname to see more info about the system (e.g. compilers) (*) as reported by 'uname -p', except on Windows and Mac OS X | ||||
| Package 817/2300 | Hostname | OS / Arch | INSTALL | BUILD | CHECK | BUILD BIN | ||||||||
| GeneStructureTools 1.24.0 (landing page) Beth Signal
| nebbiolo1 | Linux (Ubuntu 22.04.3 LTS) / x86_64 | OK | OK | OK | |||||||||
| palomino7 | Windows Server 2022 Datacenter / x64 | OK | OK | OK | OK | |||||||||
| merida1 | macOS 12.7.5 Monterey / x86_64 | OK | OK | OK | OK | |||||||||
| kjohnson1 | macOS 13.6.6 Ventura / arm64 | OK | OK | OK | OK | |||||||||
|
To the developers/maintainers of the GeneStructureTools package: - Allow up to 24 hours (and sometimes 48 hours) for your latest push to git@git.bioconductor.org:packages/GeneStructureTools.git to reflect on this report. See Troubleshooting Build Report for more information. - Use the following Renviron settings to reproduce errors and warnings. - If 'R CMD check' started to fail recently on the Linux builder(s) over a missing dependency, add the missing dependency to 'Suggests:' in your DESCRIPTION file. See Renviron.bioc for more information. |
| Package: GeneStructureTools |
| Version: 1.24.0 |
| Command: /home/biocbuild/bbs-3.19-bioc/R/bin/R CMD check --install=check:GeneStructureTools.install-out.txt --library=/home/biocbuild/bbs-3.19-bioc/R/site-library --timings GeneStructureTools_1.24.0.tar.gz |
| StartedAt: 2024-10-17 00:44:00 -0400 (Thu, 17 Oct 2024) |
| EndedAt: 2024-10-17 00:52:24 -0400 (Thu, 17 Oct 2024) |
| EllapsedTime: 504.0 seconds |
| RetCode: 0 |
| Status: OK |
| CheckDir: GeneStructureTools.Rcheck |
| Warnings: 0 |
##############################################################################
##############################################################################
###
### Running command:
###
### /home/biocbuild/bbs-3.19-bioc/R/bin/R CMD check --install=check:GeneStructureTools.install-out.txt --library=/home/biocbuild/bbs-3.19-bioc/R/site-library --timings GeneStructureTools_1.24.0.tar.gz
###
##############################################################################
##############################################################################
* using log directory ‘/home/biocbuild/bbs-3.19-bioc/meat/GeneStructureTools.Rcheck’
* using R version 4.4.1 (2024-06-14)
* using platform: x86_64-pc-linux-gnu
* R was compiled by
gcc (Ubuntu 11.4.0-1ubuntu1~22.04) 11.4.0
GNU Fortran (Ubuntu 11.4.0-1ubuntu1~22.04) 11.4.0
* running under: Ubuntu 22.04.5 LTS
* using session charset: UTF-8
* checking for file ‘GeneStructureTools/DESCRIPTION’ ... OK
* checking extension type ... Package
* this is package ‘GeneStructureTools’ version ‘1.24.0’
* package encoding: UTF-8
* checking package namespace information ... OK
* checking package dependencies ... OK
* checking if this is a source package ... OK
* checking if there is a namespace ... OK
* checking for hidden files and directories ... OK
* checking for portable file names ... OK
* checking for sufficient/correct file permissions ... OK
* checking whether package ‘GeneStructureTools’ can be installed ... OK
* checking installed package size ... OK
* checking package directory ... OK
* checking ‘build’ directory ... OK
* checking DESCRIPTION meta-information ... OK
* checking top-level files ... OK
* checking for left-over files ... OK
* checking index information ... OK
* checking package subdirectories ... OK
* checking code files for non-ASCII characters ... OK
* checking R files for syntax errors ... OK
* checking whether the package can be loaded ... OK
* checking whether the package can be loaded with stated dependencies ... OK
* checking whether the package can be unloaded cleanly ... OK
* checking whether the namespace can be loaded with stated dependencies ... OK
* checking whether the namespace can be unloaded cleanly ... OK
* checking loading without being on the library search path ... OK
* checking dependencies in R code ... OK
* checking S3 generic/method consistency ... OK
* checking replacement functions ... OK
* checking foreign function calls ... OK
* checking R code for possible problems ... OK
* checking Rd files ... OK
* checking Rd metadata ... OK
* checking Rd cross-references ... OK
* checking for missing documentation entries ... OK
* checking for code/documentation mismatches ... OK
* checking Rd \usage sections ... OK
* checking Rd contents ... OK
* checking for unstated dependencies in examples ... OK
* checking files in ‘vignettes’ ... OK
* checking examples ... OK
Examples with CPU (user + system) or elapsed time > 5s
user system elapsed
leafcutterTranscriptChangeSummary 22.327 0.406 22.734
whippetTranscriptChangeSummary 11.172 0.191 11.363
* checking for unstated dependencies in vignettes ... OK
* checking package vignettes ... OK
* checking re-building of vignette outputs ... OK
* checking PDF version of manual ... OK
* DONE
Status: OK
GeneStructureTools.Rcheck/00install.out
############################################################################## ############################################################################## ### ### Running command: ### ### /home/biocbuild/bbs-3.19-bioc/R/bin/R CMD INSTALL GeneStructureTools ### ############################################################################## ############################################################################## * installing to library ‘/home/biocbuild/bbs-3.19-bioc/R/site-library’ * installing *source* package ‘GeneStructureTools’ ... ** using staged installation ** R ** inst ** byte-compile and prepare package for lazy loading ** help *** installing help indices ** building package indices ** installing vignettes ** testing if installed package can be loaded from temporary location ** testing if installed package can be loaded from final location ** testing if installed package keeps a record of temporary installation path * DONE (GeneStructureTools)
GeneStructureTools.Rcheck/GeneStructureTools-Ex.timings
| name | user | system | elapsed | |
| DEXSeqIdsToGeneIds | 0.003 | 0.000 | 0.003 | |
| UTR2UTR53 | 2.143 | 0.128 | 2.272 | |
| addBroadTypes | 0.180 | 0.000 | 0.181 | |
| addIntronInTranscript | 1.837 | 0.052 | 1.891 | |
| alternativeIntronUsage | 4.244 | 0.036 | 4.281 | |
| annotateGeneModel | 0.81 | 0.02 | 0.83 | |
| attrChangeAltSpliced | 1.205 | 0.042 | 1.246 | |
| coordinates-methods | 0.052 | 0.016 | 0.068 | |
| diffSplicingResults-methods | 0.057 | 0.013 | 0.070 | |
| exonsToTranscripts | 0.304 | 0.004 | 0.308 | |
| filterGtfOverlap | 0.238 | 0.006 | 0.243 | |
| filterWhippetEvents | 0.065 | 0.018 | 0.083 | |
| findDEXexonType | 2.533 | 0.023 | 2.558 | |
| findExonContainingTranscripts | 0.423 | 0.041 | 0.464 | |
| findIntronContainingTranscripts | 0.658 | 0.038 | 0.696 | |
| findJunctionPairs | 1.338 | 0.018 | 1.355 | |
| formatWhippetEvents | 0.009 | 0.004 | 0.015 | |
| getOrfs | 0.709 | 0.020 | 0.728 | |
| getUOrfs | 0.541 | 0.016 | 0.556 | |
| junctions-methods | 0.056 | 0.005 | 0.062 | |
| leafcutterTranscriptChangeSummary | 22.327 | 0.406 | 22.734 | |
| makeGeneModel | 0.136 | 0.008 | 0.143 | |
| maxLocation | 0.002 | 0.000 | 0.003 | |
| orfDiff | 1.391 | 0.048 | 1.438 | |
| orfSimilarity | 0.001 | 0.000 | 0.001 | |
| overlapTypes | 2.101 | 0.012 | 2.113 | |
| readCounts-methods | 0.056 | 0.013 | 0.069 | |
| readWhippetDIFFfiles | 0.004 | 0.001 | 0.006 | |
| readWhippetDataSet | 0.056 | 0.006 | 0.063 | |
| readWhippetJNCfiles | 0.03 | 0.00 | 0.03 | |
| readWhippetPSIfiles | 0.011 | 0.005 | 0.016 | |
| removeDuplicateTranscripts | 0.243 | 0.000 | 0.244 | |
| removeSameExon | 0.199 | 0.004 | 0.203 | |
| removeVersion | 0.000 | 0.000 | 0.001 | |
| reorderExonNumbers | 0.161 | 0.000 | 0.162 | |
| replaceJunction | 3.687 | 0.039 | 3.727 | |
| skipExonInTranscript | 1.257 | 0.012 | 1.270 | |
| summariseExonTypes | 2.316 | 0.026 | 2.342 | |
| transcriptChangeSummary | 1.366 | 0.031 | 1.396 | |
| whippetTranscriptChangeSummary | 11.172 | 0.191 | 11.363 | |