| Back to Multiple platform build/check report for BioC 3.19: simplified long | 
 | 
This page was generated on 2024-10-18 20:42 -0400 (Fri, 18 Oct 2024).
| Hostname | OS | Arch (*) | R version | Installed pkgs | 
|---|---|---|---|---|
| nebbiolo1 | Linux (Ubuntu 22.04.3 LTS) | x86_64 | 4.4.1 (2024-06-14) -- "Race for Your Life" | 4763 | 
| palomino7 | Windows Server 2022 Datacenter | x64 | 4.4.1 (2024-06-14 ucrt) -- "Race for Your Life" | 4500 | 
| merida1 | macOS 12.7.5 Monterey | x86_64 | 4.4.1 (2024-06-14) -- "Race for Your Life" | 4530 | 
| kjohnson1 | macOS 13.6.6 Ventura | arm64 | 4.4.1 (2024-06-14) -- "Race for Your Life" | 4480 | 
| Click on any hostname to see more info about the system (e.g. compilers) (*) as reported by 'uname -p', except on Windows and Mac OS X | ||||
| Package 800/2300 | Hostname | OS / Arch | INSTALL | BUILD | CHECK | BUILD BIN | ||||||||
| GeneBreak 1.34.0  (landing page) Evert van den Broek 
 | nebbiolo1 | Linux (Ubuntu 22.04.3 LTS) / x86_64 | OK | OK | OK |  | ||||||||
| palomino7 | Windows Server 2022 Datacenter / x64 | OK | OK | OK | OK |  | ||||||||
| merida1 | macOS 12.7.5 Monterey / x86_64 | OK | OK | OK | OK |  | ||||||||
| kjohnson1 | macOS 13.6.6 Ventura / arm64 | OK | OK | OK | OK |  | ||||||||
| To the developers/maintainers of the GeneBreak package: - Allow up to 24 hours (and sometimes 48 hours) for your latest push to git@git.bioconductor.org:packages/GeneBreak.git to reflect on this report. See Troubleshooting Build Report for more information. - Use the following Renviron settings to reproduce errors and warnings. - If 'R CMD check' started to fail recently on the Linux builder(s) over a missing dependency, add the missing dependency to 'Suggests:' in your DESCRIPTION file. See Renviron.bioc for more information. | 
| Package: GeneBreak | 
| Version: 1.34.0 | 
| Command: /Library/Frameworks/R.framework/Resources/bin/R CMD check --install=check:GeneBreak.install-out.txt --library=/Library/Frameworks/R.framework/Resources/library --no-vignettes --timings GeneBreak_1.34.0.tar.gz | 
| StartedAt: 2024-10-17 22:28:59 -0400 (Thu, 17 Oct 2024) | 
| EndedAt: 2024-10-17 22:32:04 -0400 (Thu, 17 Oct 2024) | 
| EllapsedTime: 185.4 seconds | 
| RetCode: 0 | 
| Status: OK | 
| CheckDir: GeneBreak.Rcheck | 
| Warnings: 0 | 
##############################################################################
##############################################################################
###
### Running command:
###
###   /Library/Frameworks/R.framework/Resources/bin/R CMD check --install=check:GeneBreak.install-out.txt --library=/Library/Frameworks/R.framework/Resources/library --no-vignettes --timings GeneBreak_1.34.0.tar.gz
###
##############################################################################
##############################################################################
* using log directory ‘/Users/biocbuild/bbs-3.19-bioc/meat/GeneBreak.Rcheck’
* using R version 4.4.1 (2024-06-14)
* using platform: aarch64-apple-darwin20
* R was compiled by
    Apple clang version 14.0.0 (clang-1400.0.29.202)
    GNU Fortran (GCC) 12.2.0
* running under: macOS Ventura 13.6.6
* using session charset: UTF-8
* using option ‘--no-vignettes’
* checking for file ‘GeneBreak/DESCRIPTION’ ... OK
* checking extension type ... Package
* this is package ‘GeneBreak’ version ‘1.34.0’
* checking package namespace information ... OK
* checking package dependencies ... OK
* checking if this is a source package ... OK
* checking if there is a namespace ... OK
* checking for hidden files and directories ... OK
* checking for portable file names ... OK
* checking for sufficient/correct file permissions ... OK
* checking whether package ‘GeneBreak’ can be installed ... OK
* checking installed package size ... OK
* checking package directory ... OK
* checking ‘build’ directory ... OK
* checking DESCRIPTION meta-information ... OK
* checking top-level files ... OK
* checking for left-over files ... OK
* checking index information ... OK
* checking package subdirectories ... OK
* checking code files for non-ASCII characters ... OK
* checking R files for syntax errors ... OK
* checking whether the package can be loaded ... OK
* checking whether the package can be loaded with stated dependencies ... OK
* checking whether the package can be unloaded cleanly ... OK
* checking whether the namespace can be loaded with stated dependencies ... OK
* checking whether the namespace can be unloaded cleanly ... OK
* checking dependencies in R code ... OK
* checking S3 generic/method consistency ... OK
* checking replacement functions ... OK
* checking foreign function calls ... OK
* checking R code for possible problems ... NOTE
.glmbreak: no visible global function definition for ‘glm’
.glmbreak: no visible global function definition for ‘predict’
addGeneAnnotation,CopyNumberBreakPoints: no visible global function
  definition for ‘head’
bpStats,CopyNumberBreakPoints: no visible global function definition
  for ‘sd’
bpStats,CopyNumberBreakPoints: no visible global function definition
  for ‘p.adjust’
Undefined global functions or variables:
  glm head p.adjust predict sd
Consider adding
  importFrom("stats", "glm", "p.adjust", "predict", "sd")
  importFrom("utils", "head")
to your NAMESPACE file.
* checking Rd files ... OK
* checking Rd metadata ... OK
* checking Rd cross-references ... OK
* checking for missing documentation entries ... OK
* checking for code/documentation mismatches ... OK
* checking Rd \usage sections ... OK
* checking Rd contents ... OK
* checking for unstated dependencies in examples ... OK
* checking contents of ‘data’ directory ... OK
* checking data for non-ASCII characters ... OK
* checking data for ASCII and uncompressed saves ... OK
* checking sizes of PDF files under ‘inst/doc’ ... OK
* checking files in ‘vignettes’ ... OK
* checking examples ... OK
Examples with CPU (user + system) or elapsed time > 5s
                                                 user system elapsed
CopyNumberBreakPointGenes-class                 7.244  0.736   7.987
bpPlot-CopyNumberBreakPoints-method             5.248  0.855   6.216
bpStats-CopyNumberBreakPoints-method            5.288  0.712   6.020
recurrentGenes-CopyNumberBreakPointGenes-method 5.311  0.627   5.969
* checking for unstated dependencies in vignettes ... OK
* checking package vignettes ... OK
* checking running R code from vignettes ... SKIPPED
* checking re-building of vignette outputs ... SKIPPED
* checking PDF version of manual ... OK
* DONE
Status: 1 NOTE
See
  ‘/Users/biocbuild/bbs-3.19-bioc/meat/GeneBreak.Rcheck/00check.log’
for details.
GeneBreak.Rcheck/00install.out
############################################################################## ############################################################################## ### ### Running command: ### ### /Library/Frameworks/R.framework/Resources/bin/R CMD INSTALL GeneBreak ### ############################################################################## ############################################################################## * installing to library ‘/Library/Frameworks/R.framework/Versions/4.4-arm64/Resources/library’ * installing *source* package ‘GeneBreak’ ... ** using staged installation ** R ** data ** byte-compile and prepare package for lazy loading Creating a new generic function for ‘segmentData’ in package ‘GeneBreak’ ** help *** installing help indices ** building package indices ** installing vignettes ** testing if installed package can be loaded from temporary location ** testing if installed package can be loaded from final location ** testing if installed package keeps a record of temporary installation path * DONE (GeneBreak)
GeneBreak.Rcheck/GeneBreak-Ex.timings
| name | user | system | elapsed | |
| CopyNumberBreakPointGenes-class | 7.244 | 0.736 | 7.987 | |
| CopyNumberBreakPoints-class | 1.733 | 0.145 | 1.888 | |
| accessOptions-CopyNumberBreakPoints-method | 1.142 | 0.076 | 1.224 | |
| addGeneAnnotation-CopyNumberBreakPoints-method | 1.890 | 0.172 | 2.064 | |
| bpFilter-CopyNumberBreakPoints-method | 1.570 | 0.153 | 1.732 | |
| bpGenes-CopyNumberBreakPointGenes-method | 2.318 | 0.267 | 2.598 | |
| bpPlot-CopyNumberBreakPoints-method | 5.248 | 0.855 | 6.216 | |
| bpStats-CopyNumberBreakPoints-method | 5.288 | 0.712 | 6.020 | |
| breakpointData-CopyNumberBreakPoints-method | 1.319 | 0.641 | 1.965 | |
| breakpointsPerGene-CopyNumberBreakPointGenes-method | 2.118 | 1.088 | 3.215 | |
| callData-CopyNumberBreakPoints-method | 1.351 | 0.640 | 1.998 | |
| featureChromosomes-CopyNumberBreakPoints-method | 1.114 | 0.252 | 1.367 | |
| featureInfo-CopyNumberBreakPoints-method | 1.760 | 0.615 | 2.391 | |
| featuresPerGene-CopyNumberBreakPointGenes-method | 1.879 | 0.413 | 2.296 | |
| geneChromosomes-CopyNumberBreakPointGenes-method | 1.791 | 0.329 | 2.131 | |
| geneInfo-CopyNumberBreakPointGenes-method | 1.981 | 0.261 | 2.257 | |
| getBreakpoints | 1.537 | 0.297 | 1.850 | |
| namesFeatures-CopyNumberBreakPoints-method | 1.161 | 0.124 | 1.287 | |
| recurrentGenes-CopyNumberBreakPointGenes-method | 5.311 | 0.627 | 5.969 | |
| sampleNames-CopyNumberBreakPoints-method | 0.794 | 0.091 | 0.896 | |
| segmentData-CopyNumberBreakPoints-method | 1.330 | 0.617 | 1.951 | |