| Back to Multiple platform build/check report for BioC 3.19: simplified long |
|
This page was generated on 2024-06-11 14:42 -0400 (Tue, 11 Jun 2024).
| Hostname | OS | Arch (*) | R version | Installed pkgs |
|---|---|---|---|---|
| nebbiolo1 | Linux (Ubuntu 22.04.3 LTS) | x86_64 | 4.4.0 (2024-04-24) -- "Puppy Cup" | 4757 |
| palomino3 | Windows Server 2022 Datacenter | x64 | 4.4.0 (2024-04-24 ucrt) -- "Puppy Cup" | 4491 |
| lconway | macOS 12.7.1 Monterey | x86_64 | 4.4.0 (2024-04-24) -- "Puppy Cup" | 4522 |
| kjohnson3 | macOS 13.6.5 Ventura | arm64 | 4.4.0 (2024-04-24) -- "Puppy Cup" | 4468 |
| Click on any hostname to see more info about the system (e.g. compilers) (*) as reported by 'uname -p', except on Windows and Mac OS X | ||||
| Package 794/2300 | Hostname | OS / Arch | INSTALL | BUILD | CHECK | BUILD BIN | ||||||||
| GeDi 1.0.0 (landing page) Annekathrin Nedwed
| nebbiolo1 | Linux (Ubuntu 22.04.3 LTS) / x86_64 | OK | OK | OK | |||||||||
| palomino3 | Windows Server 2022 Datacenter / x64 | OK | OK | OK | OK | |||||||||
| lconway | macOS 12.7.1 Monterey / x86_64 | OK | OK | OK | OK | |||||||||
| kjohnson3 | macOS 13.6.5 Ventura / arm64 | OK | OK | OK | OK | |||||||||
|
To the developers/maintainers of the GeDi package: - Allow up to 24 hours (and sometimes 48 hours) for your latest push to git@git.bioconductor.org:packages/GeDi.git to reflect on this report. See Troubleshooting Build Report for more information. - Use the following Renviron settings to reproduce errors and warnings. - If 'R CMD check' started to fail recently on the Linux builder(s) over a missing dependency, add the missing dependency to 'Suggests:' in your DESCRIPTION file. See Renviron.bioc for more information. |
| Package: GeDi |
| Version: 1.0.0 |
| Command: /Library/Frameworks/R.framework/Resources/bin/R CMD check --install=check:GeDi.install-out.txt --library=/Library/Frameworks/R.framework/Resources/library --no-vignettes --timings GeDi_1.0.0.tar.gz |
| StartedAt: 2024-06-09 20:30:17 -0400 (Sun, 09 Jun 2024) |
| EndedAt: 2024-06-09 20:43:41 -0400 (Sun, 09 Jun 2024) |
| EllapsedTime: 804.2 seconds |
| RetCode: 0 |
| Status: OK |
| CheckDir: GeDi.Rcheck |
| Warnings: 0 |
##############################################################################
##############################################################################
###
### Running command:
###
### /Library/Frameworks/R.framework/Resources/bin/R CMD check --install=check:GeDi.install-out.txt --library=/Library/Frameworks/R.framework/Resources/library --no-vignettes --timings GeDi_1.0.0.tar.gz
###
##############################################################################
##############################################################################
* using log directory ‘/Users/biocbuild/bbs-3.19-bioc/meat/GeDi.Rcheck’
* using R version 4.4.0 (2024-04-24)
* using platform: x86_64-apple-darwin20
* R was compiled by
Apple clang version 14.0.0 (clang-1400.0.29.202)
GNU Fortran (GCC) 12.2.0
* running under: macOS Monterey 12.7.1
* using session charset: UTF-8
* using option ‘--no-vignettes’
* checking for file ‘GeDi/DESCRIPTION’ ... OK
* this is package ‘GeDi’ version ‘1.0.0’
* package encoding: UTF-8
* checking package namespace information ... OK
* checking package dependencies ... OK
* checking if this is a source package ... OK
* checking if there is a namespace ... OK
* checking for hidden files and directories ... OK
* checking for portable file names ... OK
* checking for sufficient/correct file permissions ... OK
* checking whether package ‘GeDi’ can be installed ... OK
* checking installed package size ... OK
* checking package directory ... OK
* checking ‘build’ directory ... OK
* checking DESCRIPTION meta-information ... OK
* checking top-level files ... OK
* checking for left-over files ... OK
* checking index information ... OK
* checking package subdirectories ... OK
* checking code files for non-ASCII characters ... OK
* checking R files for syntax errors ... OK
* checking whether the package can be loaded ... OK
* checking whether the package can be loaded with stated dependencies ... OK
* checking whether the package can be unloaded cleanly ... OK
* checking whether the namespace can be loaded with stated dependencies ... OK
* checking whether the namespace can be unloaded cleanly ... OK
* checking whether startup messages can be suppressed ... OK
* checking dependencies in R code ... OK
* checking S3 generic/method consistency ... OK
* checking replacement functions ... OK
* checking foreign function calls ... OK
* checking R code for possible problems ... OK
* checking Rd files ... OK
* checking Rd metadata ... OK
* checking Rd cross-references ... OK
* checking for missing documentation entries ... OK
* checking for code/documentation mismatches ... OK
* checking Rd \usage sections ... OK
* checking Rd contents ... OK
* checking for unstated dependencies in examples ... OK
* checking contents of ‘data’ directory ... OK
* checking data for non-ASCII characters ... OK
* checking data for ASCII and uncompressed saves ... OK
* checking files in ‘vignettes’ ... OK
* checking examples ... OK
Examples with CPU (user + system) or elapsed time > 5s
user system elapsed
getAnnotation 108.974 4.309 193.382
getPPI 69.932 1.532 71.983
goSimilarity 6.367 0.687 7.094
scaleGO 4.913 0.353 5.292
getId 0.208 0.013 8.500
* checking for unstated dependencies in ‘tests’ ... OK
* checking tests ...
Running ‘testthat.R’
OK
* checking for unstated dependencies in vignettes ... OK
* checking package vignettes ... OK
* checking running R code from vignettes ... SKIPPED
* checking re-building of vignette outputs ... SKIPPED
* checking PDF version of manual ... OK
* DONE
Status: OK
GeDi.Rcheck/00install.out
############################################################################## ############################################################################## ### ### Running command: ### ### /Library/Frameworks/R.framework/Resources/bin/R CMD INSTALL GeDi ### ############################################################################## ############################################################################## * installing to library ‘/Library/Frameworks/R.framework/Versions/4.4-x86_64/Resources/library’ * installing *source* package ‘GeDi’ ... ** using staged installation ** R ** data ** inst ** byte-compile and prepare package for lazy loading ** help *** installing help indices *** copying figures ** building package indices ** installing vignettes ** testing if installed package can be loaded from temporary location ** testing if installed package can be loaded from final location ** testing if installed package keeps a record of temporary installation path * DONE (GeDi)
GeDi.Rcheck/tests/testthat.Rout
R version 4.4.0 (2024-04-24) -- "Puppy Cup"
Copyright (C) 2024 The R Foundation for Statistical Computing
Platform: x86_64-apple-darwin20
R is free software and comes with ABSOLUTELY NO WARRANTY.
You are welcome to redistribute it under certain conditions.
Type 'license()' or 'licence()' for distribution details.
R is a collaborative project with many contributors.
Type 'contributors()' for more information and
'citation()' on how to cite R or R packages in publications.
Type 'demo()' for some demos, 'help()' for on-line help, or
'help.start()' for an HTML browser interface to help.
Type 'q()' to quit R.
> library(testthat)
> library(GeDi)
>
> test_check("GeDi")
trying URL 'https://stringdb-downloads.org/download/protein.aliases.v11.5/9606.protein.aliases.v11.5.txt.gz'
Content type 'application/octet-stream' length 21726816 bytes (20.7 MB)
==================================================
downloaded 20.7 MB
trying URL 'https://stringdb-downloads.org/download/protein.info.v11.5/9606.protein.info.v11.5.txt.gz'
Content type 'application/octet-stream' length 1901833 bytes (1.8 MB)
==================================================
downloaded 1.8 MB
trying URL 'https://stringdb-downloads.org/download/protein.links.v11.5/9606.protein.links.v11.5.txt.gz'
Content type 'application/octet-stream' length 72718210 bytes (69.3 MB)
==================================================
downloaded 69.3 MB
preparing gene to GO mapping data...
preparing gene to GO mapping data...
[ FAIL 0 | WARN 0 | SKIP 0 | PASS 182 ]
>
> proc.time()
user system elapsed
136.765 6.818 235.992
GeDi.Rcheck/GeDi-Ex.timings
| name | user | system | elapsed | |
| GeDi | 0.007 | 0.002 | 0.009 | |
| buildClusterGraph | 0.135 | 0.010 | 0.146 | |
| buildGraph | 0.008 | 0.001 | 0.010 | |
| buildHistogramData | 0.013 | 0.002 | 0.016 | |
| calculateJaccard | 0.010 | 0.002 | 0.011 | |
| calculateKappa | 0.035 | 0.002 | 0.037 | |
| calculateSorensenDice | 0.011 | 0.002 | 0.013 | |
| checkInclusion | 0.009 | 0.002 | 0.012 | |
| clustering | 0.183 | 0.010 | 0.194 | |
| distanceDendro | 0.174 | 0.004 | 0.178 | |
| distanceHeatmap | 0.190 | 0.012 | 0.203 | |
| enrichmentWordcloud | 0.292 | 0.015 | 0.310 | |
| fuzzyClustering | 0.006 | 0.002 | 0.008 | |
| getAdjacencyMatrix | 0.080 | 0.001 | 0.080 | |
| getAnnotation | 108.974 | 4.309 | 193.382 | |
| getBipartiteGraph | 0.005 | 0.000 | 0.007 | |
| getClusterAdjacencyMatrix | 0.035 | 0.000 | 0.035 | |
| getGenes | 0.008 | 0.007 | 0.016 | |
| getGraphTitle | 0.005 | 0.000 | 0.006 | |
| getId | 0.208 | 0.013 | 8.500 | |
| getInteractionScore | 0.040 | 0.018 | 0.058 | |
| getJaccardMatrix | 0.564 | 0.018 | 0.583 | |
| getKappaMatrix | 1.529 | 0.142 | 1.676 | |
| getMeetMinMatrix | 0.865 | 0.102 | 0.971 | |
| getPPI | 69.932 | 1.532 | 71.983 | |
| getSorensenDiceMatrix | 0.471 | 0.004 | 0.476 | |
| getStringDB | 0.125 | 0.008 | 2.561 | |
| getpMMMatrix | 0.751 | 0.024 | 0.778 | |
| goSimilarity | 6.367 | 0.687 | 7.094 | |
| gsHistogram | 0.020 | 0.005 | 0.025 | |
| kNN_clustering | 0.040 | 0.006 | 0.047 | |
| pMMlocal | 0.026 | 0.008 | 0.034 | |
| scaleGO | 4.913 | 0.353 | 5.292 | |
| seedFinding | 0.006 | 0.006 | 0.013 | |