| Back to Multiple platform build/check report for BioC 3.19: simplified long | 
 | 
This page was generated on 2024-10-18 20:38 -0400 (Fri, 18 Oct 2024).
| Hostname | OS | Arch (*) | R version | Installed pkgs | 
|---|---|---|---|---|
| nebbiolo1 | Linux (Ubuntu 22.04.3 LTS) | x86_64 | 4.4.1 (2024-06-14) -- "Race for Your Life" | 4763 | 
| palomino7 | Windows Server 2022 Datacenter | x64 | 4.4.1 (2024-06-14 ucrt) -- "Race for Your Life" | 4500 | 
| merida1 | macOS 12.7.5 Monterey | x86_64 | 4.4.1 (2024-06-14) -- "Race for Your Life" | 4530 | 
| kjohnson1 | macOS 13.6.6 Ventura | arm64 | 4.4.1 (2024-06-14) -- "Race for Your Life" | 4480 | 
| Click on any hostname to see more info about the system (e.g. compilers) (*) as reported by 'uname -p', except on Windows and Mac OS X | ||||
| Package 923/2300 | Hostname | OS / Arch | INSTALL | BUILD | CHECK | BUILD BIN | ||||||||
| GSEABenchmarkeR 1.24.0  (landing page) Ludwig Geistlinger 
 | nebbiolo1 | Linux (Ubuntu 22.04.3 LTS) / x86_64 | OK | OK | OK |  | ||||||||
| palomino7 | Windows Server 2022 Datacenter / x64 | OK | OK | OK | OK |  | ||||||||
| merida1 | macOS 12.7.5 Monterey / x86_64 | OK | OK | OK | OK |  | ||||||||
| kjohnson1 | macOS 13.6.6 Ventura / arm64 | OK | OK | OK | OK |  | ||||||||
| To the developers/maintainers of the GSEABenchmarkeR package: - Allow up to 24 hours (and sometimes 48 hours) for your latest push to git@git.bioconductor.org:packages/GSEABenchmarkeR.git to reflect on this report. See Troubleshooting Build Report for more information. - Use the following Renviron settings to reproduce errors and warnings. - If 'R CMD check' started to fail recently on the Linux builder(s) over a missing dependency, add the missing dependency to 'Suggests:' in your DESCRIPTION file. See Renviron.bioc for more information. | 
| Package: GSEABenchmarkeR | 
| Version: 1.24.0 | 
| Command: /home/biocbuild/bbs-3.19-bioc/R/bin/R CMD check --install=check:GSEABenchmarkeR.install-out.txt --library=/home/biocbuild/bbs-3.19-bioc/R/site-library --timings GSEABenchmarkeR_1.24.0.tar.gz | 
| StartedAt: 2024-10-17 01:10:35 -0400 (Thu, 17 Oct 2024) | 
| EndedAt: 2024-10-17 01:18:06 -0400 (Thu, 17 Oct 2024) | 
| EllapsedTime: 452.0 seconds | 
| RetCode: 0 | 
| Status: OK | 
| CheckDir: GSEABenchmarkeR.Rcheck | 
| Warnings: 0 | 
##############################################################################
##############################################################################
###
### Running command:
###
###   /home/biocbuild/bbs-3.19-bioc/R/bin/R CMD check --install=check:GSEABenchmarkeR.install-out.txt --library=/home/biocbuild/bbs-3.19-bioc/R/site-library --timings GSEABenchmarkeR_1.24.0.tar.gz
###
##############################################################################
##############################################################################
* using log directory ‘/home/biocbuild/bbs-3.19-bioc/meat/GSEABenchmarkeR.Rcheck’
* using R version 4.4.1 (2024-06-14)
* using platform: x86_64-pc-linux-gnu
* R was compiled by
    gcc (Ubuntu 11.4.0-1ubuntu1~22.04) 11.4.0
    GNU Fortran (Ubuntu 11.4.0-1ubuntu1~22.04) 11.4.0
* running under: Ubuntu 22.04.5 LTS
* using session charset: UTF-8
* checking for file ‘GSEABenchmarkeR/DESCRIPTION’ ... OK
* checking extension type ... Package
* this is package ‘GSEABenchmarkeR’ version ‘1.24.0’
* package encoding: UTF-8
* checking package namespace information ... OK
* checking package dependencies ... OK
* checking if this is a source package ... OK
* checking if there is a namespace ... OK
* checking for hidden files and directories ... OK
* checking for portable file names ... OK
* checking for sufficient/correct file permissions ... OK
* checking whether package ‘GSEABenchmarkeR’ can be installed ... OK
* checking installed package size ... OK
* checking package directory ... OK
* checking ‘build’ directory ... OK
* checking DESCRIPTION meta-information ... OK
* checking top-level files ... OK
* checking for left-over files ... OK
* checking index information ... OK
* checking package subdirectories ... OK
* checking code files for non-ASCII characters ... OK
* checking R files for syntax errors ... OK
* checking whether the package can be loaded ... OK
* checking whether the package can be loaded with stated dependencies ... OK
* checking whether the package can be unloaded cleanly ... OK
* checking whether the namespace can be loaded with stated dependencies ... OK
* checking whether the namespace can be unloaded cleanly ... OK
* checking loading without being on the library search path ... OK
* checking dependencies in R code ... OK
* checking S3 generic/method consistency ... OK
* checking replacement functions ... OK
* checking foreign function calls ... OK
* checking R code for possible problems ... NOTE
evalRelevance: no visible binding for global variable ‘REL.SCORE’
Undefined global functions or variables:
  REL.SCORE
* checking Rd files ... OK
* checking Rd metadata ... OK
* checking Rd cross-references ... OK
* checking for missing documentation entries ... OK
* checking for code/documentation mismatches ... OK
* checking Rd \usage sections ... OK
* checking Rd contents ... OK
* checking for unstated dependencies in examples ... OK
* checking files in ‘vignettes’ ... OK
* checking examples ... OK
Examples with CPU (user + system) or elapsed time > 5s
                 user system elapsed
evalRandomGS   59.747  7.069  75.843
evalTypeIError 30.079 25.403  57.473
loadEData      28.732  5.440  34.180
runEA          11.052 11.275  12.889
* checking for unstated dependencies in vignettes ... OK
* checking package vignettes ... OK
* checking re-building of vignette outputs ... OK
* checking PDF version of manual ... OK
* DONE
Status: 1 NOTE
See
  ‘/home/biocbuild/bbs-3.19-bioc/meat/GSEABenchmarkeR.Rcheck/00check.log’
for details.
GSEABenchmarkeR.Rcheck/00install.out
############################################################################## ############################################################################## ### ### Running command: ### ### /home/biocbuild/bbs-3.19-bioc/R/bin/R CMD INSTALL GSEABenchmarkeR ### ############################################################################## ############################################################################## * installing to library ‘/home/biocbuild/bbs-3.19-bioc/R/site-library’ * installing *source* package ‘GSEABenchmarkeR’ ... ** using staged installation ** R ** inst ** byte-compile and prepare package for lazy loading ** help *** installing help indices ** building package indices ** installing vignettes ** testing if installed package can be loaded from temporary location ** testing if installed package can be loaded from final location ** testing if installed package keeps a record of temporary installation path * DONE (GSEABenchmarkeR)
GSEABenchmarkeR.Rcheck/GSEABenchmarkeR-Ex.timings
| name | user | system | elapsed | |
| bpPlot | 0.050 | 0.008 | 0.058 | |
| cacheResource | 2.781 | 0.460 | 3.242 | |
| evalNrSigSets | 2.839 | 0.272 | 3.110 | |
| evalRandomGS | 59.747 | 7.069 | 75.843 | |
| evalRelevance | 2.353 | 1.127 | 1.908 | |
| evalTypeIError | 30.079 | 25.403 | 57.473 | |
| loadEData | 28.732 | 5.440 | 34.180 | |
| maPreproc | 1.349 | 0.188 | 1.857 | |
| readDataId2diseaseCodeMap | 0.000 | 0.005 | 0.005 | |
| readResults | 0.582 | 0.572 | 0.206 | |
| runDE | 1.108 | 0.926 | 1.595 | |
| runEA | 11.052 | 11.275 | 12.889 | |