| Back to Multiple platform build/check report for BioC 3.19: simplified long | 
 | 
This page was generated on 2024-06-11 14:43 -0400 (Tue, 11 Jun 2024).
| Hostname | OS | Arch (*) | R version | Installed pkgs | 
|---|---|---|---|---|
| nebbiolo1 | Linux (Ubuntu 22.04.3 LTS) | x86_64 | 4.4.0 (2024-04-24) -- "Puppy Cup" | 4757 | 
| palomino3 | Windows Server 2022 Datacenter | x64 | 4.4.0 (2024-04-24 ucrt) -- "Puppy Cup" | 4491 | 
| lconway | macOS 12.7.1 Monterey | x86_64 | 4.4.0 (2024-04-24) -- "Puppy Cup" | 4522 | 
| kjohnson3 | macOS 13.6.5 Ventura | arm64 | 4.4.0 (2024-04-24) -- "Puppy Cup" | 4468 | 
| Click on any hostname to see more info about the system (e.g. compilers) (*) as reported by 'uname -p', except on Windows and Mac OS X | ||||
| Package 890/2300 | Hostname | OS / Arch | INSTALL | BUILD | CHECK | BUILD BIN | ||||||||
| GOexpress 1.38.0  (landing page) Kevin Rue-Albrecht 
 | nebbiolo1 | Linux (Ubuntu 22.04.3 LTS) / x86_64 | OK | OK | OK |  | ||||||||
| palomino3 | Windows Server 2022 Datacenter / x64 | OK | OK | OK | OK |  | ||||||||
| lconway | macOS 12.7.1 Monterey / x86_64 | OK | OK | OK | OK |  | ||||||||
| kjohnson3 | macOS 13.6.5 Ventura / arm64 | OK | OK | OK | OK |  | ||||||||
| To the developers/maintainers of the GOexpress package: - Allow up to 24 hours (and sometimes 48 hours) for your latest push to git@git.bioconductor.org:packages/GOexpress.git to reflect on this report. See Troubleshooting Build Report for more information. - Use the following Renviron settings to reproduce errors and warnings. - If 'R CMD check' started to fail recently on the Linux builder(s) over a missing dependency, add the missing dependency to 'Suggests:' in your DESCRIPTION file. See Renviron.bioc for more information. | 
| Package: GOexpress | 
| Version: 1.38.0 | 
| Command: /Library/Frameworks/R.framework/Resources/bin/R CMD check --install=check:GOexpress.install-out.txt --library=/Library/Frameworks/R.framework/Resources/library --no-vignettes --timings GOexpress_1.38.0.tar.gz | 
| StartedAt: 2024-06-10 17:29:17 -0400 (Mon, 10 Jun 2024) | 
| EndedAt: 2024-06-10 17:33:21 -0400 (Mon, 10 Jun 2024) | 
| EllapsedTime: 244.4 seconds | 
| RetCode: 0 | 
| Status: OK | 
| CheckDir: GOexpress.Rcheck | 
| Warnings: 0 | 
##############################################################################
##############################################################################
###
### Running command:
###
###   /Library/Frameworks/R.framework/Resources/bin/R CMD check --install=check:GOexpress.install-out.txt --library=/Library/Frameworks/R.framework/Resources/library --no-vignettes --timings GOexpress_1.38.0.tar.gz
###
##############################################################################
##############################################################################
* using log directory ‘/Users/biocbuild/bbs-3.19-bioc/meat/GOexpress.Rcheck’
* using R version 4.4.0 (2024-04-24)
* using platform: aarch64-apple-darwin20
* R was compiled by
    Apple clang version 14.0.0 (clang-1400.0.29.202)
    GNU Fortran (GCC) 12.2.0
* running under: macOS Ventura 13.6.5
* using session charset: UTF-8
* using option ‘--no-vignettes’
* checking for file ‘GOexpress/DESCRIPTION’ ... OK
* this is package ‘GOexpress’ version ‘1.38.0’
* checking package namespace information ... OK
* checking package dependencies ... OK
* checking if this is a source package ... OK
* checking if there is a namespace ... OK
* checking for hidden files and directories ... NOTE
Found the following hidden files and directories:
  .travis.yml
These were most likely included in error. See section ‘Package
structure’ in the ‘Writing R Extensions’ manual.
* checking for portable file names ... OK
* checking for sufficient/correct file permissions ... OK
* checking whether package ‘GOexpress’ can be installed ... OK
* checking installed package size ... OK
* checking package directory ... OK
* checking ‘build’ directory ... OK
* checking DESCRIPTION meta-information ... OK
* checking top-level files ... OK
* checking for left-over files ... OK
* checking index information ... OK
* checking package subdirectories ... OK
* checking code files for non-ASCII characters ... OK
* checking R files for syntax errors ... OK
* checking whether the package can be loaded ... OK
* checking whether the package can be loaded with stated dependencies ... OK
* checking whether the package can be unloaded cleanly ... OK
* checking whether the namespace can be loaded with stated dependencies ... OK
* checking whether the namespace can be unloaded cleanly ... OK
* checking dependencies in R code ... OK
* checking S3 generic/method consistency ... OK
* checking replacement functions ... OK
* checking foreign function calls ... OK
* checking R code for possible problems ... NOTE
GO_analyse: no visible binding for global variable ‘microarray2dataset’
GO_analyse: no visible binding for global variable ‘prefix2dataset’
mart_from_ensembl: no visible binding for global variable
  ‘prefix2dataset’
Undefined global functions or variables:
  microarray2dataset prefix2dataset
* checking Rd files ... NOTE
checkRd: (-1) AlvMac_GOgenes.Rd:22-23: Lost braces in \itemize; \value handles \item{}{} directly
checkRd: (-1) AlvMac_GOgenes.Rd:24: Lost braces in \itemize; \value handles \item{}{} directly
checkRd: (-1) AlvMac_allGO.Rd:23: Lost braces in \itemize; \value handles \item{}{} directly
checkRd: (-1) AlvMac_allGO.Rd:24: Lost braces in \itemize; \value handles \item{}{} directly
checkRd: (-1) AlvMac_allGO.Rd:25-27: Lost braces in \itemize; \value handles \item{}{} directly
checkRd: (-1) AlvMac_allgenes.Rd:23: Lost braces in \itemize; \value handles \item{}{} directly
checkRd: (-1) AlvMac_allgenes.Rd:24: Lost braces in \itemize; \value handles \item{}{} directly
checkRd: (-1) AlvMac_allgenes.Rd:25: Lost braces in \itemize; \value handles \item{}{} directly
checkRd: (-1) hist_scores.Rd:11: Lost braces; missing escapes or markup?
    11 | variable of the {GO_analyse()} function.
       |                 ^
* checking Rd metadata ... OK
* checking Rd cross-references ... OK
* checking for missing documentation entries ... OK
* checking for code/documentation mismatches ... OK
* checking Rd \usage sections ... OK
* checking Rd contents ... OK
* checking for unstated dependencies in examples ... OK
* checking contents of ‘data’ directory ... OK
* checking data for non-ASCII characters ... OK
* checking LazyData ... OK
* checking data for ASCII and uncompressed saves ... OK
* checking sizes of PDF files under ‘inst/doc’ ... OK
* checking files in ‘vignettes’ ... OK
* checking examples ... OK
* checking for unstated dependencies in vignettes ... OK
* checking package vignettes ... OK
* checking running R code from vignettes ... SKIPPED
* checking re-building of vignette outputs ... SKIPPED
* checking PDF version of manual ... OK
* DONE
Status: 3 NOTEs
See
  ‘/Users/biocbuild/bbs-3.19-bioc/meat/GOexpress.Rcheck/00check.log’
for details.
GOexpress.Rcheck/00install.out
############################################################################## ############################################################################## ### ### Running command: ### ### /Library/Frameworks/R.framework/Resources/bin/R CMD INSTALL GOexpress ### ############################################################################## ############################################################################## * installing to library ‘/Library/Frameworks/R.framework/Versions/4.4-arm64/Resources/library’ * installing *source* package ‘GOexpress’ ... ** using staged installation ** R ** data *** moving datasets to lazyload DB ** inst ** byte-compile and prepare package for lazy loading ** help *** installing help indices ** building package indices ** installing vignettes ** testing if installed package can be loaded from temporary location ** testing if installed package can be loaded from final location ** testing if installed package keeps a record of temporary installation path * DONE (GOexpress)
GOexpress.Rcheck/GOexpress-Ex.timings
| name | user | system | elapsed | |
| AlvMac | 0.105 | 0.017 | 0.170 | |
| AlvMac_GOgenes | 0.906 | 0.013 | 1.439 | |
| AlvMac_allGO | 0.024 | 0.004 | 0.030 | |
| AlvMac_allgenes | 0.007 | 0.002 | 0.015 | |
| AlvMac_results | 0.149 | 0.013 | 0.249 | |
| AlvMac_results.pVal | 1.758 | 1.116 | 4.399 | |
| GO_analyse | 2.602 | 0.097 | 4.103 | |
| GOexpress-package | 0.003 | 0.006 | 0.009 | |
| cluster_GO | 0.213 | 0.009 | 0.341 | |
| expression_plot | 2.933 | 0.110 | 4.473 | |
| expression_plot_symbol | 0.924 | 0.020 | 1.397 | |
| expression_profiles | 0.785 | 0.013 | 1.236 | |
| expression_profiles_symbol | 0.710 | 0.014 | 1.047 | |
| heatmap_GO | 0.555 | 0.023 | 0.828 | |
| hist_scores | 1.057 | 0.016 | 1.625 | |
| list_genes | 0.125 | 0.004 | 0.177 | |
| microarray2dataset | 0.009 | 0.008 | 0.023 | |
| pValue_GO | 0.000 | 0.000 | 0.001 | |
| plot_design | 0.133 | 0.013 | 0.231 | |
| prefix2dataset | 0.008 | 0.003 | 0.023 | |
| quantiles_scores | 0.167 | 0.007 | 0.277 | |
| rerank | 0.273 | 0.008 | 0.429 | |
| subEset | 0.049 | 0.002 | 0.077 | |
| subset_scores | 0.163 | 0.008 | 0.266 | |
| table_genes | 0.146 | 0.005 | 0.225 | |