| Back to Multiple platform build/check report for BioC 3.19: simplified long | 
 | 
This page was generated on 2024-06-28 17:41 -0400 (Fri, 28 Jun 2024).
| Hostname | OS | Arch (*) | R version | Installed pkgs | 
|---|---|---|---|---|
| nebbiolo1 | Linux (Ubuntu 22.04.3 LTS) | x86_64 | 4.4.0 (2024-04-24) -- "Puppy Cup" | 4760 | 
| palomino3 | Windows Server 2022 Datacenter | x64 | 4.4.0 (2024-04-24 ucrt) -- "Puppy Cup" | 4494 | 
| merida1 | macOS 12.7.4 Monterey | x86_64 | 4.4.0 (2024-04-24) -- "Puppy Cup" | 4508 | 
| kjohnson1 | macOS 13.6.6 Ventura | arm64 | 4.4.0 (2024-04-24) -- "Puppy Cup" | 4466 | 
| palomino7 | Windows Server 2022 Datacenter | x64 | 4.4.1 (2024-06-14 ucrt) -- "Race for Your Life" | 4362 | 
| Click on any hostname to see more info about the system (e.g. compilers) (*) as reported by 'uname -p', except on Windows and Mac OS X | ||||
| Package 894/2300 | Hostname | OS / Arch | INSTALL | BUILD | CHECK | BUILD BIN | ||||||||
| GOSemSim 2.30.0  (landing page) Guangchuang Yu 
 | nebbiolo1 | Linux (Ubuntu 22.04.3 LTS) / x86_64 | OK | OK | OK |  | ||||||||
| palomino3 | Windows Server 2022 Datacenter / x64 | OK | OK | OK | OK |  | ||||||||
| merida1 | macOS 12.7.4 Monterey / x86_64 | OK | OK | OK | OK |  | ||||||||
| kjohnson1 | macOS 13.6.6 Ventura / arm64 | OK | OK | OK | OK |  | ||||||||
| palomino7 | Windows Server 2022 Datacenter / x64 | OK | OK | OK | OK | |||||||||
| To the developers/maintainers of the GOSemSim package: - Allow up to 24 hours (and sometimes 48 hours) for your latest push to git@git.bioconductor.org:packages/GOSemSim.git to reflect on this report. See Troubleshooting Build Report for more information. - Use the following Renviron settings to reproduce errors and warnings. - If 'R CMD check' started to fail recently on the Linux builder(s) over a missing dependency, add the missing dependency to 'Suggests:' in your DESCRIPTION file. See Renviron.bioc for more information. | 
| Package: GOSemSim | 
| Version: 2.30.0 | 
| Command: rm -rf GOSemSim.buildbin-libdir && mkdir GOSemSim.buildbin-libdir && F:\biocbuild\bbs-3.19-bioc\R\bin\R.exe CMD INSTALL --build --library=GOSemSim.buildbin-libdir GOSemSim_2.30.0.tar.gz | 
| StartedAt: 2024-06-27 08:18:34 -0400 (Thu, 27 Jun 2024) | 
| EndedAt: 2024-06-27 08:19:17 -0400 (Thu, 27 Jun 2024) | 
| EllapsedTime: 42.6 seconds | 
| RetCode: 0 | 
| Status: OK | 
| PackageFile: GOSemSim_2.30.0.zip | 
| PackageFileSize: 1.192 MiB | 
##############################################################################
##############################################################################
###
### Running command:
###
###   rm -rf GOSemSim.buildbin-libdir && mkdir GOSemSim.buildbin-libdir && F:\biocbuild\bbs-3.19-bioc\R\bin\R.exe CMD INSTALL --build --library=GOSemSim.buildbin-libdir GOSemSim_2.30.0.tar.gz
###
##############################################################################
##############################################################################
* installing *source* package 'GOSemSim' ...
** using staged installation
** libs
using C++ compiler: 'G__~1.EXE (GCC) 13.2.0'
g++ -std=gnu++17  -I"F:/biocbuild/bbs-3.19-bioc/R/include" -DNDEBUG  -I'F:/biocbuild/bbs-3.19-bioc/R/library/Rcpp/include'   -I"C:/rtools44/x86_64-w64-mingw32.static.posix/include"     -O2 -Wall  -mfpmath=sse -msse2 -mstackrealign  -c ICmethod.cpp -o ICmethod.o
ICmethod.cpp: In function 'Rcpp::NumericMatrix infoContentMethod_cpp(Rcpp::StringVector&, Rcpp::StringVector&, Rcpp::List&, Rcpp::NumericVector&, const std::string&, const std::string&)':
ICmethod.cpp:82:29: warning: comparison of integer expressions of different signedness: 'std::size_t' {aka 'long long unsigned int'} and 'R_xlen_t' {aka 'long long int'} [-Wsign-compare]
   82 |     for (std::size_t i=0; i < ic_.size(); i++ ) {
      |                           ~~^~~~~~~~~~~~
ICmethod.cpp:88:29: warning: comparison of integer expressions of different signedness: 'std::size_t' {aka 'long long unsigned int'} and 'R_xlen_t' {aka 'long long int'} [-Wsign-compare]
   88 |     for (std::size_t i=0; i < ic_.size(); i++ ) {
      |                           ~~^~~~~~~~~~~~
ICmethod.cpp:118:29: warning: comparison of integer expressions of different signedness: 'std::size_t' {aka 'long long unsigned int'} and 'R_xlen_t' {aka 'long long int'} [-Wsign-compare]
  118 |     for (std::size_t i=0; i < anc_.size(); i++ ) {
      |                           ~~^~~~~~~~~~~~~
ICmethod.cpp:131:30: warning: comparison of integer expressions of different signedness: 'std::size_t' {aka 'long long unsigned int'} and 'R_xlen_t' {aka 'long long int'} [-Wsign-compare]
  131 |   for ( std::size_t i = 0; i < id1_.size(); i++ ) {
      |                            ~~^~~~~~~~~~~~~
ICmethod.cpp:138:34: warning: comparison of integer expressions of different signedness: 'std::size_t' {aka 'long long unsigned int'} and 'R_xlen_t' {aka 'long long int'} [-Wsign-compare]
  138 |       for ( std::size_t j = 0; j < id2_.size(); j++ ) {
      |                                ~~^~~~~~~~~~~~~
ICmethod.cpp:165:34: warning: comparison of integer expressions of different signedness: 'std::size_t' {aka 'long long unsigned int'} and 'R_xlen_t' {aka 'long long int'} [-Wsign-compare]
  165 |       for ( std::size_t j = 0; j < id2_.size(); j++ ) {
      |                                ~~^~~~~~~~~~~~~
g++ -std=gnu++17  -I"F:/biocbuild/bbs-3.19-bioc/R/include" -DNDEBUG  -I'F:/biocbuild/bbs-3.19-bioc/R/library/Rcpp/include'   -I"C:/rtools44/x86_64-w64-mingw32.static.posix/include"     -O2 -Wall  -mfpmath=sse -msse2 -mstackrealign  -c RcppExports.cpp -o RcppExports.o
g++ -std=gnu++17 -shared -s -static-libgcc -o GOSemSim.dll tmp.def ICmethod.o RcppExports.o -LC:/rtools44/x86_64-w64-mingw32.static.posix/lib/x64 -LC:/rtools44/x86_64-w64-mingw32.static.posix/lib -LF:/biocbuild/bbs-3.19-bioc/R/bin/x64 -lR
installing to F:/biocbuild/bbs-3.19-bioc/meat/GOSemSim.buildbin-libdir/00LOCK-GOSemSim/00new/GOSemSim/libs/x64
** R
** data
** inst
** byte-compile and prepare package for lazy loading
** help
*** installing help indices
** building package indices
** installing vignettes
** testing if installed package can be loaded from temporary location
** testing if installed package can be loaded from final location
** testing if installed package keeps a record of temporary installation path
* MD5 sums
packaged installation of 'GOSemSim' as GOSemSim_2.30.0.zip
* DONE (GOSemSim)