| Back to Multiple platform build/check report for BioC 3.19: simplified long | 
 | 
This page was generated on 2024-10-18 20:39 -0400 (Fri, 18 Oct 2024).
| Hostname | OS | Arch (*) | R version | Installed pkgs | 
|---|---|---|---|---|
| nebbiolo1 | Linux (Ubuntu 22.04.3 LTS) | x86_64 | 4.4.1 (2024-06-14) -- "Race for Your Life" | 4763 | 
| palomino7 | Windows Server 2022 Datacenter | x64 | 4.4.1 (2024-06-14 ucrt) -- "Race for Your Life" | 4500 | 
| merida1 | macOS 12.7.5 Monterey | x86_64 | 4.4.1 (2024-06-14) -- "Race for Your Life" | 4530 | 
| kjohnson1 | macOS 13.6.6 Ventura | arm64 | 4.4.1 (2024-06-14) -- "Race for Your Life" | 4480 | 
| Click on any hostname to see more info about the system (e.g. compilers) (*) as reported by 'uname -p', except on Windows and Mac OS X | ||||
| Package 780/2300 | Hostname | OS / Arch | INSTALL | BUILD | CHECK | BUILD BIN | ||||||||
| GBScleanR 1.8.25  (landing page) Tomoyuki Furuta 
 | nebbiolo1 | Linux (Ubuntu 22.04.3 LTS) / x86_64 | OK | OK | WARNINGS |  | ||||||||
| palomino7 | Windows Server 2022 Datacenter / x64 | OK | OK | WARNINGS | OK |  | ||||||||
| merida1 | macOS 12.7.5 Monterey / x86_64 | OK | OK | OK | OK |  | ||||||||
| kjohnson1 | macOS 13.6.6 Ventura / arm64 | OK | OK | OK | OK |  | ||||||||
| To the developers/maintainers of the GBScleanR package: - Allow up to 24 hours (and sometimes 48 hours) for your latest push to git@git.bioconductor.org:packages/GBScleanR.git to reflect on this report. See Troubleshooting Build Report for more information. - Use the following Renviron settings to reproduce errors and warnings. - If 'R CMD check' started to fail recently on the Linux builder(s) over a missing dependency, add the missing dependency to 'Suggests:' in your DESCRIPTION file. See Renviron.bioc for more information. | 
| Package: GBScleanR | 
| Version: 1.8.25 | 
| Command: E:\biocbuild\bbs-3.19-bioc\R\bin\R.exe CMD INSTALL GBScleanR | 
| StartedAt: 2024-10-16 16:13:39 -0400 (Wed, 16 Oct 2024) | 
| EndedAt: 2024-10-16 16:15:27 -0400 (Wed, 16 Oct 2024) | 
| EllapsedTime: 108.1 seconds | 
| RetCode: 0 | 
| Status: OK | 
##############################################################################
##############################################################################
###
### Running command:
###
###   E:\biocbuild\bbs-3.19-bioc\R\bin\R.exe CMD INSTALL GBScleanR
###
##############################################################################
##############################################################################
* installing to library 'E:/biocbuild/bbs-3.19-bioc/R/library'
* installing *source* package 'GBScleanR' ...
** using staged installation
** libs
using C++ compiler: 'G__~1.EXE (GCC) 13.2.0'
using C++11
g++  -std=gnu++11 -I"E:/biocbuild/bbs-3.19-bioc/R/include" -DNDEBUG  -I'E:/biocbuild/bbs-3.19-bioc/R/library/Rcpp/include' -I'E:/biocbuild/bbs-3.19-bioc/R/library/RcppParallel/include'   -I"C:/rtools44/x86_64-w64-mingw32.static.posix/include"  -DRCPP_PARALLEL_USE_TBB=1   -O2 -Wall  -mfpmath=sse -msse2 -mstackrealign  -c RcppExports.cpp -o RcppExports.o
g++  -std=gnu++11 -I"E:/biocbuild/bbs-3.19-bioc/R/include" -DNDEBUG  -I'E:/biocbuild/bbs-3.19-bioc/R/library/Rcpp/include' -I'E:/biocbuild/bbs-3.19-bioc/R/library/RcppParallel/include'   -I"C:/rtools44/x86_64-w64-mingw32.static.posix/include"  -DRCPP_PARALLEL_USE_TBB=1   -O2 -Wall  -mfpmath=sse -msse2 -mstackrealign  -c gbsrCalcProb.cpp -o gbsrCalcProb.o
gbsrCalcProb.cpp: In function 'void offsetProb(std::vector<double>&, const bool&)':
gbsrCalcProb.cpp:102:18: warning: suggest parentheses around comparison in operand of '&' [-Wparentheses]
  102 |             if(g == 0 & g == 2){
      |                ~~^~~~
gbsrCalcProb.cpp:116:22: warning: suggest parentheses around comparison in operand of '&' [-Wparentheses]
  116 |                 if(g == 0 & g == 2){
      |                    ~~^~~~
g++  -std=gnu++11 -I"E:/biocbuild/bbs-3.19-bioc/R/include" -DNDEBUG  -I'E:/biocbuild/bbs-3.19-bioc/R/library/Rcpp/include' -I'E:/biocbuild/bbs-3.19-bioc/R/library/RcppParallel/include'   -I"C:/rtools44/x86_64-w64-mingw32.static.posix/include"  -DRCPP_PARALLEL_USE_TBB=1   -O2 -Wall  -mfpmath=sse -msse2 -mstackrealign  -c gbsrFB.cpp -o gbsrFB.o
g++  -std=gnu++11 -I"E:/biocbuild/bbs-3.19-bioc/R/include" -DNDEBUG  -I'E:/biocbuild/bbs-3.19-bioc/R/library/Rcpp/include' -I'E:/biocbuild/bbs-3.19-bioc/R/library/RcppParallel/include'   -I"C:/rtools44/x86_64-w64-mingw32.static.posix/include"  -DRCPP_PARALLEL_USE_TBB=1   -O2 -Wall  -mfpmath=sse -msse2 -mstackrealign  -c gbsrIPO.cpp -o gbsrIPO.o
g++  -std=gnu++11 -I"E:/biocbuild/bbs-3.19-bioc/R/include" -DNDEBUG  -I'E:/biocbuild/bbs-3.19-bioc/R/library/Rcpp/include' -I'E:/biocbuild/bbs-3.19-bioc/R/library/RcppParallel/include'   -I"C:/rtools44/x86_64-w64-mingw32.static.posix/include"  -DRCPP_PARALLEL_USE_TBB=1   -O2 -Wall  -mfpmath=sse -msse2 -mstackrealign  -c gbsrStats.cpp -o gbsrStats.o
g++  -std=gnu++11 -I"E:/biocbuild/bbs-3.19-bioc/R/include" -DNDEBUG  -I'E:/biocbuild/bbs-3.19-bioc/R/library/Rcpp/include' -I'E:/biocbuild/bbs-3.19-bioc/R/library/RcppParallel/include'   -I"C:/rtools44/x86_64-w64-mingw32.static.posix/include"  -DRCPP_PARALLEL_USE_TBB=1   -O2 -Wall  -mfpmath=sse -msse2 -mstackrealign  -c gbsrViterbi.cpp -o gbsrViterbi.o
g++  -std=gnu++11 -I"E:/biocbuild/bbs-3.19-bioc/R/include" -DNDEBUG  -I'E:/biocbuild/bbs-3.19-bioc/R/library/Rcpp/include' -I'E:/biocbuild/bbs-3.19-bioc/R/library/RcppParallel/include'   -I"C:/rtools44/x86_64-w64-mingw32.static.posix/include"  -DRCPP_PARALLEL_USE_TBB=1   -O2 -Wall  -mfpmath=sse -msse2 -mstackrealign  -c gbsrutil.cpp -o gbsrutil.o
g++ -shared -s -static-libgcc -o GBScleanR.dll tmp.def RcppExports.o gbsrCalcProb.o gbsrFB.o gbsrIPO.o gbsrStats.o gbsrViterbi.o gbsrutil.o -LE:/biocbuild/bbs-3.19-bioc/R/library/RcppParallel/lib/x64 -ltbb -ltbbmalloc -LC:/rtools44/x86_64-w64-mingw32.static.posix/lib/x64 -LC:/rtools44/x86_64-w64-mingw32.static.posix/lib -LE:/biocbuild/bbs-3.19-bioc/R/bin/x64 -lR
installing to E:/biocbuild/bbs-3.19-bioc/R/library/00LOCK-GBScleanR/00new/GBScleanR/libs/x64
** R
** inst
** byte-compile and prepare package for lazy loading
** help
*** installing help indices
** building package indices
** installing vignettes
** testing if installed package can be loaded from temporary location
** testing if installed package can be loaded from final location
** testing if installed package keeps a record of temporary installation path
* DONE (GBScleanR)