| Back to Multiple platform build/check report for BioC 3.19: simplified long | 
 | 
This page was generated on 2024-06-11 14:43 -0400 (Tue, 11 Jun 2024).
| Hostname | OS | Arch (*) | R version | Installed pkgs | 
|---|---|---|---|---|
| nebbiolo1 | Linux (Ubuntu 22.04.3 LTS) | x86_64 | 4.4.0 (2024-04-24) -- "Puppy Cup" | 4757 | 
| palomino3 | Windows Server 2022 Datacenter | x64 | 4.4.0 (2024-04-24 ucrt) -- "Puppy Cup" | 4491 | 
| lconway | macOS 12.7.1 Monterey | x86_64 | 4.4.0 (2024-04-24) -- "Puppy Cup" | 4522 | 
| kjohnson3 | macOS 13.6.5 Ventura | arm64 | 4.4.0 (2024-04-24) -- "Puppy Cup" | 4468 | 
| Click on any hostname to see more info about the system (e.g. compilers) (*) as reported by 'uname -p', except on Windows and Mac OS X | ||||
| Package 723/2300 | Hostname | OS / Arch | INSTALL | BUILD | CHECK | BUILD BIN | ||||||||
| FindIT2 1.10.0  (landing page) Guandong Shang 
 | nebbiolo1 | Linux (Ubuntu 22.04.3 LTS) / x86_64 | OK | OK | OK |  | ||||||||
| palomino3 | Windows Server 2022 Datacenter / x64 | OK | OK | OK | OK |  | ||||||||
| lconway | macOS 12.7.1 Monterey / x86_64 | OK | OK | OK | OK |  | ||||||||
| kjohnson3 | macOS 13.6.5 Ventura / arm64 | OK | OK | OK | OK |  | ||||||||
| To the developers/maintainers of the FindIT2 package: - Allow up to 24 hours (and sometimes 48 hours) for your latest push to git@git.bioconductor.org:packages/FindIT2.git to reflect on this report. See Troubleshooting Build Report for more information. - Use the following Renviron settings to reproduce errors and warnings. - If 'R CMD check' started to fail recently on the Linux builder(s) over a missing dependency, add the missing dependency to 'Suggests:' in your DESCRIPTION file. See Renviron.bioc for more information. | 
| Package: FindIT2 | 
| Version: 1.10.0 | 
| Command: /Library/Frameworks/R.framework/Resources/bin/R CMD check --install=check:FindIT2.install-out.txt --library=/Library/Frameworks/R.framework/Resources/library --no-vignettes --timings FindIT2_1.10.0.tar.gz | 
| StartedAt: 2024-06-10 15:46:49 -0400 (Mon, 10 Jun 2024) | 
| EndedAt: 2024-06-10 15:57:43 -0400 (Mon, 10 Jun 2024) | 
| EllapsedTime: 654.5 seconds | 
| RetCode: 0 | 
| Status: OK | 
| CheckDir: FindIT2.Rcheck | 
| Warnings: 0 | 
##############################################################################
##############################################################################
###
### Running command:
###
###   /Library/Frameworks/R.framework/Resources/bin/R CMD check --install=check:FindIT2.install-out.txt --library=/Library/Frameworks/R.framework/Resources/library --no-vignettes --timings FindIT2_1.10.0.tar.gz
###
##############################################################################
##############################################################################
* using log directory ‘/Users/biocbuild/bbs-3.19-bioc/meat/FindIT2.Rcheck’
* using R version 4.4.0 (2024-04-24)
* using platform: aarch64-apple-darwin20
* R was compiled by
    Apple clang version 14.0.0 (clang-1400.0.29.202)
    GNU Fortran (GCC) 12.2.0
* running under: macOS Ventura 13.6.5
* using session charset: UTF-8
* using option ‘--no-vignettes’
* checking for file ‘FindIT2/DESCRIPTION’ ... OK
* this is package ‘FindIT2’ version ‘1.10.0’
* package encoding: UTF-8
* checking package namespace information ... OK
* checking package dependencies ... OK
* checking if this is a source package ... OK
* checking if there is a namespace ... OK
* checking for hidden files and directories ... OK
* checking for portable file names ... OK
* checking for sufficient/correct file permissions ... OK
* checking whether package ‘FindIT2’ can be installed ... OK
* checking installed package size ... OK
* checking package directory ... OK
* checking ‘build’ directory ... OK
* checking DESCRIPTION meta-information ... OK
* checking top-level files ... OK
* checking for left-over files ... OK
* checking index information ... OK
* checking package subdirectories ... OK
* checking code files for non-ASCII characters ... OK
* checking R files for syntax errors ... OK
* checking whether the package can be loaded ... OK
* checking whether the package can be loaded with stated dependencies ... OK
* checking whether the package can be unloaded cleanly ... OK
* checking whether the namespace can be loaded with stated dependencies ... OK
* checking whether the namespace can be unloaded cleanly ... OK
* checking dependencies in R code ... OK
* checking S3 generic/method consistency ... OK
* checking replacement functions ... OK
* checking foreign function calls ... OK
* checking R code for possible problems ... OK
* checking Rd files ... OK
* checking Rd metadata ... OK
* checking Rd cross-references ... OK
* checking for missing documentation entries ... OK
* checking for code/documentation mismatches ... OK
* checking Rd \usage sections ... OK
* checking Rd contents ... OK
* checking for unstated dependencies in examples ... OK
* checking contents of ‘data’ directory ... OK
* checking data for non-ASCII characters ... OK
* checking data for ASCII and uncompressed saves ... OK
* checking files in ‘vignettes’ ... OK
* checking examples ... OK
Examples with CPU (user + system) or elapsed time > 5s
                     user system elapsed
findIT_regionRP     6.850  0.139  10.165
calcRP_coverage     5.365  0.504   8.924
calcRP_region       5.388  0.155   8.531
calcRP_TFHit        4.765  0.149   7.486
integrate_ChIP_RNA  3.661  0.094   5.529
enhancerPromoterCor 3.532  0.113   5.602
* checking for unstated dependencies in ‘tests’ ... OK
* checking tests ...
  Running ‘testthat.R’
 OK
* checking for unstated dependencies in vignettes ... OK
* checking package vignettes ... OK
* checking running R code from vignettes ... SKIPPED
* checking re-building of vignette outputs ... SKIPPED
* checking PDF version of manual ... OK
* DONE
Status: OK
FindIT2.Rcheck/00install.out
############################################################################## ############################################################################## ### ### Running command: ### ### /Library/Frameworks/R.framework/Resources/bin/R CMD INSTALL FindIT2 ### ############################################################################## ############################################################################## * installing to library ‘/Library/Frameworks/R.framework/Versions/4.4-arm64/Resources/library’ * installing *source* package ‘FindIT2’ ... ** using staged installation ** R ** data ** inst ** byte-compile and prepare package for lazy loading ** help *** installing help indices ** building package indices ** installing vignettes ** testing if installed package can be loaded from temporary location ** testing if installed package can be loaded from final location ** testing if installed package keeps a record of temporary installation path * DONE (FindIT2)
FindIT2.Rcheck/tests/testthat.Rout
R version 4.4.0 (2024-04-24) -- "Puppy Cup"
Copyright (C) 2024 The R Foundation for Statistical Computing
Platform: aarch64-apple-darwin20
R is free software and comes with ABSOLUTELY NO WARRANTY.
You are welcome to redistribute it under certain conditions.
Type 'license()' or 'licence()' for distribution details.
R is a collaborative project with many contributors.
Type 'contributors()' for more information and
'citation()' on how to cite R or R packages in publications.
Type 'demo()' for some demos, 'help()' for on-line help, or
'help.start()' for an HTML browser interface to help.
Type 'q()' to quit R.
> library(testthat)
> library(FindIT2)
Loading required package: GenomicRanges
Loading required package: stats4
Loading required package: BiocGenerics
Attaching package: 'BiocGenerics'
The following objects are masked from 'package:stats':
    IQR, mad, sd, var, xtabs
The following objects are masked from 'package:base':
    Filter, Find, Map, Position, Reduce, anyDuplicated, aperm, append,
    as.data.frame, basename, cbind, colnames, dirname, do.call,
    duplicated, eval, evalq, get, grep, grepl, intersect, is.unsorted,
    lapply, mapply, match, mget, order, paste, pmax, pmax.int, pmin,
    pmin.int, rank, rbind, rownames, sapply, setdiff, table, tapply,
    union, unique, unsplit, which.max, which.min
Loading required package: S4Vectors
Attaching package: 'S4Vectors'
The following object is masked from 'package:utils':
    findMatches
The following objects are masked from 'package:base':
    I, expand.grid, unname
Loading required package: IRanges
Loading required package: GenomeInfoDb
> if (!requireNamespace("TxDb.Athaliana.BioMart.plantsmart28")) {
+     stop("unable to load TxDb.Athaliana.BioMart.plantsmart28")
+ }
Loading required namespace: TxDb.Athaliana.BioMart.plantsmart28
> 
> test_check("FindIT2")
>> preparing gene features information...		2024-06-10 15:55:49
>> some scan range may cross Chr bound, trimming...		2024-06-10 15:55:53
>> preparing weight info...		2024-06-10 15:55:53
>> loading E50h_sampleChr5.bw info...		2024-06-10 15:55:53
------------
>> extracting and calcluating Chr5 signal...		2024-06-10 15:55:53
>> dealing with Chr5 left gene signal...		2024-06-10 15:55:59
>> norming Chr5RP accoring to the whole Chr RP...		2024-06-10 15:56:00
>> merging all Chr RP together...		2024-06-10 15:56:00
>> done		2024-06-10 15:56:00
>> checking seqlevels match...		2024-06-10 15:56:00
>> your peak_GR seqlevel:Chr5...
>> your Txdb seqlevel:Chr1 Chr2 Chr3 Chr4 Chr5 ChrM ChrC...
Good, your Chrs in peak_GR is all in Txdb
------------
annotatePeak using geneScan mode begins
>> preparing gene features information and scan region...		2024-06-10 15:56:00
>> some scan range may cross Chr bound, trimming...		2024-06-10 15:56:01
>> finding overlap peak in gene scan region...		2024-06-10 15:56:01
>> dealing with left peak not your gene scan region...		2024-06-10 15:56:01
>> merging two set peaks...		2024-06-10 15:56:02
>> calculating distance and dealing with gene strand...		2024-06-10 15:56:02
>> merging all info together ...		2024-06-10 15:56:02
>> done		2024-06-10 15:56:02
>> calculating peakCenter to TSS using peak-gene pair...		2024-06-10 15:56:02
>> pre-filling 1356 noAssoc peak gene's RP with 0...		2024-06-10 15:56:03
>> calculating RP using centerToTSS and peak score2024-06-10 15:56:03
>> merging all info together		2024-06-10 15:56:06
>> done		2024-06-10 15:56:08
>> calculating peakCenter to TSS using peak-gene pair...		2024-06-10 15:56:08
>> pre-filling 1356 noAssoc peak gene's RP with 0...		2024-06-10 15:56:09
>> calculating RP using centerToTSS and peak score2024-06-10 15:56:09
>> merging all info together		2024-06-10 15:56:12
>> done		2024-06-10 15:56:13
>> checking seqlevels match...		2024-06-10 15:56:13
>> your peak_GR seqlevel:Chr5...
>> your Txdb seqlevel:Chr1 Chr2 Chr3 Chr4 Chr5 ChrM ChrC...
Good, your Chrs in peak_GR is all in Txdb
------------
annotatePeak using geneScan mode begins
>> preparing gene features information and scan region...		2024-06-10 15:56:13
>> some scan range may cross Chr bound, trimming...		2024-06-10 15:56:15
>> finding overlap peak in gene scan region...		2024-06-10 15:56:15
>> dealing with left peak not your gene scan region...		2024-06-10 15:56:15
>> merging two set peaks...		2024-06-10 15:56:15
>> calculating distance and dealing with gene strand...		2024-06-10 15:56:15
>> merging all info together ...		2024-06-10 15:56:15
>> done		2024-06-10 15:56:16
>> calculating peakCenter to TSS using peak-gene pair...		2024-06-10 15:56:16
>> calculating RP using centerToTSS and TF hit		2024-06-10 15:56:17
>> merging all info together		2024-06-10 15:56:17
>> done		2024-06-10 15:56:17
>> calculating peakCenter to TSS using peak-gene pair...		2024-06-10 15:56:17
>> calculating RP using centerToTSS and TF hit		2024-06-10 15:56:21
>> merging all info together		2024-06-10 15:56:21
>> done		2024-06-10 15:56:21
>> checking seqlevels match...		2024-06-10 15:56:22
>> your peak_GR seqlevel:Chr5...
>> your Txdb seqlevel:Chr1 Chr2 Chr3 Chr4 Chr5 ChrM ChrC...
Good, your Chrs in peak_GR is all in Txdb
------------
annotatePeak using geneScan mode begins
>> preparing gene features information and scan region...		2024-06-10 15:56:22
>> some scan range may cross Chr bound, trimming...		2024-06-10 15:56:26
>> finding overlap peak in gene scan region...		2024-06-10 15:56:26
>> dealing with left peak not your gene scan region...		2024-06-10 15:56:26
>> merging two set peaks...		2024-06-10 15:56:26
>> calculating distance and dealing with gene strand...		2024-06-10 15:56:26
>> merging all info together ...		2024-06-10 15:56:26
>> done		2024-06-10 15:56:26
>> calculating peakCenter to TSS using peak-gene pair...		2024-06-10 15:56:26
>> pre-filling 1356 noAssoc peak gene's RP with 0...		2024-06-10 15:56:28
>> calculating RP using centerToTSS and peak score2024-06-10 15:56:28
>> merging all info together		2024-06-10 15:56:31
>> done		2024-06-10 15:56:31
>> extracting RP info from regionRP...		2024-06-10 15:56:32
>> dealing with TF_GR_databse...		2024-06-10 15:56:32
>> calculating percent and p-value...		2024-06-10 15:56:32
>> dealing withE5_0h_R1...		2024-06-10 15:56:32
>> dealing withE5_0h_R2...		2024-06-10 15:56:32
>> dealing withE5_4h_R1...		2024-06-10 15:56:33
>> dealing withE5_4h_R2...		2024-06-10 15:56:33
>> dealing withE5_8h_R1...		2024-06-10 15:56:33
>> dealing withE5_8h_R2...		2024-06-10 15:56:33
>> dealing withE5_16h_R1...		2024-06-10 15:56:33
>> dealing withE5_16h_R2...		2024-06-10 15:56:33
>> dealing withE5_24h_R1...		2024-06-10 15:56:33
>> dealing withE5_24h_R2...		2024-06-10 15:56:33
>> dealing withE5_48h_R1...		2024-06-10 15:56:33
>> dealing withE5_48h_R2...		2024-06-10 15:56:33
>> dealing withE5_48h_R3...		2024-06-10 15:56:33
>> dealing withE5_72h_R1...		2024-06-10 15:56:33
>> dealing withE5_72h_R2...		2024-06-10 15:56:33
>> dealing withE5_72h_R3...		2024-06-10 15:56:33
>> merging all info together...		2024-06-10 15:56:34
>> done		2024-06-10 15:56:34
>> preparing gene features information...		2024-06-10 15:56:34
>> some scan range may cross Chr bound, trimming...		2024-06-10 15:56:35
>> calculating p-value for each TF, which may be time consuming...		2024-06-10 15:56:35
>> merging all info together...		2024-06-10 15:56:35
>> done		2024-06-10 15:56:35
>> dealing with TF_GR_database...		2024-06-10 15:56:36
>> calculating coef and converting into z-score using INT...		2024-06-10 15:56:36
>> dealing with E5_0h_R1...		2024-06-10 15:56:36
>> dealing with E5_0h_R2...		2024-06-10 15:56:36
>> dealing with E5_4h_R1...		2024-06-10 15:56:36
>> dealing with E5_4h_R2...		2024-06-10 15:56:37
>> dealing with E5_8h_R1...		2024-06-10 15:56:37
>> dealing with E5_8h_R2...		2024-06-10 15:56:37
>> dealing with E5_16h_R1...		2024-06-10 15:56:37
>> dealing with E5_16h_R2...		2024-06-10 15:56:37
>> dealing with E5_24h_R1...		2024-06-10 15:56:37
>> dealing with E5_24h_R2...		2024-06-10 15:56:37
>> dealing with E5_48h_R1...		2024-06-10 15:56:37
>> dealing with E5_48h_R2...		2024-06-10 15:56:37
>> dealing with E5_48h_R3...		2024-06-10 15:56:38
>> dealing with E5_72h_R1...		2024-06-10 15:56:38
>> dealing with E5_72h_R2...		2024-06-10 15:56:38
>> dealing with E5_72h_R3...		2024-06-10 15:56:38
>> merging all info together...		2024-06-10 15:56:38
>> done		2024-06-10 15:56:38
>> checking seqlevels match...		2024-06-10 15:56:39
>> your peak_GR seqlevel:Chr5...
>> your Txdb seqlevel:Chr1 Chr2 Chr3 Chr4 Chr5 ChrM ChrC...
Good, your Chrs in peak_GR is all in Txdb
------------
annotatePeak using geneScan mode begins
>> preparing gene features information and scan region...		2024-06-10 15:56:39
>> some scan range may cross Chr bound, trimming...		2024-06-10 15:56:40
>> finding overlap peak in gene scan region...		2024-06-10 15:56:40
>> dealing with left peak not your gene scan region...		2024-06-10 15:56:40
>> merging two set peaks...		2024-06-10 15:56:40
>> calculating distance and dealing with gene strand...		2024-06-10 15:56:40
>> merging all info together ...		2024-06-10 15:56:40
>> done		2024-06-10 15:56:41
>> calculating peakCenter to TSS using peak-gene pair...		2024-06-10 15:56:41
>> calculating RP using centerToTSS and TF hit		2024-06-10 15:56:42
>> merging all info together		2024-06-10 15:56:42
>> done		2024-06-10 15:56:42
>> checking seqlevels match...		2024-06-10 15:56:42
>> your peak_GR seqlevel:5...
>> your Txdb seqlevel:Chr1 Chr2 Chr3 Chr4 Chr5 ChrM ChrC...
>> checking seqlevels match...		2024-06-10 15:56:43
>> your peak_GR seqlevel:Chr5 Chr6...
>> your Txdb seqlevel:Chr1 Chr2 Chr3 Chr4 Chr5 ChrM ChrC...
>> checking seqlevels match...		2024-06-10 15:56:48
>> your peak_GR seqlevel:Chr5...
>> your Txdb seqlevel:Chr1 Chr2 Chr3 Chr4 Chr5 ChrM ChrC...
Good, your Chrs in peak_GR is all in Txdb
>> checking seqlevels match...		2024-06-10 15:56:48
>> your peak_GR seqlevel:Chr5...
>> your Txdb seqlevel:Chr1 Chr2 Chr3 Chr4 Chr5 ChrM ChrC...
Good, your Chrs in peak_GR is all in Txdb
------------
annotating Peak using nearest gene mode begins
>> preparing gene features information...		2024-06-10 15:56:48
>> finding nearest gene and calculating distance...		2024-06-10 15:56:49
>> dealing with gene strand ...		2024-06-10 15:56:49
>> merging all info together ...		2024-06-10 15:56:49
>> done		2024-06-10 15:56:49
>> checking seqlevels match...		2024-06-10 15:56:49
>> your peak_GR seqlevel:Chr5...
>> your Txdb seqlevel:Chr1 Chr2 Chr3 Chr4 Chr5 ChrM ChrC...
Good, your Chrs in peak_GR is all in Txdb
>> checking seqlevels match...		2024-06-10 15:56:50
>> your peak_GR seqlevel:Chr5...
>> your Txdb seqlevel:Chr1 Chr2 Chr3 Chr4 Chr5 ChrM ChrC...
Good, your Chrs in peak_GR is all in Txdb
------------
annotating Peak using nearest gene mode begins
>> preparing gene features information...		2024-06-10 15:56:50
>> finding nearest gene and calculating distance...		2024-06-10 15:56:53
>> dealing with gene strand ...		2024-06-10 15:56:53
>> merging all info together ...		2024-06-10 15:56:53
>> done		2024-06-10 15:56:54
>> checking seqlevels match...		2024-06-10 15:56:55
>> your peak_GR seqlevel:Chr5...
>> your Txdb seqlevel:Chr1 Chr2 Chr3 Chr4 Chr5 ChrM ChrC...
Good, your Chrs in peak_GR is all in Txdb
>> checking seqlevels match...		2024-06-10 15:56:55
>> your peak_GR seqlevel:Chr5...
>> your Txdb seqlevel:Chr1 Chr2 Chr3 Chr4 Chr5 ChrM ChrC...
Good, your Chrs in peak_GR is all in Txdb
------------
annotating Peak using nearest gene mode begins
>> preparing gene features information...		2024-06-10 15:56:55
>> finding nearest gene and calculating distance...		2024-06-10 15:56:56
>> dealing with gene strand ...		2024-06-10 15:56:56
>> merging all info together ...		2024-06-10 15:56:56
>> done		2024-06-10 15:56:56
>> checking seqlevels match...		2024-06-10 15:56:58
>> your peak_GR seqlevel:Chr5...
>> your Txdb seqlevel:Chr1 Chr2 Chr3 Chr4 Chr5 ChrM ChrC...
Good, your Chrs in peak_GR is all in Txdb
>> checking seqlevels match...		2024-06-10 15:56:58
>> your peak_GR seqlevel:Chr5...
>> your Txdb seqlevel:Chr1 Chr2 Chr3 Chr4 Chr5 ChrM ChrC...
Good, your Chrs in peak_GR is all in Txdb
------------
annotating Peak using nearest gene mode begins
>> preparing gene features information...		2024-06-10 15:56:58
>> finding nearest gene and calculating distance...		2024-06-10 15:56:59
>> dealing with gene strand ...		2024-06-10 15:56:59
>> merging all info together ...		2024-06-10 15:56:59
>> done		2024-06-10 15:56:59
It seems that there 1 genes have not been annotated by nearestGene mode
>> checking seqlevels match...		2024-06-10 15:57:01
>> your peak_GR seqlevel:Chr5...
>> your Txdb seqlevel:Chr1 Chr2 Chr3 Chr4 Chr5 ChrM ChrC...
Good, your Chrs in peak_GR is all in Txdb
>> checking seqlevels match...		2024-06-10 15:57:01
>> your peak_GR seqlevel:Chr5...
>> your Txdb seqlevel:Chr1 Chr2 Chr3 Chr4 Chr5 ChrM ChrC...
Good, your Chrs in peak_GR is all in Txdb
------------
annotating Peak using nearest gene mode begins
>> preparing gene features information...		2024-06-10 15:57:01
>> finding nearest gene and calculating distance...		2024-06-10 15:57:02
>> dealing with gene strand ...		2024-06-10 15:57:02
>> merging all info together ...		2024-06-10 15:57:02
>> done		2024-06-10 15:57:02
It seems that there 1 genes have not been annotated by nearestGene mode
>> checking seqlevels match...		2024-06-10 15:57:04
>> your peak_GR seqlevel:Chr5...
>> your Txdb seqlevel:Chr1 Chr2 Chr3 Chr4 Chr5 ChrM ChrC...
Good, your Chrs in peak_GR is all in Txdb
>> checking seqlevels match...		2024-06-10 15:57:06
>> your peak_GR seqlevel:Chr5...
>> your Txdb seqlevel:Chr1 Chr2 Chr3 Chr4 Chr5 ChrM ChrC...
Good, your Chrs in peak_GR is all in Txdb
>> some scan range may cross Chr bound, trimming...		2024-06-10 15:57:08
>> checking seqlevels match...		2024-06-10 15:57:09
>> your peak_GR seqlevel:Chr5...
>> your Txdb seqlevel:Chr1 Chr2 Chr3 Chr4 Chr5 ChrM ChrC...
Good, your Chrs in peak_GR is all in Txdb
>> some scan range may cross Chr bound, trimming...		2024-06-10 15:57:10
Good, your two matrix colnames matchs
>> calculating cor and pvalue, which may be time consuming...		2024-06-10 15:57:12
>> merging all info together...		2024-06-10 15:57:12
>> done		2024-06-10 15:57:12
>> checking seqlevels match...		2024-06-10 15:57:12
>> your peak_GR seqlevel:Chr5...
>> your Txdb seqlevel:Chr1 Chr2 Chr3 Chr4 Chr5 ChrM ChrC...
Good, your Chrs in peak_GR is all in Txdb
>> using scanPromoter parameter to scan promoter for each gene...		2024-06-10 15:57:12
>> checking seqlevels match...		2024-06-10 15:57:12
>> your peak_GR seqlevel:Chr5...
>> your Txdb seqlevel:Chr1 Chr2 Chr3 Chr4 Chr5 ChrM ChrC...
Good, your Chrs in peak_GR is all in Txdb
>> some scan range may cross Chr bound, trimming...		2024-06-10 15:57:13
>> there are 85 gene have scaned promoter
>> using scanEnhancer parameter to scan Enhancer for each gene...		2024-06-10 15:57:14
>> checking seqlevels match...		2024-06-10 15:57:14
>> your peak_GR seqlevel:Chr5...
>> your Txdb seqlevel:Chr1 Chr2 Chr3 Chr4 Chr5 ChrM ChrC...
Good, your Chrs in peak_GR is all in Txdb
>> some scan range may cross Chr bound, trimming...		2024-06-10 15:57:15
>> calculating cor and pvalue, which may be time consuming...		2024-06-10 15:57:15
>> merging all info together...		2024-06-10 15:57:16
>> done		2024-06-10 15:57:16
Good, your two matrix colnames matchs
>> calculating cor and pvalue, which may be time consuming...		2024-06-10 15:57:16
>> merging all info together...		2024-06-10 15:57:16
>> done		2024-06-10 15:57:16
>> checking seqlevels match...		2024-06-10 15:57:17
>> your peak_GR seqlevel:Chr5...
>> your Txdb seqlevel:Chr1 Chr2 Chr3 Chr4 Chr5 ChrM ChrC...
Good, your Chrs in peak_GR is all in Txdb
------------
annotatePeak using geneScan mode begins
>> preparing gene features information and scan region...		2024-06-10 15:57:17
>> some scan range may cross Chr bound, trimming...		2024-06-10 15:57:18
>> finding overlap peak in gene scan region...		2024-06-10 15:57:18
>> dealing with left peak not your gene scan region...		2024-06-10 15:57:18
>> merging two set peaks...		2024-06-10 15:57:18
>> calculating distance and dealing with gene strand...		2024-06-10 15:57:18
>> merging all info together ...		2024-06-10 15:57:18
>> done		2024-06-10 15:57:18
Good, your two matrix colnames matchs
>> calculating cor and pvalue, which may be time consuming...		2024-06-10 15:57:19
>> merging all info together...		2024-06-10 15:57:20
>> done		2024-06-10 15:57:20
>> checking seqlevels match...		2024-06-10 15:57:20
>> your peak_GR seqlevel:Chr5...
>> your Txdb seqlevel:Chr1 Chr2 Chr3 Chr4 Chr5 ChrM ChrC...
Good, your Chrs in peak_GR is all in Txdb
>> using scanPromoter parameter to scan promoter for each gene...		2024-06-10 15:57:20
>> checking seqlevels match...		2024-06-10 15:57:20
>> your peak_GR seqlevel:Chr5...
>> your Txdb seqlevel:Chr1 Chr2 Chr3 Chr4 Chr5 ChrM ChrC...
Good, your Chrs in peak_GR is all in Txdb
>> some scan range may cross Chr bound, trimming...		2024-06-10 15:57:21
>> there are 85 gene have scaned promoter
>> using scanEnhancer parameter to scan Enhancer for each gene...		2024-06-10 15:57:22
>> checking seqlevels match...		2024-06-10 15:57:22
>> your peak_GR seqlevel:Chr5...
>> your Txdb seqlevel:Chr1 Chr2 Chr3 Chr4 Chr5 ChrM ChrC...
Good, your Chrs in peak_GR is all in Txdb
>> some scan range may cross Chr bound, trimming...		2024-06-10 15:57:23
>> calculating cor and pvalue, which may be time consuming...		2024-06-10 15:57:23
>> merging all info together...		2024-06-10 15:57:23
>> done		2024-06-10 15:57:24
Joining with `by = join_by(feature_id)`
Joining with `by = join_by(feature_id)`
`geom_smooth()` using formula = 'y ~ x'
Joining with `by = join_by(feature_id)`
Joining with `by = join_by(feature_id)`
`geom_smooth()` using formula = 'y ~ x'
[ FAIL 0 | WARN 0 | SKIP 0 | PASS 65 ]
> 
> proc.time()
   user  system elapsed 
 77.105   2.734 117.979 
FindIT2.Rcheck/FindIT2-Ex.timings
| name | user | system | elapsed | |
| TF_target_database | 0 | 0 | 0 | |
| calcRP_TFHit | 4.765 | 0.149 | 7.486 | |
| calcRP_coverage | 5.365 | 0.504 | 8.924 | |
| calcRP_region | 5.388 | 0.155 | 8.531 | |
| enhancerPromoterCor | 3.532 | 0.113 | 5.602 | |
| findIT_MARA | 0.479 | 0.016 | 0.750 | |
| findIT_TFHit | 1.241 | 0.040 | 1.885 | |
| findIT_TTPair | 0.097 | 0.006 | 0.159 | |
| findIT_enrichFisher | 0.184 | 0.009 | 0.274 | |
| findIT_enrichWilcox | 0.199 | 0.008 | 0.286 | |
| findIT_regionRP | 6.850 | 0.139 | 10.165 | |
| getAssocPairNumber | 2.840 | 0.056 | 4.267 | |
| integrate_ChIP_RNA | 3.661 | 0.094 | 5.529 | |
| integrate_replicates | 0.002 | 0.000 | 0.003 | |
| jaccard_findIT_TTpair | 0.129 | 0.006 | 0.240 | |
| jaccard_findIT_enrichFisher | 0.209 | 0.006 | 0.267 | |
| loadPeakFile | 0.060 | 0.002 | 0.083 | |
| mm_geneBound | 1.328 | 0.049 | 2.063 | |
| mm_geneScan | 1.368 | 0.042 | 2.191 | |
| mm_nearestGene | 1.160 | 0.030 | 1.841 | |
| peakGeneCor | 2.411 | 0.049 | 3.721 | |
| plot_annoDistance | 3.168 | 0.075 | 4.820 | |
| plot_peakGeneAlias_summary | 1.485 | 0.059 | 2.301 | |
| plot_peakGeneCor | 3.045 | 0.077 | 4.573 | |
| test_geneSet | 0 | 0 | 0 | |