| Back to Multiple platform build/check report for BioC 3.19: simplified long | 
 | 
This page was generated on 2024-10-18 20:38 -0400 (Fri, 18 Oct 2024).
| Hostname | OS | Arch (*) | R version | Installed pkgs | 
|---|---|---|---|---|
| nebbiolo1 | Linux (Ubuntu 22.04.3 LTS) | x86_64 | 4.4.1 (2024-06-14) -- "Race for Your Life" | 4763 | 
| palomino7 | Windows Server 2022 Datacenter | x64 | 4.4.1 (2024-06-14 ucrt) -- "Race for Your Life" | 4500 | 
| merida1 | macOS 12.7.5 Monterey | x86_64 | 4.4.1 (2024-06-14) -- "Race for Your Life" | 4530 | 
| kjohnson1 | macOS 13.6.6 Ventura | arm64 | 4.4.1 (2024-06-14) -- "Race for Your Life" | 4480 | 
| Click on any hostname to see more info about the system (e.g. compilers) (*) as reported by 'uname -p', except on Windows and Mac OS X | ||||
| Package 713/2300 | Hostname | OS / Arch | INSTALL | BUILD | CHECK | BUILD BIN | ||||||||
| FeatSeekR 1.4.0  (landing page) Tuemay Capraz 
 | nebbiolo1 | Linux (Ubuntu 22.04.3 LTS) / x86_64 | OK | OK | OK |  | ||||||||
| palomino7 | Windows Server 2022 Datacenter / x64 | OK | OK | OK | OK |  | ||||||||
| merida1 | macOS 12.7.5 Monterey / x86_64 | OK | OK | OK | OK |  | ||||||||
| kjohnson1 | macOS 13.6.6 Ventura / arm64 | OK | OK | OK | OK |  | ||||||||
| To the developers/maintainers of the FeatSeekR package: - Allow up to 24 hours (and sometimes 48 hours) for your latest push to git@git.bioconductor.org:packages/FeatSeekR.git to reflect on this report. See Troubleshooting Build Report for more information. - Use the following Renviron settings to reproduce errors and warnings. - If 'R CMD check' started to fail recently on the Linux builder(s) over a missing dependency, add the missing dependency to 'Suggests:' in your DESCRIPTION file. See Renviron.bioc for more information. | 
| Package: FeatSeekR | 
| Version: 1.4.0 | 
| Command: /home/biocbuild/bbs-3.19-bioc/R/bin/R CMD check --install=check:FeatSeekR.install-out.txt --library=/home/biocbuild/bbs-3.19-bioc/R/site-library --timings FeatSeekR_1.4.0.tar.gz | 
| StartedAt: 2024-10-17 00:24:52 -0400 (Thu, 17 Oct 2024) | 
| EndedAt: 2024-10-17 00:28:23 -0400 (Thu, 17 Oct 2024) | 
| EllapsedTime: 211.5 seconds | 
| RetCode: 0 | 
| Status: OK | 
| CheckDir: FeatSeekR.Rcheck | 
| Warnings: 0 | 
##############################################################################
##############################################################################
###
### Running command:
###
###   /home/biocbuild/bbs-3.19-bioc/R/bin/R CMD check --install=check:FeatSeekR.install-out.txt --library=/home/biocbuild/bbs-3.19-bioc/R/site-library --timings FeatSeekR_1.4.0.tar.gz
###
##############################################################################
##############################################################################
* using log directory ‘/home/biocbuild/bbs-3.19-bioc/meat/FeatSeekR.Rcheck’
* using R version 4.4.1 (2024-06-14)
* using platform: x86_64-pc-linux-gnu
* R was compiled by
    gcc (Ubuntu 11.4.0-1ubuntu1~22.04) 11.4.0
    GNU Fortran (Ubuntu 11.4.0-1ubuntu1~22.04) 11.4.0
* running under: Ubuntu 22.04.5 LTS
* using session charset: UTF-8
* checking for file ‘FeatSeekR/DESCRIPTION’ ... OK
* checking extension type ... Package
* this is package ‘FeatSeekR’ version ‘1.4.0’
* package encoding: UTF-8
* checking package namespace information ... OK
* checking package dependencies ... OK
* checking if this is a source package ... OK
* checking if there is a namespace ... OK
* checking for hidden files and directories ... OK
* checking for portable file names ... OK
* checking for sufficient/correct file permissions ... OK
* checking whether package ‘FeatSeekR’ can be installed ... OK
* checking installed package size ... OK
* checking package directory ... OK
* checking ‘build’ directory ... OK
* checking DESCRIPTION meta-information ... OK
* checking top-level files ... OK
* checking for left-over files ... OK
* checking index information ... OK
* checking package subdirectories ... OK
* checking code files for non-ASCII characters ... OK
* checking R files for syntax errors ... OK
* checking whether the package can be loaded ... OK
* checking whether the package can be loaded with stated dependencies ... OK
* checking whether the package can be unloaded cleanly ... OK
* checking whether the namespace can be loaded with stated dependencies ... OK
* checking whether the namespace can be unloaded cleanly ... OK
* checking loading without being on the library search path ... OK
* checking dependencies in R code ... OK
* checking S3 generic/method consistency ... OK
* checking replacement functions ... OK
* checking foreign function calls ... OK
* checking R code for possible problems ... OK
* checking Rd files ... OK
* checking Rd metadata ... OK
* checking Rd cross-references ... OK
* checking for missing documentation entries ... OK
* checking for code/documentation mismatches ... OK
* checking Rd \usage sections ... NOTE
Documented arguments not in \usage in Rd file 'init_selected.Rd':
  ‘data’
Functions with \usage entries need to have the appropriate \alias
entries, and all their arguments documented.
The \usage entries must correspond to syntactically valid R code.
See chapter ‘Writing R documentation files’ in the ‘Writing R
Extensions’ manual.
* checking Rd contents ... OK
* checking for unstated dependencies in examples ... OK
* checking files in ‘vignettes’ ... OK
* checking examples ... OK
* checking for unstated dependencies in ‘tests’ ... OK
* checking tests ...
  Running ‘testthat.R’
 OK
* checking for unstated dependencies in vignettes ... OK
* checking package vignettes ... OK
* checking re-building of vignette outputs ... OK
* checking PDF version of manual ... OK
* DONE
Status: 1 NOTE
See
  ‘/home/biocbuild/bbs-3.19-bioc/meat/FeatSeekR.Rcheck/00check.log’
for details.
FeatSeekR.Rcheck/00install.out
############################################################################## ############################################################################## ### ### Running command: ### ### /home/biocbuild/bbs-3.19-bioc/R/bin/R CMD INSTALL FeatSeekR ### ############################################################################## ############################################################################## * installing to library ‘/home/biocbuild/bbs-3.19-bioc/R/site-library’ * installing *source* package ‘FeatSeekR’ ... ** using staged installation ** R ** byte-compile and prepare package for lazy loading ** help *** installing help indices ** building package indices ** installing vignettes ** testing if installed package can be loaded from temporary location ** testing if installed package can be loaded from final location ** testing if installed package keeps a record of temporary installation path * DONE (FeatSeekR)
FeatSeekR.Rcheck/tests/testthat.Rout
R version 4.4.1 (2024-06-14) -- "Race for Your Life"
Copyright (C) 2024 The R Foundation for Statistical Computing
Platform: x86_64-pc-linux-gnu
R is free software and comes with ABSOLUTELY NO WARRANTY.
You are welcome to redistribute it under certain conditions.
Type 'license()' or 'licence()' for distribution details.
R is a collaborative project with many contributors.
Type 'contributors()' for more information and
'citation()' on how to cite R or R packages in publications.
Type 'demo()' for some demos, 'help()' for on-line help, or
'help.start()' for an HTML browser interface to help.
Type 'q()' to quit R.
> library(testthat)
> library(FeatSeekR)
> 
> test_check("FeatSeekR")
Input data has: 
6 samples 
3 conditions 
3 features 
2 replicates
Starting feature ranking!
Iteration: 1 selected = second, replicate F-statistic = 2.1915392320943
Iteration: 2 selected = third, replicate F-statistic = 1.57676285829573
Finished feature ranking procedure!
Calculating explained variance of selected feature sets!
Input data has: 
6 samples 
3 conditions 
3 features 
2 replicates
Starting feature ranking!
Iteration: 1 selected = first, replicate F-statistic = 0.734950179042275
Iteration: 2 selected = second, replicate F-statistic = 2.14376104382369
Finished feature ranking procedure!
Calculating explained variance of selected feature sets!
Input data has: 
50 samples 
2 conditions 
30 features 
25 replicates
Starting feature ranking!
Iteration: 1 selected = feature 27, replicate F-statistic = 4.53751790798041
Iteration: 2 selected = feature 12, replicate F-statistic = 1.07800214336824
Iteration: 3 selected = feature 25, replicate F-statistic = 1.21167464669922
Iteration: 4 selected = feature 30, replicate F-statistic = 1.30927739462456
Iteration: 5 selected = feature 7, replicate F-statistic = 1.30354313924874
Finished feature ranking procedure!
Calculating explained variance of selected feature sets!
[ FAIL 0 | WARN 0 | SKIP 0 | PASS 56 ]
> 
> proc.time()
   user  system elapsed 
  7.435   0.503   7.928 
FeatSeekR.Rcheck/FeatSeekR-Ex.timings
| name | user | system | elapsed | |
| FeatSeek | 0.341 | 0.016 | 0.357 | |
| plotSelectedFeatures | 0.309 | 0.000 | 0.309 | |
| plotVarianceExplained | 0.324 | 0.004 | 0.329 | |
| simData | 0.016 | 0.000 | 0.017 | |