| Back to Multiple platform build/check report for BioC 3.19: simplified long | 
 | 
This page was generated on 2024-06-11 14:43 -0400 (Tue, 11 Jun 2024).
| Hostname | OS | Arch (*) | R version | Installed pkgs | 
|---|---|---|---|---|
| nebbiolo1 | Linux (Ubuntu 22.04.3 LTS) | x86_64 | 4.4.0 (2024-04-24) -- "Puppy Cup" | 4757 | 
| palomino3 | Windows Server 2022 Datacenter | x64 | 4.4.0 (2024-04-24 ucrt) -- "Puppy Cup" | 4491 | 
| lconway | macOS 12.7.1 Monterey | x86_64 | 4.4.0 (2024-04-24) -- "Puppy Cup" | 4522 | 
| kjohnson3 | macOS 13.6.5 Ventura | arm64 | 4.4.0 (2024-04-24) -- "Puppy Cup" | 4468 | 
| Click on any hostname to see more info about the system (e.g. compilers) (*) as reported by 'uname -p', except on Windows and Mac OS X | ||||
| Package 658/2300 | Hostname | OS / Arch | INSTALL | BUILD | CHECK | BUILD BIN | ||||||||
| EpiCompare 1.8.0  (landing page) Thomas Roberts 
 | nebbiolo1 | Linux (Ubuntu 22.04.3 LTS) / x86_64 | OK | OK | OK |  | ||||||||
| palomino3 | Windows Server 2022 Datacenter / x64 | OK | OK | OK | OK |  | ||||||||
| lconway | macOS 12.7.1 Monterey / x86_64 | OK | OK | OK | OK |  | ||||||||
| kjohnson3 | macOS 13.6.5 Ventura / arm64 | OK | OK | OK | OK |  | ||||||||
| To the developers/maintainers of the EpiCompare package: - Allow up to 24 hours (and sometimes 48 hours) for your latest push to git@git.bioconductor.org:packages/EpiCompare.git to reflect on this report. See Troubleshooting Build Report for more information. - Use the following Renviron settings to reproduce errors and warnings. - If 'R CMD check' started to fail recently on the Linux builder(s) over a missing dependency, add the missing dependency to 'Suggests:' in your DESCRIPTION file. See Renviron.bioc for more information. | 
| Package: EpiCompare | 
| Version: 1.8.0 | 
| Command: /Library/Frameworks/R.framework/Resources/bin/R CMD check --install=check:EpiCompare.install-out.txt --library=/Library/Frameworks/R.framework/Resources/library --no-vignettes --timings EpiCompare_1.8.0.tar.gz | 
| StartedAt: 2024-06-10 14:48:37 -0400 (Mon, 10 Jun 2024) | 
| EndedAt: 2024-06-10 15:13:22 -0400 (Mon, 10 Jun 2024) | 
| EllapsedTime: 1484.4 seconds | 
| RetCode: 0 | 
| Status: OK | 
| CheckDir: EpiCompare.Rcheck | 
| Warnings: 0 | 
##############################################################################
##############################################################################
###
### Running command:
###
###   /Library/Frameworks/R.framework/Resources/bin/R CMD check --install=check:EpiCompare.install-out.txt --library=/Library/Frameworks/R.framework/Resources/library --no-vignettes --timings EpiCompare_1.8.0.tar.gz
###
##############################################################################
##############################################################################
* using log directory ‘/Users/biocbuild/bbs-3.19-bioc/meat/EpiCompare.Rcheck’
* using R version 4.4.0 (2024-04-24)
* using platform: aarch64-apple-darwin20
* R was compiled by
    Apple clang version 14.0.0 (clang-1400.0.29.202)
    GNU Fortran (GCC) 12.2.0
* running under: macOS Ventura 13.6.5
* using session charset: UTF-8
* using option ‘--no-vignettes’
* checking for file ‘EpiCompare/DESCRIPTION’ ... OK
* checking extension type ... Package
* this is package ‘EpiCompare’ version ‘1.8.0’
* package encoding: UTF-8
* checking package namespace information ... OK
* checking package dependencies ... OK
* checking if this is a source package ... OK
* checking if there is a namespace ... OK
* checking for hidden files and directories ... OK
* checking for portable file names ... OK
* checking for sufficient/correct file permissions ... OK
* checking whether package ‘EpiCompare’ can be installed ... OK
* checking installed package size ... OK
* checking package directory ... OK
* checking ‘build’ directory ... OK
* checking DESCRIPTION meta-information ... OK
* checking top-level files ... OK
* checking for left-over files ... OK
* checking index information ... OK
* checking package subdirectories ... OK
* checking code files for non-ASCII characters ... OK
* checking R files for syntax errors ... OK
* checking whether the package can be loaded ... OK
* checking whether the package can be loaded with stated dependencies ... OK
* checking whether the package can be unloaded cleanly ... OK
* checking whether the namespace can be loaded with stated dependencies ... OK
* checking whether the namespace can be unloaded cleanly ... OK
* checking dependencies in R code ... OK
* checking S3 generic/method consistency ... OK
* checking replacement functions ... OK
* checking foreign function calls ... OK
* checking R code for possible problems ... OK
* checking Rd files ... NOTE
checkRd: (-1) EpiCompare.Rd:51-53: Lost braces in \itemize; meant \describe ?
checkRd: (-1) EpiCompare.Rd:54: Lost braces in \itemize; meant \describe ?
checkRd: (-1) EpiCompare.Rd:55: Lost braces in \itemize; meant \describe ?
checkRd: (-1) EpiCompare.Rd:74-75: Lost braces in \itemize; meant \describe ?
checkRd: (-1) EpiCompare.Rd:76-77: Lost braces in \itemize; meant \describe ?
checkRd: (-1) EpiCompare.Rd:78-79: Lost braces in \itemize; meant \describe ?
checkRd: (-1) EpiCompare.Rd:80-81: Lost braces in \itemize; meant \describe ?
checkRd: (-1) EpiCompare.Rd:82-84: Lost braces in \itemize; meant \describe ?
checkRd: (-1) EpiCompare.Rd:85-86: Lost braces in \itemize; meant \describe ?
checkRd: (-1) EpiCompare.Rd:179: Lost braces in \itemize; meant \describe ?
checkRd: (-1) EpiCompare.Rd:180: Lost braces in \itemize; meant \describe ?
checkRd: (-1) EpiCompare.Rd:181: Lost braces in \itemize; meant \describe ?
checkRd: (-1) compute_consensus_peaks.Rd:45-47: Lost braces in \itemize; meant \describe ?
checkRd: (-1) compute_consensus_peaks.Rd:48-51: Lost braces in \itemize; meant \describe ?
checkRd: (-1) compute_corr.Rd:62-65: Lost braces in \itemize; meant \describe ?
checkRd: (-1) compute_corr.Rd:66-69: Lost braces in \itemize; meant \describe ?
checkRd: (-1) compute_corr.Rd:70-72: Lost braces in \itemize; meant \describe ?
checkRd: (-1) gather_files.Rd:22-23: Lost braces in \itemize; meant \describe ?
checkRd: (-1) gather_files.Rd:24: Lost braces in \itemize; meant \describe ?
checkRd: (-1) gather_files.Rd:25: Lost braces in \itemize; meant \describe ?
checkRd: (-1) gather_files.Rd:26-27: Lost braces in \itemize; meant \describe ?
checkRd: (-1) gather_files.Rd:28-29: Lost braces in \itemize; meant \describe ?
checkRd: (-1) gather_files.Rd:60: Lost braces in \itemize; meant \describe ?
checkRd: (-1) gather_files.Rd:61-62: Lost braces in \itemize; meant \describe ?
checkRd: (-1) gather_files.Rd:63-65: Lost braces in \itemize; meant \describe ?
checkRd: (-1) gather_files_names.Rd:14-15: Lost braces in \itemize; meant \describe ?
checkRd: (-1) gather_files_names.Rd:16: Lost braces in \itemize; meant \describe ?
checkRd: (-1) gather_files_names.Rd:17: Lost braces in \itemize; meant \describe ?
checkRd: (-1) gather_files_names.Rd:18-19: Lost braces in \itemize; meant \describe ?
checkRd: (-1) gather_files_names.Rd:20-21: Lost braces in \itemize; meant \describe ?
checkRd: (-1) liftover_grlist.Rd:31: Lost braces in \itemize; meant \describe ?
checkRd: (-1) liftover_grlist.Rd:32: Lost braces in \itemize; meant \describe ?
checkRd: (-1) overlap_stat_plot.Rd:42-43: Lost braces in \itemize; \value handles \item{}{} directly
checkRd: (-1) overlap_stat_plot.Rd:44: Lost braces in \itemize; \value handles \item{}{} directly
checkRd: (-1) plot_corr.Rd:64-67: Lost braces in \itemize; meant \describe ?
checkRd: (-1) plot_corr.Rd:68-71: Lost braces in \itemize; meant \describe ?
checkRd: (-1) plot_corr.Rd:72-74: Lost braces in \itemize; meant \describe ?
checkRd: (-1) plot_precision_recall.Rd:47-50: Lost braces in \itemize; meant \describe ?
checkRd: (-1) plot_precision_recall.Rd:51-54: Lost braces in \itemize; meant \describe ?
checkRd: (-1) plot_precision_recall.Rd:55-57: Lost braces in \itemize; meant \describe ?
checkRd: (-1) precision_recall.Rd:42-45: Lost braces in \itemize; meant \describe ?
checkRd: (-1) precision_recall.Rd:46-49: Lost braces in \itemize; meant \describe ?
checkRd: (-1) precision_recall.Rd:50-52: Lost braces in \itemize; meant \describe ?
checkRd: (-1) prepare_genome_builds.Rd:13-15: Lost braces in \itemize; meant \describe ?
checkRd: (-1) prepare_genome_builds.Rd:16: Lost braces in \itemize; meant \describe ?
checkRd: (-1) prepare_genome_builds.Rd:17: Lost braces in \itemize; meant \describe ?
checkRd: (-1) prepare_genome_builds.Rd:32-33: Lost braces in \itemize; meant \describe ?
checkRd: (-1) prepare_genome_builds.Rd:34-35: Lost braces in \itemize; meant \describe ?
checkRd: (-1) prepare_genome_builds.Rd:36-37: Lost braces in \itemize; meant \describe ?
checkRd: (-1) prepare_genome_builds.Rd:38-39: Lost braces in \itemize; meant \describe ?
checkRd: (-1) prepare_genome_builds.Rd:40-42: Lost braces in \itemize; meant \describe ?
checkRd: (-1) prepare_genome_builds.Rd:43-44: Lost braces in \itemize; meant \describe ?
checkRd: (-1) read_peaks.Rd:14-15: Lost braces in \itemize; meant \describe ?
checkRd: (-1) read_peaks.Rd:16: Lost braces in \itemize; meant \describe ?
checkRd: (-1) read_peaks.Rd:17: Lost braces in \itemize; meant \describe ?
checkRd: (-1) read_peaks.Rd:18-19: Lost braces in \itemize; meant \describe ?
checkRd: (-1) read_peaks.Rd:20-21: Lost braces in \itemize; meant \describe ?
checkRd: (-1) rebin_peaks.Rd:39-42: Lost braces in \itemize; meant \describe ?
checkRd: (-1) rebin_peaks.Rd:43-46: Lost braces in \itemize; meant \describe ?
checkRd: (-1) rebin_peaks.Rd:47-49: Lost braces in \itemize; meant \describe ?
* checking Rd metadata ... OK
* checking Rd cross-references ... OK
* checking for missing documentation entries ... OK
* checking for code/documentation mismatches ... OK
* checking Rd \usage sections ... OK
* checking Rd contents ... OK
* checking for unstated dependencies in examples ... OK
* checking contents of ‘data’ directory ... OK
* checking data for non-ASCII characters ... OK
* checking data for ASCII and uncompressed saves ... OK
* checking files in ‘vignettes’ ... OK
* checking examples ... OK
Examples with CPU (user + system) or elapsed time > 5s
                             user system elapsed
plot_enrichment            52.208  2.473  94.604
plot_ChIPseeker_annotation 26.393  0.749  41.943
plot_corr                  12.691  2.931  18.754
EpiCompare                 12.715  0.923  55.764
plot_precision_recall       8.134  1.988   9.138
predict_precision_recall    7.616  2.104   8.422
precision_recall            7.459  1.911   7.767
rebin_peaks                 5.752  1.606   8.579
tss_plot                    5.966  0.454   9.582
liftover_grlist             5.036  0.673   9.688
compute_corr                3.512  1.383   7.185
overlap_heatmap             4.619  0.175   7.418
plot_chromHMM               3.457  0.451   8.311
* checking for unstated dependencies in ‘tests’ ... OK
* checking tests ...
  Running ‘testthat.R’
 OK
* checking for unstated dependencies in vignettes ... OK
* checking package vignettes ... OK
* checking running R code from vignettes ... SKIPPED
* checking re-building of vignette outputs ... SKIPPED
* checking PDF version of manual ... OK
* DONE
Status: 1 NOTE
See
  ‘/Users/biocbuild/bbs-3.19-bioc/meat/EpiCompare.Rcheck/00check.log’
for details.
EpiCompare.Rcheck/00install.out
############################################################################## ############################################################################## ### ### Running command: ### ### /Library/Frameworks/R.framework/Resources/bin/R CMD INSTALL EpiCompare ### ############################################################################## ############################################################################## * installing to library ‘/Library/Frameworks/R.framework/Versions/4.4-arm64/Resources/library’ * installing *source* package ‘EpiCompare’ ... ** using staged installation ** R ** data ** inst ** byte-compile and prepare package for lazy loading Warning: replacing previous import ‘Biostrings::pattern’ by ‘grid::pattern’ when loading ‘genomation’ ** help *** installing help indices ** building package indices ** installing vignettes ** testing if installed package can be loaded from temporary location Warning: replacing previous import ‘Biostrings::pattern’ by ‘grid::pattern’ when loading ‘genomation’ ** testing if installed package can be loaded from final location Warning: replacing previous import ‘Biostrings::pattern’ by ‘grid::pattern’ when loading ‘genomation’ ** testing if installed package keeps a record of temporary installation path * DONE (EpiCompare)
EpiCompare.Rcheck/tests/testthat.Rout
R version 4.4.0 (2024-04-24) -- "Puppy Cup"
Copyright (C) 2024 The R Foundation for Statistical Computing
Platform: aarch64-apple-darwin20
R is free software and comes with ABSOLUTELY NO WARRANTY.
You are welcome to redistribute it under certain conditions.
Type 'license()' or 'licence()' for distribution details.
R is a collaborative project with many contributors.
Type 'contributors()' for more information and
'citation()' on how to cite R or R packages in publications.
Type 'demo()' for some demos, 'help()' for on-line help, or
'help.start()' for an HTML browser interface to help.
Type 'q()' to quit R.
> library(testthat)
> library(EpiCompare)
Warning message:
replacing previous import 'Biostrings::pattern' by 'grid::pattern' when loading 'genomation' 
> 
> test_check("EpiCompare")
All EpiCompare features are being used.
WARNING: precision-recall curves cannot be generated when reference=NULL.
processing file: EpiCompare.Rmd
2024-06-10 15:05:12.840 R[6137:36664632] XType: Using static font registry.
output file: EpiCompare.knit.md
/opt/homebrew/bin/pandoc +RTS -K512m -RTS EpiCompare.knit.md --to html4 --from markdown+autolink_bare_uris+tex_math_single_backslash --output /private/tmp/RtmpM75IJC/t1/EpiCompare.html --lua-filter /Library/Frameworks/R.framework/Versions/4.4-arm64/Resources/library/rmarkdown/rmarkdown/lua/pagebreak.lua --lua-filter /Library/Frameworks/R.framework/Versions/4.4-arm64/Resources/library/rmarkdown/rmarkdown/lua/latex-div.lua --embed-resources --standalone --variable bs3=TRUE --section-divs --table-of-contents --toc-depth 3 --variable toc_float=1 --variable toc_selectors=h1,h2,h3 --variable toc_collapsed=1 --variable toc_smooth_scroll=1 --variable toc_print=1 --template /Library/Frameworks/R.framework/Versions/4.4-arm64/Resources/library/rmarkdown/rmd/h/default.html --no-highlight --variable highlightjs=1 --number-sections --variable theme=bootstrap --css custom.css --mathjax --variable 'mathjax-url=https://mathjax.rstudio.com/latest/MathJax.js?config=TeX-AMS-MML_HTMLorMML' --include-in-header /tmp/RtmpM75IJC/rmarkdown-str17f914c29fb9.html --variable code_folding=hide --variable code_menu=1 
Output created: /private/tmp/RtmpM75IJC/t1/EpiCompare.html
[1] "Done in 4.04 min."
All outputs saved to: /tmp/RtmpM75IJC/t1
[1] 1
[1] 3
[1] 5
[1] 7
[1] 9
[1] 11
[1] 13
[1] 15
[1] 17
[1] 19
[1] 21
[1] 23
[1] 25
[1] 2
[1] 4
[1] 6
[1] 8
[1] 10
[1] 12
[1] 14
[1] 16
[1] 18
[1] 20
[1] 22
[1] 24
[1] 26
[1] 1
[1] 2
[1] 3
[1] 4
[1] 5
[1] 6
[1] 7
[1] 8
[1] 9
[1] 10
[1] 11
[1] 12
[1] 13
[1] 14
[1] 15
[1] 16
[1] 17
[1] 18
[1] 19
[1] 20
[1] 21
[1] 22
[1] 23
[1] 24
[1] 25
[1] 26
[1] 1
[1] 2
[1] 3
[1] 4
[1] 5
[1] 6
[1] 7
[1] 8
[1] 9
[1] 10
[1] 11
[1] 12
[1] 13
[1] 14
[1] 15
[1] 16
[1] 17
[1] 18
[1] 19
[1] 20
[1] 21
[1] 22
[1] 23
[1] 24
[1] 25
[1] 26
Removing non-standard chromosomes.
Computing consensus peaks for group: Imperial 
 - 2 files 
 - 1,670-2,707 peaks each
Identified 1,325 consensus peaks from 2 peak files
Computing consensus peaks for group: ENCODE 
 - 1 files 
 - 5,142-5,142 peaks each
WARNING: Cannot compute consensus peaks when group has <2 peak files. Returning original GRanges object instead.
Done computing consensus peaks in 0 min.
Removing non-standard chromosomes.
Computing consensus peaks for group: Imperial 
 - 2 files 
 - 1,670-2,707 peaks each
Identified 2,982 consensus peaks from 2 peak files
Computing consensus peaks for group: ENCODE 
 - 1 files 
 - 5,142-5,142 peaks each
WARNING: Cannot compute consensus peaks when group has <2 peak files. Returning original GRanges object instead.
Done computing consensus peaks in 0.65 min.
Standardising peak files in 6,659 bins of 5e+05 bp.
Merging data into matrix.
Binned matrix size: 6,659 x 3
Matrix sparsity: 0.9526
Calculating correlation matrix.
Done computing correlations in 5 seconds.
Saving correlation results ==> /tmp/RtmpM75IJC/file17f92ec9d32a.corr.csv.gz
Standardising peak files in 32,488 bins of 1e+05 bp.
Merging data into matrix.
Binned matrix size: 32,488 x 3
Matrix sparsity: 0.974
Calculating correlation matrix.
Done computing correlations in 5 seconds.
Saving correlation results ==> /tmp/RtmpM75IJC/file17f944468265.corr.csv.gz
Standardising peak files in 323,636 bins of 1e+04 bp.
Merging data into matrix.
Binned matrix size: 323,636 x 3
Matrix sparsity: 0.9936
Calculating correlation matrix.
Done computing correlations in 9 seconds.
Saving correlation results ==> /tmp/RtmpM75IJC/file17f9711ad7e7.corr.csv.gz
Standardising peak files in 647,114 bins of 5,000 bp.
Merging data into matrix.
Binned matrix size: 647,114 x 3
Matrix sparsity: 0.996
Calculating correlation matrix.
Done computing correlations in 13 seconds.
Saving correlation results ==> /tmp/RtmpM75IJC/file17f91954b8b4.corr.csv.gz
--- Running fragment_info() ---
Done.
Writing ==> /tmp/RtmpM75IJC/processed_results/encode_H3K27ac.narrowPeaks.bed
Writing ==> /tmp/RtmpM75IJC/processed_results/CnT_H3K27ac.narrowPeaks.bed
Writing ==> /tmp/RtmpM75IJC/processed_results/CnR_H3K27ac.narrowPeaks.bed
Searching for *.narrowPeaks.bed$ files...
3 matching files identified.
Constructing file names.
Importing files.
Reading narrowPeaks
Reading narrowPeaks
Reading narrowPeaks
3 files retrieved.
Searching for peaks.narrow files...
3 matching files identified.
Constructing file names.
Returning paths.
Searching for peaks.narrow files...
0 matching files identified. Returning NULL.
Writing ==> /tmp/RtmpM75IJC/processed_results/encode_H3K27ac.narrowPeaks.bed
Preparing chain file.
loading from cache
require("rtracklayer")
Performing liftover:  hg19  -->  hg38
Removing non-standard chromosomes.
Preparing chain file.
Preparing chain file.
loading from cache
Performing liftover:  hg38  -->  hg19
Removing non-standard chromosomes.
loading from cache
Performing liftover:  hg19  -->  mm9
Removing non-standard chromosomes.
NOTE: The following EpiCompare features are NOT being used: 
 - upset_plot=
 - stat_plot=
 - chromHMM_plot=
 - chipseeker_plot=
 - enrichment_plot=
 - tss_plot=
 - precision_recall_plot=
 - corr_plot=
 - add_download_button=
processing file: EpiCompare.Rmd
output file: EpiCompare.knit.md
/opt/homebrew/bin/pandoc +RTS -K512m -RTS EpiCompare.knit.md --to html4 --from markdown+autolink_bare_uris+tex_math_single_backslash --output /private/tmp/RtmpM75IJC/t1/EpiCompare.html --lua-filter /Library/Frameworks/R.framework/Versions/4.4-arm64/Resources/library/rmarkdown/rmarkdown/lua/pagebreak.lua --lua-filter /Library/Frameworks/R.framework/Versions/4.4-arm64/Resources/library/rmarkdown/rmarkdown/lua/latex-div.lua --embed-resources --standalone --variable bs3=TRUE --section-divs --table-of-contents --toc-depth 3 --variable toc_float=1 --variable toc_selectors=h1,h2,h3 --variable toc_collapsed=1 --variable toc_smooth_scroll=1 --variable toc_print=1 --template /Library/Frameworks/R.framework/Versions/4.4-arm64/Resources/library/rmarkdown/rmd/h/default.html --no-highlight --variable highlightjs=1 --number-sections --variable theme=bootstrap --css custom.css --mathjax --variable 'mathjax-url=https://mathjax.rstudio.com/latest/MathJax.js?config=TeX-AMS-MML_HTMLorMML' --include-in-header /tmp/RtmpM75IJC/rmarkdown-str17f95ca99470.html --variable code_folding=hide --variable code_menu=1 
Output created: /private/tmp/RtmpM75IJC/t1/EpiCompare.html
[1] "Done in 0.24 min."
All outputs saved to: /tmp/RtmpM75IJC/t1
NOTE: The following EpiCompare features are NOT being used: 
 - upset_plot=
 - stat_plot=
 - chromHMM_plot=
 - chipseeker_plot=
 - enrichment_plot=
 - tss_plot=
 - precision_recall_plot=
 - corr_plot=
 - add_download_button=
processing file: EpiCompare.Rmd
output file: EpiCompare.knit.md
/opt/homebrew/bin/pandoc +RTS -K512m -RTS EpiCompare.knit.md --to html4 --from markdown+autolink_bare_uris+tex_math_single_backslash --output /private/tmp/RtmpM75IJC/t2/EpiCompare.html --lua-filter /Library/Frameworks/R.framework/Versions/4.4-arm64/Resources/library/rmarkdown/rmarkdown/lua/pagebreak.lua --lua-filter /Library/Frameworks/R.framework/Versions/4.4-arm64/Resources/library/rmarkdown/rmarkdown/lua/latex-div.lua --embed-resources --standalone --variable bs3=TRUE --section-divs --table-of-contents --toc-depth 3 --variable toc_float=1 --variable toc_selectors=h1,h2,h3 --variable toc_collapsed=1 --variable toc_smooth_scroll=1 --variable toc_print=1 --template /Library/Frameworks/R.framework/Versions/4.4-arm64/Resources/library/rmarkdown/rmd/h/default.html --no-highlight --variable highlightjs=1 --number-sections --variable theme=bootstrap --css custom.css --mathjax --variable 'mathjax-url=https://mathjax.rstudio.com/latest/MathJax.js?config=TeX-AMS-MML_HTMLorMML' --include-in-header /tmp/RtmpM75IJC/rmarkdown-str17f979de29a1.html --variable code_folding=hide --variable code_menu=1 
Output created: /private/tmp/RtmpM75IJC/t2/EpiCompare.html
[1] "Done in 0.23 min."
All outputs saved to: /tmp/RtmpM75IJC/t2
NOTE: The following EpiCompare features are NOT being used: 
 - upset_plot=
 - stat_plot=
 - chromHMM_plot=
 - chipseeker_plot=
 - enrichment_plot=
 - tss_plot=
 - precision_recall_plot=
 - corr_plot=
 - add_download_button=
processing file: EpiCompare.Rmd
output file: EpiCompare.knit.md
/opt/homebrew/bin/pandoc +RTS -K512m -RTS EpiCompare.knit.md --to html4 --from markdown+autolink_bare_uris+tex_math_single_backslash --output /private/tmp/RtmpM75IJC/t3/testthat_example_Jun_10_2024.html --lua-filter /Library/Frameworks/R.framework/Versions/4.4-arm64/Resources/library/rmarkdown/rmarkdown/lua/pagebreak.lua --lua-filter /Library/Frameworks/R.framework/Versions/4.4-arm64/Resources/library/rmarkdown/rmarkdown/lua/latex-div.lua --embed-resources --standalone --variable bs3=TRUE --section-divs --table-of-contents --toc-depth 3 --variable toc_float=1 --variable toc_selectors=h1,h2,h3 --variable toc_collapsed=1 --variable toc_smooth_scroll=1 --variable toc_print=1 --template /Library/Frameworks/R.framework/Versions/4.4-arm64/Resources/library/rmarkdown/rmd/h/default.html --no-highlight --variable highlightjs=1 --number-sections --variable theme=bootstrap --css custom.css --mathjax --variable 'mathjax-url=https://mathjax.rstudio.com/latest/MathJax.js?config=TeX-AMS-MML_HTMLorMML' --include-in-header /tmp/RtmpM75IJC/rmarkdown-str17f92662c753.html --variable code_folding=hide --variable code_menu=1 
Output created: /private/tmp/RtmpM75IJC/t3/testthat_example_Jun_10_2024.html
[1] "Done in 0.23 min."
All outputs saved to: /tmp/RtmpM75IJC/t3
--- Running overlap_heatmap() ---
Warning: fill_diag must =NULL due to a known bug in the package 'heatmaply'.
Genreating precision-recall matrix.
overlap_heatmap(): Done in 8.1s.
--- Running overlap_heatmap() ---
Genreating precision-recall matrix.
overlap_heatmap(): Done in 0.2s.
--- Running overlap_stat_plot() ---
Preparing reference.
Extracting only the first GRanges object from list.
Done.
--- Running overlap_stat_plot() ---
Preparing reference.
Extracting only the first GRanges object from list.
Done.
--- Running peak_info() ---
Done.
Standardising peak files in 647,114 bins of 5,000 bp.
Merging data into matrix.
Binned matrix size: 647,114 x 3
Matrix sparsity: 0.996
Calculating correlation matrix.
Done computing correlations in 10 seconds.
Saving correlation results ==> /tmp/RtmpM75IJC/file17f920ebb583.corr.csv.gz
Threshold=0: Filtering peaks
Threshold=0.05: Filtering peaks
Computing precision-recall results.
Computing precision-recall results.
Threshold=0.1: Filtering peaks
Threshold=0.15: Filtering peaks
Computing precision-recall results.
Computing precision-recall results.
Threshold=0.2: Filtering peaks
Threshold=0.25: Filtering peaks
Computing precision-recall results.
Computing precision-recall results.
Threshold=0.35: Filtering peaks
Threshold=0.3: Filtering peaks
Computing precision-recall results.
Computing precision-recall results.
Threshold=0.45: Filtering peaks
Threshold=0.4: Filtering peaks
Computing precision-recall results.
Computing precision-recall results.
Threshold=0.5: Filtering peaks
Threshold=0.55: Filtering peaks
Computing precision-recall results.
Computing precision-recall results.
Threshold=0.6: Filtering peaks
Threshold=0.65: Filtering peaks
Computing precision-recall results.
Computing precision-recall results.
Threshold=0.7: Filtering peaks
Threshold=0.75: Filtering peaks
Computing precision-recall results.
Computing precision-recall results.
Threshold=0.8: Filtering peaks
Threshold=0.85: Filtering peaks
Computing precision-recall results.
Computing precision-recall results.
Threshold=0.95: Filtering peaks
Threshold=0.9: Filtering peaks
Computing precision-recall results.
Computing precision-recall results.
Reformatting precision-recall data.
Saving precision-recall results ==> /tmp/RtmpM75IJC/file17f979b5a50fprecision_recall.csv
Plotting precision-recall curve.
Plotting F1.
Making predictions for peaklist1: CnR_H3K27ac
Making predictions for peaklist2: encode_H3K27ac
+ Predicting recall from 10 precision values.
+ Predicting precision from 10 recall values.
Making predictions for peaklist1: CnT_H3K27ac
Making predictions for peaklist2: encode_H3K27ac
+ Predicting recall from 10 precision values.
+ Predicting precision from 10 recall values.
WARNING: 'CnT_missing' missing threshold col, will be excluded from precision-recall calculations.
Standardising peak files in 647,114 bins of 5,000 bp.
Merging data into matrix.
Converting to sparse matrix.
Binned matrix size: 647,114 x 2
Matrix sparsity: 0.9968
WARNING: 'CnT_missing' missing threshold col, will be excluded from precision-recall calculations.
Standardising peak files in 416,959 bins of 5,000 bp.
Merging data into matrix.
Converting to sparse matrix.
Binned matrix size: 416,959 x 2
Matrix sparsity: 0.995
--- Running tss_plot() ---
>> Running bootstrapping for tag matrix...		 2024-06-10 15:12:56 
>> Running bootstrapping for tag matrix...		 2024-06-10 15:12:56 
Done.
--- Running width_boxplot() ---
Done.
[ FAIL 0 | WARN 7 | SKIP 0 | PASS 92 ]
[ FAIL 0 | WARN 7 | SKIP 0 | PASS 92 ]
> 
> proc.time()
   user  system elapsed 
328.236  31.080 517.138 
EpiCompare.Rcheck/EpiCompare-Ex.timings
| name | user | system | elapsed | |
| EpiCompare | 12.715 | 0.923 | 55.764 | |
| bpplapply | 0.009 | 0.056 | 0.167 | |
| check_workers | 0.005 | 0.011 | 0.036 | |
| compute_consensus_peaks | 0.670 | 0.136 | 3.473 | |
| compute_corr | 3.512 | 1.383 | 7.185 | |
| download_button | 0.006 | 0.003 | 0.011 | |
| fragment_info | 0.004 | 0.004 | 0.014 | |
| gather_files | 0.459 | 0.247 | 1.286 | |
| group_files | 0.064 | 0.041 | 0.139 | |
| liftover_grlist | 5.036 | 0.673 | 9.688 | |
| overlap_heatmap | 4.619 | 0.175 | 7.418 | |
| overlap_percent | 0.347 | 0.027 | 0.554 | |
| overlap_stat_plot | 0.204 | 0.011 | 0.331 | |
| overlap_upset_plot | 0.441 | 0.026 | 0.684 | |
| peak_info | 0.799 | 0.089 | 1.349 | |
| plot_ChIPseeker_annotation | 26.393 | 0.749 | 41.943 | |
| plot_chromHMM | 3.457 | 0.451 | 8.311 | |
| plot_corr | 12.691 | 2.931 | 18.754 | |
| plot_enrichment | 52.208 | 2.473 | 94.604 | |
| plot_precision_recall | 8.134 | 1.988 | 9.138 | |
| precision_recall | 7.459 | 1.911 | 7.767 | |
| predict_precision_recall | 7.616 | 2.104 | 8.422 | |
| rebin_peaks | 5.752 | 1.606 | 8.579 | |
| report_command | 0.000 | 0.000 | 0.001 | |
| report_header | 0.002 | 0.002 | 0.007 | |
| tidy_peakfile | 0.446 | 0.105 | 0.861 | |
| translate_genome | 0.014 | 0.003 | 0.017 | |
| tss_plot | 5.966 | 0.454 | 9.582 | |
| width_boxplot | 0.065 | 0.014 | 0.130 | |
| write_example_peaks | 0.171 | 0.012 | 0.188 | |