| Back to Multiple platform build/check report for BioC 3.19: simplified long |
|
This page was generated on 2024-05-09 11:40:46 -0400 (Thu, 09 May 2024).
| Hostname | OS | Arch (*) | R version | Installed pkgs |
|---|---|---|---|---|
| nebbiolo1 | Linux (Ubuntu 22.04.3 LTS) | x86_64 | 4.4.0 (2024-04-24) -- "Puppy Cup" | 4748 |
| palomino3 | Windows Server 2022 Datacenter | x64 | 4.4.0 (2024-04-24 ucrt) -- "Puppy Cup" | 4484 |
| lconway | macOS 12.7.1 Monterey | x86_64 | 4.4.0 (2024-04-24) -- "Puppy Cup" | 4514 |
| kunpeng2 | Linux (openEuler 22.03 LTS-SP1) | aarch64 | 4.4.0 beta (2024-04-15 r86425) -- "Puppy Cup" | 4480 |
| Click on any hostname to see more info about the system (e.g. compilers) (*) as reported by 'uname -p', except on Windows and Mac OS X | ||||
| Package 567/2300 | Hostname | OS / Arch | INSTALL | BUILD | CHECK | BUILD BIN | ||||||||
| DIAlignR 2.12.0 (landing page) Shubham Gupta
| nebbiolo1 | Linux (Ubuntu 22.04.3 LTS) / x86_64 | OK | OK | OK | |||||||||
| palomino3 | Windows Server 2022 Datacenter / x64 | OK | OK | OK | OK | |||||||||
| lconway | macOS 12.7.1 Monterey / x86_64 | OK | OK | OK | OK | |||||||||
| kunpeng2 | Linux (openEuler 22.03 LTS-SP1) / aarch64 | OK | OK | ERROR | ||||||||||
| kjohnson3 | macOS 13.6.5 Ventura / arm64 | see weekly results here | ||||||||||||
|
To the developers/maintainers of the DIAlignR package: - Allow up to 24 hours (and sometimes 48 hours) for your latest push to git@git.bioconductor.org:packages/DIAlignR.git to reflect on this report. See Troubleshooting Build Report for more information. - Use the following Renviron settings to reproduce errors and warnings. - If 'R CMD check' started to fail recently on the Linux builder(s) over a missing dependency, add the missing dependency to 'Suggests:' in your DESCRIPTION file. See Renviron.bioc for more information. - See Martin Grigorov's blog post for how to debug Linux ARM64 related issues on a x86_64 host. |
| Package: DIAlignR |
| Version: 2.12.0 |
| Command: /home/biocbuild/R/R-beta-2024-04-15_r86425/bin/R CMD check --install=check:DIAlignR.install-out.txt --library=/home/biocbuild/R/R-beta-2024-04-15_r86425/site-library --no-vignettes --timings DIAlignR_2.12.0.tar.gz |
| StartedAt: 2024-05-09 06:46:56 -0000 (Thu, 09 May 2024) |
| EndedAt: 2024-05-09 06:50:26 -0000 (Thu, 09 May 2024) |
| EllapsedTime: 209.4 seconds |
| RetCode: 1 |
| Status: ERROR |
| CheckDir: DIAlignR.Rcheck |
| Warnings: NA |
##############################################################################
##############################################################################
###
### Running command:
###
### /home/biocbuild/R/R-beta-2024-04-15_r86425/bin/R CMD check --install=check:DIAlignR.install-out.txt --library=/home/biocbuild/R/R-beta-2024-04-15_r86425/site-library --no-vignettes --timings DIAlignR_2.12.0.tar.gz
###
##############################################################################
##############################################################################
* using log directory ‘/home/biocbuild/bbs-3.19-bioc/meat/DIAlignR.Rcheck’
* using R version 4.4.0 beta (2024-04-15 r86425)
* using platform: aarch64-unknown-linux-gnu
* R was compiled by
gcc (GCC) 10.3.1
GNU Fortran (GCC) 10.3.1
* running under: openEuler 22.03 (LTS-SP1)
* using session charset: UTF-8
* using option ‘--no-vignettes’
* checking for file ‘DIAlignR/DESCRIPTION’ ... OK
* checking extension type ... Package
* this is package ‘DIAlignR’ version ‘2.12.0’
* package encoding: UTF-8
* checking package namespace information ... OK
* checking package dependencies ... OK
* checking if this is a source package ... OK
* checking if there is a namespace ... OK
* checking for hidden files and directories ... OK
* checking for portable file names ... OK
* checking for sufficient/correct file permissions ... OK
* checking whether package ‘DIAlignR’ can be installed ... OK
* used C++ compiler: ‘g++ (GCC) 10.3.1’
* checking C++ specification ... NOTE
Specified C++14: please drop specification unless essential
* checking installed package size ... NOTE
installed size is 30.2Mb
sub-directories of 1Mb or more:
extdata 4.0Mb
libs 19.2Mb
metabo 4.1Mb
ptms 1.5Mb
* checking package directory ... OK
* checking DESCRIPTION meta-information ... OK
* checking top-level files ... OK
* checking for left-over files ... OK
* checking index information ... OK
* checking package subdirectories ... OK
* checking code files for non-ASCII characters ... OK
* checking R files for syntax errors ... OK
* checking whether the package can be loaded ... OK
* checking whether the package can be loaded with stated dependencies ... OK
* checking whether the package can be unloaded cleanly ... OK
* checking whether the namespace can be loaded with stated dependencies ... OK
* checking whether the namespace can be unloaded cleanly ... OK
* checking loading without being on the library search path ... OK
* checking dependencies in R code ... OK
* checking S3 generic/method consistency ... OK
* checking replacement functions ... OK
* checking foreign function calls ... OK
* checking R code for possible problems ... NOTE
alignTargetedRuns: no visible binding for global variable ‘peptide_id’
alignTargetedRuns : <anonymous>: no visible global function definition
for ‘.’
alignTargetedRuns: no visible binding for global variable ‘intensity’
alignToRoot4: no visible binding for global variable ‘trees’
alignToRoot4: no visible binding for global variable ‘precursors’
alignToRoot4: no visible binding for global variable ‘intensity’
childXICs: possible error in cummax(v = cummax(ifelse(is.na(x), -Inf,
x))): unused argument (v = cummax(ifelse(is.na(x), -Inf, x)))
distMat.rSqrd : <anonymous> : <anonymous>: no visible binding for
global variable ‘RT.ref’
distMat.rSqrd : <anonymous> : <anonymous>: no visible binding for
global variable ‘RT.eXp’
fetchPrecursorsInfo: no visible binding for global variable
‘transition_id’
fetchPrecursorsInfo: no visible global function definition for ‘.’
fetchPrecursorsInfo: no visible binding for global variable
‘transition_group_id’
fetchTransitionsFromRun: no visible binding for global variable
‘intensity’
fetchTransitionsFromRun: no visible global function definition for ‘.’
fetchTransitionsFromRun: no visible binding for global variable
‘transition_group_id’
fetchTransitionsFromRun: no visible binding for global variable
‘peak_group_rank’
fetchTransitionsFromRun: no visible global function definition for
‘head’
getNativeIDs: no visible binding for global variable ‘peptide_id’
getPeptideScores: no visible binding for global variable ‘col2’
getPeptideScores: no visible binding for global variable ‘run’
getQuery: no visible binding for global variable
‘identifying.transitionPEPfilter’
getRTdf: no visible binding for global variable ‘peak_group_rank’
getRTdf: no visible binding for global variable ‘m_score’
getRTdf: no visible global function definition for ‘.’
getRTdf: no visible binding for global variable ‘transition_group_id’
getRTdf: no visible binding for global variable ‘RT’
getRefRun : <anonymous>: no visible binding for global variable
‘pvalue’
ipfReassignFDR: no visible binding for global variable ‘ref_run’
ipfReassignFDR: no visible binding for global variable ‘run’
ipfReassignFDR: no visible global function definition for ‘.’
ipfReassignFDR: no visible binding for global variable ‘i.to’
ipfReassignFDR: no visible binding for global variable ‘m_score_new’
ipfReassignFDR: no visible binding for global variable ‘ms2_m_score’
ipfReassignFDR: no visible binding for global variable ‘m_score’
mstAlignRuns: no visible binding for global variable ‘ropenms’
mstAlignRuns: no visible binding for global variable ‘peptide_id’
mstAlignRuns : <anonymous>: no visible global function definition for
‘.’
mstAlignRuns: no visible binding for global variable ‘intensity’
mstScript1: no visible binding for global variable ‘ropenms’
mstScript2: no visible binding for global variable ‘fileInfo’
mstScript2: no visible binding for global variable ‘peptide_id’
mstScript2: no visible binding for global variable ‘features’
mstScript2 : <anonymous>: no visible global function definition for ‘.’
mstScript2 : <anonymous>: no visible binding for global variable
‘features’
mstScript2: no visible binding for global variable ‘intensity’
populateReferenceExperimentFeatureAlignmentMap: no visible binding for
global variable ‘run’
populateReferenceExperimentFeatureAlignmentMap: no visible binding for
global variable ‘transition_group_id’
populateReferenceExperimentFeatureAlignmentMap: no visible binding for
global variable ‘feature_id’
progAlignRuns: no visible binding for global variable ‘peptide_id’
progAlignRuns : <anonymous>: no visible global function definition for
‘.’
progAlignRuns: no visible binding for global variable ‘intensity’
progComb3: no visible binding for global variable ‘precursors’
progComb3: no visible binding for global variable ‘ropenms’
progSplit2: no visible binding for global variable ‘trees’
progSplit2: no visible binding for global variable ‘scoreFile’
progSplit2: no visible binding for global variable ‘precursors’
progSplit2 : <anonymous>: no visible global function definition for ‘.’
progSplit2: no visible binding for global variable ‘ropenms’
progSplit4: no visible binding for global variable ‘precursors’
progSplit4 : <anonymous>: no visible global function definition for ‘.’
progSplit4: no visible binding for global variable ‘intensity’
progTree1: no visible binding for global variable ‘ropenms’
progTree1: no visible binding for global variable ‘peptide_id’
reIntensity: no visible binding for global variable ‘run’
reIntensity: no visible binding for global variable ‘alignment_rank’
recalculateIntensity: no visible binding for global variable
‘peptide_id’
recalculateIntensity: no visible binding for global variable
‘chromatogramIndex’
script2: no visible binding for global variable ‘fileInfo’
script2: no visible binding for global variable ‘peptide_id’
script2 : <anonymous>: no visible global function definition for ‘.’
script2: no visible binding for global variable ‘features’
script2: no visible binding for global variable ‘globalFits’
script2: no visible binding for global variable ‘RSE’
script2: no visible binding for global variable ‘intensity’
setRootRank : <anonymous>: no visible global function definition for
‘.’
writeOutFeatureAlignmentMap: no visible binding for global variable
‘reference_feature_id’
writeOutFeatureAlignmentMap: no visible binding for global variable
‘experiment_feature_id’
writeOutFeatureAlignmentMap: no visible binding for global variable
‘ALIGNMENT_GROUP_ID’
writeOutFeatureAlignmentMap: no visible binding for global variable
‘REFERENCE’
writeOutFeatureAlignmentMap: no visible global function definition for
‘.’
writeOutFeatureAlignmentMap: no visible binding for global variable
‘i.to’
writeTables: no visible binding for global variable ‘peptide_id’
writeTables: no visible binding for global variable ‘run’
writeTables: no visible binding for global variable ‘precursor’
Undefined global functions or variables:
. ALIGNMENT_GROUP_ID REFERENCE RSE RT RT.eXp RT.ref alignment_rank
chromatogramIndex col2 experiment_feature_id feature_id features
fileInfo globalFits head i.to identifying.transitionPEPfilter
intensity m_score m_score_new ms2_m_score peak_group_rank peptide_id
precursor precursors pvalue ref_run reference_feature_id ropenms run
scoreFile transition_group_id transition_id trees
Consider adding
importFrom("datasets", "trees")
importFrom("utils", "head")
to your NAMESPACE file.
* checking Rd files ... OK
* checking Rd metadata ... OK
* checking Rd cross-references ... OK
* checking for missing documentation entries ... OK
* checking for code/documentation mismatches ... OK
* checking Rd \usage sections ... NOTE
Documented arguments not in \usage in Rd file 'alignToRef.Rd':
‘feature_alignment_mapping’
Documented arguments not in \usage in Rd file 'blobXICs.Rd':
‘nativeId’
Documented arguments not in \usage in Rd file 'extractXIC_group2.Rd':
‘mz’
Documented arguments not in \usage in Rd file 'getOswAnalytes.Rd':
‘dataPath’ ‘filenames’
Documented arguments not in \usage in Rd file 'getOswFiles.Rd':
‘dataPath’ ‘filenames’
Documented arguments not in \usage in Rd file 'perBatch.Rd':
‘rownum’
Documented arguments not in \usage in Rd file 'readSqMassHeader.Rd':
‘mzmlName’
Documented arguments not in \usage in Rd file 'setAlignmentRank.Rd':
‘XICs.eXp’
Documented arguments not in \usage in Rd file 'traverseDown.Rd':
‘analytes’
Documented arguments not in \usage in Rd file 'writeTables.Rd':
‘filename’
Functions with \usage entries need to have the appropriate \alias
entries, and all their arguments documented.
The \usage entries must correspond to syntactically valid R code.
See chapter ‘Writing R documentation files’ in the ‘Writing R
Extensions’ manual.
* checking Rd contents ... OK
* checking for unstated dependencies in examples ... OK
* checking contents of ‘data’ directory ... OK
* checking data for non-ASCII characters ... OK
* checking data for ASCII and uncompressed saves ... OK
* checking line endings in C/C++/Fortran sources/headers ... OK
* checking compiled code ... NOTE
Note: information on .o files is not available
File ‘/home/biocbuild/R/R-beta-2024-04-15_r86425/site-library/DIAlignR/libs/DIAlignR.so’:
Found ‘_ZSt4cout’, possibly from ‘std::cout’ (C++)
Compiled code should not call entry points which might terminate R nor
write to stdout/stderr instead of to the console, nor use Fortran I/O
nor system RNGs nor [v]sprintf. The detected symbols are linked into
the code but might come from libraries and not actually be called.
See ‘Writing portable packages’ in the ‘Writing R Extensions’ manual.
* checking files in ‘vignettes’ ... OK
* checking examples ... OK
Examples with CPU (user + system) or elapsed time > 5s
user system elapsed
alignTargetedRuns 9.93 10.098 6.495
* checking for unstated dependencies in ‘tests’ ... OK
* checking tests ...
Running ‘testthat.R’
ERROR
Running the tests in ‘tests/testthat.R’ failed.
Last 13 lines of output:
══ Skipped tests (8) ═══════════════════════════════════════════════════════════
• empty test (5): 'test_get_filenames.R:77:1', 'test_get_filenames.R:82:1',
'test_utils.R:200:1', 'test_utils.R:203:1', 'test_utils.R:206:1'
• ropenms not available for testing. A conda environment with name TricEnvr is
MUST for testing. (3): 'test_pyopenms.R:4:3', 'test_pyopenms.R:8:3',
'test_pyopenms.R:27:3'
══ Failed tests ════════════════════════════════════════════════════════════════
── Failure ('test_utils.R:276:3'): test_ipfReassignFDR ─────────────────────────
`finalTbl` not equal to `expData`.
Column 'RT': 'is.NA' value mismatch: 2 in current 0 in target
[ FAIL 1 | WARN 0 | SKIP 8 | PASS 631 ]
Error: Test failures
Execution halted
* checking for unstated dependencies in vignettes ... OK
* checking package vignettes ... OK
* checking running R code from vignettes ... SKIPPED
* checking re-building of vignette outputs ... SKIPPED
* checking PDF version of manual ... OK
* DONE
Status: 1 ERROR, 5 NOTEs
See
‘/home/biocbuild/bbs-3.19-bioc/meat/DIAlignR.Rcheck/00check.log’
for details.
DIAlignR.Rcheck/00install.out
##############################################################################
##############################################################################
###
### Running command:
###
### /home/biocbuild/R/R-beta-2024-04-15_r86425/bin/R CMD INSTALL DIAlignR
###
##############################################################################
##############################################################################
* installing to library ‘/home/biocbuild/R/R-beta-2024-04-15_r86425/site-library’
* installing *source* package ‘DIAlignR’ ...
** using staged installation
** libs
using C++ compiler: ‘g++ (GCC) 10.3.1’
using C++14
g++ -std=gnu++14 -I"/home/biocbuild/R/R-beta-2024-04-15_r86425/include" -DNDEBUG -I'/home/biocbuild/R/R-beta-2024-04-15_r86425/site-library/Rcpp/include' -I'/home/biocbuild/R/R-beta-2024-04-15_r86425/site-library/RcppEigen/include' -I/usr/local/include -fPIC -g -O2 -Wall -c ChromatogramPeak.cpp -o ChromatogramPeak.o
g++ -std=gnu++14 -I"/home/biocbuild/R/R-beta-2024-04-15_r86425/include" -DNDEBUG -I'/home/biocbuild/R/R-beta-2024-04-15_r86425/site-library/Rcpp/include' -I'/home/biocbuild/R/R-beta-2024-04-15_r86425/site-library/RcppEigen/include' -I/usr/local/include -fPIC -g -O2 -Wall -c DPosition.cpp -o DPosition.o
g++ -std=gnu++14 -I"/home/biocbuild/R/R-beta-2024-04-15_r86425/include" -DNDEBUG -I'/home/biocbuild/R/R-beta-2024-04-15_r86425/site-library/Rcpp/include' -I'/home/biocbuild/R/R-beta-2024-04-15_r86425/site-library/RcppEigen/include' -I/usr/local/include -fPIC -g -O2 -Wall -c MSChromatogram.cpp -o MSChromatogram.o
g++ -std=gnu++14 -I"/home/biocbuild/R/R-beta-2024-04-15_r86425/include" -DNDEBUG -I'/home/biocbuild/R/R-beta-2024-04-15_r86425/site-library/Rcpp/include' -I'/home/biocbuild/R/R-beta-2024-04-15_r86425/site-library/RcppEigen/include' -I/usr/local/include -fPIC -g -O2 -Wall -c PeakIntegrator.cpp -o PeakIntegrator.o
g++ -std=gnu++14 -I"/home/biocbuild/R/R-beta-2024-04-15_r86425/include" -DNDEBUG -I'/home/biocbuild/R/R-beta-2024-04-15_r86425/site-library/Rcpp/include' -I'/home/biocbuild/R/R-beta-2024-04-15_r86425/site-library/RcppEigen/include' -I/usr/local/include -fPIC -g -O2 -Wall -c RcppExports.cpp -o RcppExports.o
g++ -std=gnu++14 -I"/home/biocbuild/R/R-beta-2024-04-15_r86425/include" -DNDEBUG -I'/home/biocbuild/R/R-beta-2024-04-15_r86425/site-library/Rcpp/include' -I'/home/biocbuild/R/R-beta-2024-04-15_r86425/site-library/RcppEigen/include' -I/usr/local/include -fPIC -g -O2 -Wall -c Rmain.cpp -o Rmain.o
Rmain.cpp: In function ‘Rcpp::NumericVector areaIntegrator(Rcpp::List, Rcpp::List, double, double, std::string, std::string, bool, bool, int, int)’:
Rmain.cpp:273:21: warning: comparison of integer expressions of different signedness: ‘int’ and ‘std::vector<std::vector<double> >::size_type’ {aka ‘long unsigned int’} [-Wsign-compare]
273 | for(int i = 0; i<vov2.size(); i++) sgolay.smoothChroms(vov2[i]);
| ~^~~~~~~~~~~~
Rmain.cpp: In function ‘Rcpp::NumericMatrix sgolayCpp(Rcpp::NumericMatrix, int, int)’:
Rmain.cpp:305:19: warning: comparison of integer expressions of different signedness: ‘int’ and ‘std::vector<double>::size_type’ {aka ‘long unsigned int’} [-Wsign-compare]
305 | for(int i = 0; i<d.size(); i++){
| ~^~~~~~~~~
Rmain.cpp: In function ‘Rcpp::NumericMatrix getAlignedTimesCpp(Rcpp::List, Rcpp::List, int, int, std::string, double, std::string, std::string, const std::vector<double>&, double, double, double, bool, double, double, int, bool, double)’:
Rmain.cpp:368:21: warning: comparison of integer expressions of different signedness: ‘int’ and ‘std::vector<std::vector<double> >::size_type’ {aka ‘long unsigned int’} [-Wsign-compare]
368 | for(int i = 0; i<intensity1.size(); i++){
| ~^~~~~~~~~~~~~~~~~~
Rmain.cpp: In function ‘Rcpp::List getChildXICpp(Rcpp::List, Rcpp::List, int, int, std::string, double, std::string, std::string, const std::vector<double>&, double, double, double, bool, double, double, int, bool, double, double, std::string, std::string, bool)’:
Rmain.cpp:771:21: warning: comparison of integer expressions of different signedness: ‘int’ and ‘std::vector<std::vector<double> >::size_type’ {aka ‘long unsigned int’} [-Wsign-compare]
771 | for(int i = 0; i<intensity1.size(); i++){
| ~^~~~~~~~~~~~~~~~~~
Rmain.cpp:818:20: warning: comparison of integer expressions of different signedness: ‘int’ and ‘std::vector<int>::size_type’ {aka ‘long unsigned int’} [-Wsign-compare]
818 | for(int i = 0; i < keep.size(); i++){
| ~~^~~~~~~~~~~~~
Rmain.cpp:824:20: warning: comparison of integer expressions of different signedness: ‘int’ and ‘std::vector<std::vector<double> >::size_type’ {aka ‘long unsigned int’} [-Wsign-compare]
824 | for(int j = 0; j <intensity1NN.size(); j++){
| ~~^~~~~~~~~~~~~~~~~~~~
Rmain.cpp:827:22: warning: comparison of integer expressions of different signedness: ‘int’ and ‘std::vector<int>::size_type’ {aka ‘long unsigned int’} [-Wsign-compare]
827 | for(int i = 0; i < keep.size(); i++){
| ~~^~~~~~~~~~~~~
Rmain.cpp:837:20: warning: comparison of integer expressions of different signedness: ‘int’ and ‘std::vector<int>::size_type’ {aka ‘long unsigned int’} [-Wsign-compare]
837 | for(int i = 0; i < keep.size(); i++) alignedChildTime[keep[i]] = t1NN[i];
| ~~^~~~~~~~~~~~~
Rmain.cpp:862:21: warning: comparison of integer expressions of different signedness: ‘int’ and ‘std::vector<std::vector<double> >::size_type’ {aka ‘long unsigned int’} [-Wsign-compare]
862 | for (int i = 0; i < intensity1NN.size(); i++){
| ~~^~~~~~~~~~~~~~~~~~~~~
Rmain.cpp:873:28: warning: comparison of integer expressions of different signedness: ‘int’ and ‘std::vector<double>::size_type’ {aka ‘long unsigned int’} [-Wsign-compare]
873 | for(int i =0, j = 0; i < alignedChildTime.size(); i++){
| ~~^~~~~~~~~~~~~~~~~~~~~~~~~
Rmain.cpp: In function ‘Rcpp::List otherChildXICpp(Rcpp::List, Rcpp::List, int, int, Rcpp::NumericMatrix, std::vector<double>, double, std::string)’:
Rmain.cpp:944:21: warning: comparison of integer expressions of different signedness: ‘int’ and ‘std::vector<std::vector<double> >::size_type’ {aka ‘long unsigned int’} [-Wsign-compare]
944 | for(int i = 0; i<intensity1.size(); i++){
| ~^~~~~~~~~~~~~~~~~~
Rmain.cpp:972:20: warning: comparison of integer expressions of different signedness: ‘int’ and ‘std::vector<std::vector<double> >::size_type’ {aka ‘long unsigned int’} [-Wsign-compare]
972 | for(int j = 0; j <intensity1NN.size(); j++){
| ~~^~~~~~~~~~~~~~~~~~~~
Rmain.cpp:975:22: warning: comparison of integer expressions of different signedness: ‘int’ and ‘std::vector<int>::size_type’ {aka ‘long unsigned int’} [-Wsign-compare]
975 | for(int i = 0; i < keep.size(); i++){
| ~~^~~~~~~~~~~~~
Rmain.cpp:1008:21: warning: comparison of integer expressions of different signedness: ‘int’ and ‘std::vector<std::vector<double> >::size_type’ {aka ‘long unsigned int’} [-Wsign-compare]
1008 | for (int i = 0; i < intensity1NN.size(); i++){
| ~~^~~~~~~~~~~~~~~~~~~~~
In file included from Rmain.cpp:19:
miscell.h: At global scope:
miscell.h:14:19: warning: ‘const bool DIAlign::detect_end_na(double, double)’ declared ‘static’ but never defined [-Wunused-function]
14 | static bool const detect_end_na(double a, double b);
| ^~~~~~~~~~~~~
miscell.h:16:19: warning: ‘const bool DIAlign::detect_start_na(double, double)’ declared ‘static’ but never defined [-Wunused-function]
16 | static bool const detect_start_na(double a, double b);
| ^~~~~~~~~~~~~~~
miscell.h:18:19: warning: ‘const bool DIAlign::lessZero(double)’ declared ‘static’ but never defined [-Wunused-function]
18 | static bool const lessZero(double a);
| ^~~~~~~~
In file included from miscell.h:9,
from Rmain.cpp:19:
spline.h:390:10: warning: ‘double DIAlign::{anonymous}::tk::spline::deriv(int, double) const’ defined but not used [-Wunused-function]
390 | double spline::deriv(int order, double x) const
| ^~~~~~
spline.h:364:10: warning: ‘double DIAlign::{anonymous}::tk::spline::operator()(double) const’ defined but not used [-Wunused-function]
364 | double spline::operator() (double x) const
| ^~~~~~
spline.h:273:8: warning: ‘void DIAlign::{anonymous}::tk::spline::set_points(const std::vector<double>&, const std::vector<double>&, bool)’ defined but not used [-Wunused-function]
273 | void spline::set_points(const std::vector<double>& x,
| ^~~~~~
spline.h:261:8: warning: ‘void DIAlign::{anonymous}::tk::spline::set_boundary(DIAlign::{anonymous}::tk::spline::bd_type, double, DIAlign::{anonymous}::tk::spline::bd_type, double, bool)’ defined but not used [-Wunused-function]
261 | void spline::set_boundary(spline::bd_type left, double left_value,
| ^~~~~~
g++ -std=gnu++14 -I"/home/biocbuild/R/R-beta-2024-04-15_r86425/include" -DNDEBUG -I'/home/biocbuild/R/R-beta-2024-04-15_r86425/site-library/Rcpp/include' -I'/home/biocbuild/R/R-beta-2024-04-15_r86425/site-library/RcppEigen/include' -I/usr/local/include -fPIC -g -O2 -Wall -c SavitzkyGolayFilter.cpp -o SavitzkyGolayFilter.o
g++ -std=gnu++14 -I"/home/biocbuild/R/R-beta-2024-04-15_r86425/include" -DNDEBUG -I'/home/biocbuild/R/R-beta-2024-04-15_r86425/site-library/Rcpp/include' -I'/home/biocbuild/R/R-beta-2024-04-15_r86425/site-library/RcppEigen/include' -I/usr/local/include -fPIC -g -O2 -Wall -c affinealignment.cpp -o affinealignment.o
affinealignment.cpp: In function ‘double DIAlign::AffineAlignment::getOlapAffineAlignStartIndices(double*, double*, double*, int, int, int&, int&, DIAlign::Traceback::tbJump&)’:
affinealignment.cpp:485:16: warning: ‘MaxColIndex’ may be used uninitialized in this function [-Wmaybe-uninitialized]
485 | OlapStartCol = MaxColIndex;
| ~~~~~~~~~~~~~^~~~~~~~~~~~~
affinealignment.cpp:484:16: warning: ‘MaxRowIndex’ may be used uninitialized in this function [-Wmaybe-uninitialized]
484 | OlapStartRow = MaxRowIndex;
| ~~~~~~~~~~~~~^~~~~~~~~~~~~
g++ -std=gnu++14 -I"/home/biocbuild/R/R-beta-2024-04-15_r86425/include" -DNDEBUG -I'/home/biocbuild/R/R-beta-2024-04-15_r86425/site-library/Rcpp/include' -I'/home/biocbuild/R/R-beta-2024-04-15_r86425/site-library/RcppEigen/include' -I/usr/local/include -fPIC -g -O2 -Wall -c affinealignobj.cpp -o affinealignobj.o
g++ -std=gnu++14 -I"/home/biocbuild/R/R-beta-2024-04-15_r86425/include" -DNDEBUG -I'/home/biocbuild/R/R-beta-2024-04-15_r86425/site-library/Rcpp/include' -I'/home/biocbuild/R/R-beta-2024-04-15_r86425/site-library/RcppEigen/include' -I/usr/local/include -fPIC -g -O2 -Wall -c alignment.cpp -o alignment.o
g++ -std=gnu++14 -I"/home/biocbuild/R/R-beta-2024-04-15_r86425/include" -DNDEBUG -I'/home/biocbuild/R/R-beta-2024-04-15_r86425/site-library/Rcpp/include' -I'/home/biocbuild/R/R-beta-2024-04-15_r86425/site-library/RcppEigen/include' -I/usr/local/include -fPIC -g -O2 -Wall -c chromSimMatrix.cpp -o chromSimMatrix.o
chromSimMatrix.cpp: In function ‘std::vector<double> DIAlign::SimilarityMatrix::perSampleEucLenVecOfVec(const std::vector<std::vector<double> >&)’:
chromSimMatrix.cpp:32:21: warning: comparison of integer expressions of different signedness: ‘int’ and ‘std::vector<double>::size_type’ {aka ‘long unsigned int’} [-Wsign-compare]
32 | for (int i = 0; i < mag.size(); i++){
| ~~^~~~~~~~~~~~
chromSimMatrix.cpp: In function ‘std::vector<double> DIAlign::SimilarityMatrix::perSampleSqrSumVecOfVec(const std::vector<std::vector<double> >&)’:
chromSimMatrix.cpp:45:21: warning: comparison of integer expressions of different signedness: ‘int’ and ‘std::vector<double>::size_type’ {aka ‘long unsigned int’} [-Wsign-compare]
45 | for (int i = 0; i < mag.size(); i++){
| ~~^~~~~~~~~~~~
chromSimMatrix.cpp: In function ‘std::vector<double> DIAlign::SimilarityMatrix::perSampleMeanVecOfVec(const std::vector<std::vector<double> >&)’:
chromSimMatrix.cpp:57:21: warning: comparison of integer expressions of different signedness: ‘int’ and ‘std::vector<double>::size_type’ {aka ‘long unsigned int’} [-Wsign-compare]
57 | for (int i = 0; i < mean.size(); i++){
| ~~^~~~~~~~~~~~~
chromSimMatrix.cpp: In function ‘std::vector<double> DIAlign::SimilarityMatrix::perSampleSumVecOfVec(const std::vector<std::vector<double> >&)’:
chromSimMatrix.cpp:70:21: warning: comparison of integer expressions of different signedness: ‘int’ and ‘std::vector<double>::size_type’ {aka ‘long unsigned int’} [-Wsign-compare]
70 | for (int i = 0; i < sum.size(); i++){
| ~~^~~~~~~~~~~~
chromSimMatrix.cpp: In function ‘DIAlign::SimMatrix DIAlign::SimilarityMatrix::getSimilarityMatrix(const std::vector<std::vector<double> >&, const std::vector<std::vector<double> >&, std::string, std::string, double, double, int)’:
chromSimMatrix.cpp:414:22: warning: comparison of integer expressions of different signedness: ‘int’ and ‘std::vector<double>::size_type’ {aka ‘long unsigned int’} [-Wsign-compare]
414 | for(int i = 0; i < MASK.size(); i++){
| ~~^~~~~~~~~~~~~
g++ -std=gnu++14 -I"/home/biocbuild/R/R-beta-2024-04-15_r86425/include" -DNDEBUG -I'/home/biocbuild/R/R-beta-2024-04-15_r86425/site-library/Rcpp/include' -I'/home/biocbuild/R/R-beta-2024-04-15_r86425/site-library/RcppEigen/include' -I/usr/local/include -fPIC -g -O2 -Wall -c constrainMat.cpp -o constrainMat.o
constrainMat.cpp: In function ‘void DIAlign::ConstrainMatrix::calcNoBeefMask2(DIAlign::SimMatrix&, std::vector<double>, std::vector<double>, std::vector<double>, int, bool)’:
constrainMat.cpp:78:10: warning: unused variable ‘mapped’ [-Wunused-variable]
78 | double mapped = 0.0;
| ^~~~~~
g++ -std=gnu++14 -I"/home/biocbuild/R/R-beta-2024-04-15_r86425/include" -DNDEBUG -I'/home/biocbuild/R/R-beta-2024-04-15_r86425/site-library/Rcpp/include' -I'/home/biocbuild/R/R-beta-2024-04-15_r86425/site-library/RcppEigen/include' -I/usr/local/include -fPIC -g -O2 -Wall -c gapPenalty.cpp -o gapPenalty.o
gapPenalty.cpp: In function ‘double DIAlign::getGapPenalty(const DIAlign::SimMatrix&, double, std::string)’:
gapPenalty.cpp:26:35: warning: ‘gapPenalty’ may be used uninitialized in this function [-Wmaybe-uninitialized]
26 | return std::max(0.01, gapPenalty); // gapPenalty must be positive.
| ^
g++ -std=gnu++14 -I"/home/biocbuild/R/R-beta-2024-04-15_r86425/include" -DNDEBUG -I'/home/biocbuild/R/R-beta-2024-04-15_r86425/site-library/Rcpp/include' -I'/home/biocbuild/R/R-beta-2024-04-15_r86425/site-library/RcppEigen/include' -I/usr/local/include -fPIC -g -O2 -Wall -c integrateArea.cpp -o integrateArea.o
g++ -std=gnu++14 -I"/home/biocbuild/R/R-beta-2024-04-15_r86425/include" -DNDEBUG -I'/home/biocbuild/R/R-beta-2024-04-15_r86425/site-library/Rcpp/include' -I'/home/biocbuild/R/R-beta-2024-04-15_r86425/site-library/RcppEigen/include' -I/usr/local/include -fPIC -g -O2 -Wall -c interface.cpp -o interface.o
g++ -std=gnu++14 -I"/home/biocbuild/R/R-beta-2024-04-15_r86425/include" -DNDEBUG -I'/home/biocbuild/R/R-beta-2024-04-15_r86425/site-library/Rcpp/include' -I'/home/biocbuild/R/R-beta-2024-04-15_r86425/site-library/RcppEigen/include' -I/usr/local/include -fPIC -g -O2 -Wall -c miscell.cpp -o miscell.o
miscell.cpp: In function ‘void DIAlign::xicIntersect(std::vector<std::vector<double> >&, std::vector<std::vector<double> >&)’:
miscell.cpp:10:30: warning: comparison of integer expressions of different signedness: ‘unsigned int’ and ‘int’ [-Wsign-compare]
10 | for (unsigned int i = 0; i < len; i++){
| ~~^~~~~
miscell.cpp:15:29: warning: comparison of integer expressions of different signedness: ‘unsigned int’ and ‘int’ [-Wsign-compare]
15 | for(unsigned int i = 0; i < len; i++){
| ~~^~~~~
miscell.cpp:26:30: warning: comparison of integer expressions of different signedness: ‘unsigned int’ and ‘int’ [-Wsign-compare]
26 | for (unsigned int i = 0; i < len; i++){
| ~~^~~~~
miscell.cpp:39:30: warning: comparison of integer expressions of different signedness: ‘unsigned int’ and ‘int’ [-Wsign-compare]
39 | for (unsigned int i = 0; i < len; i++) len2[i] = intensity[i].size();
| ~~^~~~~
miscell.cpp: In function ‘std::vector<std::vector<double> > DIAlign::imputeChromatogram(const std::vector<std::vector<double> >&, const std::vector<double>&, const std::vector<int>&)’:
miscell.cpp:125:18: warning: comparison of integer expressions of different signedness: ‘int’ and ‘std::vector<int>::size_type’ {aka ‘long unsigned int’} [-Wsign-compare]
125 | for(int i =0; i< middle.size(); i++){
| ~^~~~~~~~~~~~~~~
miscell.cpp:131:19: warning: comparison of integer expressions of different signedness: ‘int’ and ‘std::vector<std::vector<double> >::size_type’ {aka ‘long unsigned int’} [-Wsign-compare]
131 | for(int i =0; i < (Anew.size()-1); i++){
| ~~^~~~~~~~~~~~~~~~~
miscell.cpp:139:19: warning: comparison of integer expressions of different signedness: ‘int’ and ‘std::vector<double>::size_type’ {aka ‘long unsigned int’} [-Wsign-compare]
139 | for(int j=0; j<result.size(); j++){
| ~^~~~~~~~~~~~~~
miscell.cpp: In function ‘std::vector<int> DIAlign::getSkip(const std::vector<int>&, const std::vector<int>&)’:
miscell.cpp:164:20: warning: comparison of integer expressions of different signedness: ‘int’ and ‘std::vector<int>::size_type’ {aka ‘long unsigned int’} [-Wsign-compare]
164 | for(int i = 0; i < index.size(); i++){
| ~~^~~~~~~~~~~~~~
miscell.cpp: In function ‘void DIAlign::mergeIntensity(std::vector<std::vector<double> >&, std::vector<std::vector<double> >&, double)’:
miscell.cpp:221:19: warning: comparison of integer expressions of different signedness: ‘int’ and ‘std::vector<std::vector<double> >::size_type’ {aka ‘long unsigned int’} [-Wsign-compare]
221 | for(int i = 0; i< A.size(); i++){
| ~^~~~~~~~~~
miscell.cpp: In function ‘void DIAlign::addFlankToLeft(const std::vector<double>&, std::vector<double>&, std::vector<double>&, const std::vector<std::vector<double> >&, std::vector<std::vector<double> >&, std::vector<int>&)’:
miscell.cpp:250:19: warning: comparison of integer expressions of different signedness: ‘int’ and ‘std::vector<std::vector<double> >::size_type’ {aka ‘long unsigned int’} [-Wsign-compare]
250 | for(int i = 0; i< intenN.size(); i++){
| ~^~~~~~~~~~~~~~~
miscell.cpp: In function ‘void DIAlign::addFlankToRight(const std::vector<double>&, std::vector<double>&, std::vector<double>&, const std::vector<std::vector<double> >&, std::vector<std::vector<double> >&, std::vector<int>&)’:
miscell.cpp:277:19: warning: comparison of integer expressions of different signedness: ‘int’ and ‘std::vector<std::vector<double> >::size_type’ {aka ‘long unsigned int’} [-Wsign-compare]
277 | for(int i = 0; i< intenN.size(); i++){
| ~^~~~~~~~~~~~~~~
miscell.cpp: In function ‘void DIAlign::addFlankToLeft1(const std::vector<std::vector<double> >&, std::vector<std::vector<double> >&, std::vector<int>&)’:
miscell.cpp:288:19: warning: comparison of integer expressions of different signedness: ‘int’ and ‘std::vector<std::vector<double> >::size_type’ {aka ‘long unsigned int’} [-Wsign-compare]
288 | for(int i = 0; i< intenN.size(); i++){
| ~^~~~~~~~~~~~~~~
miscell.cpp: In function ‘void DIAlign::addFlankToRight1(const std::vector<std::vector<double> >&, std::vector<std::vector<double> >&, std::vector<int>&)’:
miscell.cpp:307:19: warning: comparison of integer expressions of different signedness: ‘int’ and ‘std::vector<std::vector<double> >::size_type’ {aka ‘long unsigned int’} [-Wsign-compare]
307 | for(int i = 0; i< intenN.size(); i++){
| ~^~~~~~~~~~~~~~~
miscell.cpp: In function ‘std::vector<int> DIAlign::getMatchingIdx(const std::vector<double>&, const std::vector<double>&)’:
miscell.cpp:318:23: warning: comparison of integer expressions of different signedness: ‘int’ and ‘std::vector<double>::size_type’ {aka ‘long unsigned int’} [-Wsign-compare]
318 | for(int i =0, j=0; i< tMain.size(); i++){
| ~^~~~~~~~~~~~~~
miscell.cpp:320:12: warning: comparison of integer expressions of different signedness: ‘int’ and ‘std::vector<double>::size_type’ {aka ‘long unsigned int’} [-Wsign-compare]
320 | for(; j<t.size();){
| ~^~~~~~~~~
miscell.cpp: In function ‘std::vector<std::vector<double> > DIAlign::imputeChromatogram1(const std::vector<std::vector<double> >&, const std::vector<int>&, const std::vector<double>&, const std::vector<double>&)’:
miscell.cpp:337:20: warning: comparison of integer expressions of different signedness: ‘int’ and ‘std::vector<std::vector<double> >::size_type’ {aka ‘long unsigned int’} [-Wsign-compare]
337 | for(int j = 0; j <A.size(); j++){
| ~~^~~~~~~~~
miscell.cpp:339:22: warning: comparison of integer expressions of different signedness: ‘int’ and ‘std::vector<double>::size_type’ {aka ‘long unsigned int’} [-Wsign-compare]
339 | for(int i = 0; i < temp.size(); i++){
| ~~^~~~~~~~~~~~~
miscell.cpp:353:18: warning: comparison of integer expressions of different signedness: ‘int’ and ‘std::vector<int>::size_type’ {aka ‘long unsigned int’} [-Wsign-compare]
353 | for(int i =0; i< middle.size(); i++){
| ~^~~~~~~~~~~~~~~
miscell.cpp:358:19: warning: comparison of integer expressions of different signedness: ‘int’ and ‘std::vector<std::vector<double> >::size_type’ {aka ‘long unsigned int’} [-Wsign-compare]
358 | for(int i =0; i < intensity.size(); i++){
| ~~^~~~~~~~~~~~~~~~~~
miscell.cpp:360:19: warning: comparison of integer expressions of different signedness: ‘int’ and ‘std::vector<double>::size_type’ {aka ‘long unsigned int’} [-Wsign-compare]
360 | for(int j=0; j<result.size(); j++){
| ~^~~~~~~~~~~~~~
miscell.cpp: At global scope:
miscell.cpp:53:19: warning: ‘const bool DIAlign::lessZero(double)’ defined but not used [-Wunused-function]
53 | static bool const lessZero(double a){
| ^~~~~~~~
In file included from miscell.h:9,
from miscell.cpp:3:
spline.h:390:10: warning: ‘double DIAlign::{anonymous}::tk::spline::deriv(int, double) const’ defined but not used [-Wunused-function]
390 | double spline::deriv(int order, double x) const
| ^~~~~~
spline.h:364:10: warning: ‘double DIAlign::{anonymous}::tk::spline::operator()(double) const’ defined but not used [-Wunused-function]
364 | double spline::operator() (double x) const
| ^~~~~~
spline.h:273:8: warning: ‘void DIAlign::{anonymous}::tk::spline::set_points(const std::vector<double>&, const std::vector<double>&, bool)’ defined but not used [-Wunused-function]
273 | void spline::set_points(const std::vector<double>& x,
| ^~~~~~
spline.h:261:8: warning: ‘void DIAlign::{anonymous}::tk::spline::set_boundary(DIAlign::{anonymous}::tk::spline::bd_type, double, DIAlign::{anonymous}::tk::spline::bd_type, double, bool)’ defined but not used [-Wunused-function]
261 | void spline::set_boundary(spline::bd_type left, double left_value,
| ^~~~~~
g++ -std=gnu++14 -I"/home/biocbuild/R/R-beta-2024-04-15_r86425/include" -DNDEBUG -I'/home/biocbuild/R/R-beta-2024-04-15_r86425/site-library/Rcpp/include' -I'/home/biocbuild/R/R-beta-2024-04-15_r86425/site-library/RcppEigen/include' -I/usr/local/include -fPIC -g -O2 -Wall -c run_alignment.cpp -o run_alignment.o
g++ -std=gnu++14 -I"/home/biocbuild/R/R-beta-2024-04-15_r86425/include" -DNDEBUG -I'/home/biocbuild/R/R-beta-2024-04-15_r86425/site-library/Rcpp/include' -I'/home/biocbuild/R/R-beta-2024-04-15_r86425/site-library/RcppEigen/include' -I/usr/local/include -fPIC -g -O2 -Wall -c simpleFcn.cpp -o simpleFcn.o
g++ -std=gnu++14 -I"/home/biocbuild/R/R-beta-2024-04-15_r86425/include" -DNDEBUG -I'/home/biocbuild/R/R-beta-2024-04-15_r86425/site-library/Rcpp/include' -I'/home/biocbuild/R/R-beta-2024-04-15_r86425/site-library/RcppEigen/include' -I/usr/local/include -fPIC -g -O2 -Wall -c spline.cpp -o spline.o
In file included from spline.cpp:1:
spline.h:390:10: warning: ‘double DIAlign::{anonymous}::tk::spline::deriv(int, double) const’ defined but not used [-Wunused-function]
390 | double spline::deriv(int order, double x) const
| ^~~~~~
spline.h:261:8: warning: ‘void DIAlign::{anonymous}::tk::spline::set_boundary(DIAlign::{anonymous}::tk::spline::bd_type, double, DIAlign::{anonymous}::tk::spline::bd_type, double, bool)’ defined but not used [-Wunused-function]
261 | void spline::set_boundary(spline::bd_type left, double left_value,
| ^~~~~~
g++ -std=gnu++14 -I"/home/biocbuild/R/R-beta-2024-04-15_r86425/include" -DNDEBUG -I'/home/biocbuild/R/R-beta-2024-04-15_r86425/site-library/Rcpp/include' -I'/home/biocbuild/R/R-beta-2024-04-15_r86425/site-library/RcppEigen/include' -I/usr/local/include -fPIC -g -O2 -Wall -c utils.cpp -o utils.o
utils.cpp: In function ‘double DIAlign::Utils::getQuantile(std::vector<double>, double)’:
utils.cpp:48:9: warning: unused variable ‘idx’ [-Wunused-variable]
48 | int idx = n*(1-p);
| ^~~
g++ -std=gnu++14 -shared -L/home/biocbuild/R/R-beta-2024-04-15_r86425/lib -L/usr/local/lib -o DIAlignR.so ChromatogramPeak.o DPosition.o MSChromatogram.o PeakIntegrator.o RcppExports.o Rmain.o SavitzkyGolayFilter.o affinealignment.o affinealignobj.o alignment.o chromSimMatrix.o constrainMat.o gapPenalty.o integrateArea.o interface.o miscell.o run_alignment.o simpleFcn.o spline.o utils.o -L/home/biocbuild/R/R-beta-2024-04-15_r86425/lib -lR
installing to /home/biocbuild/R/R-beta-2024-04-15_r86425/site-library/00LOCK-DIAlignR/00new/DIAlignR/libs
** R
** data
** inst
** byte-compile and prepare package for lazy loading
** help
*** installing help indices
** building package indices
** installing vignettes
** testing if installed package can be loaded from temporary location
** checking absolute paths in shared objects and dynamic libraries
** testing if installed package can be loaded from final location
** testing if installed package keeps a record of temporary installation path
* DONE (DIAlignR)
DIAlignR.Rcheck/tests/testthat.Rout.fail
R version 4.4.0 beta (2024-04-15 r86425) -- "Puppy Cup"
Copyright (C) 2024 The R Foundation for Statistical Computing
Platform: aarch64-unknown-linux-gnu
R is free software and comes with ABSOLUTELY NO WARRANTY.
You are welcome to redistribute it under certain conditions.
Type 'license()' or 'licence()' for distribution details.
R is a collaborative project with many contributors.
Type 'contributors()' for more information and
'citation()' on how to cite R or R packages in publications.
Type 'demo()' for some demos, 'help()' for on-line help, or
'help.start()' for an HTML browser interface to help.
Type 'q()' to quit R.
> library(testthat)
> library(DIAlignR)
>
> test_check("DIAlignR")
[1] "hroest_K120808_Strep10%PlasmaBiolRepl1_R03_SW_filt"
[2] "hroest_K120809_Strep0%PlasmaBiolRepl2_R04_SW_filt"
[3] "hroest_K120809_Strep10%PlasmaBiolRepl2_R04_SW_filt"
Time difference of 0.05410743 secs
Time difference of 0.2717922 secs
Time difference of 0.1938291 secs
Time difference of 0.02837157 secs
Time difference of 0.01167393 secs
Time difference of 0.1137447 secs
Time difference of 2.181089 secs
Time difference of 0.02876782 secs
Time difference of 0.4852481 secs
[1] "hroest_K120808_Strep10%PlasmaBiolRepl1_R03_SW_filt"
[2] "hroest_K120809_Strep0%PlasmaBiolRepl2_R04_SW_filt"
Time difference of 0.01751208 secs
Time difference of 0.243784 secs
Time difference of 0.1240959 secs
Time difference of 0.01926851 secs
Time difference of 0.007988691 secs
Time difference of 0.07145452 secs
Time difference of 1.127645 secs
Time difference of 0.009381056 secs
Time difference of 1.058256 secs
[1] "hroest_K120808_Strep10%PlasmaBiolRepl1_R03_SW_filt"
[2] "hroest_K120809_Strep0%PlasmaBiolRepl2_R04_SW_filt"
[3] "hroest_K120809_Strep10%PlasmaBiolRepl2_R04_SW_filt"
Time difference of 0.01732492 secs
Time difference of 0.2616122 secs
Time difference of 0.1241996 secs
Time difference of 0.09457684 secs
Time difference of 0.01018572 secs
Time difference of 0.09018612 secs
Time difference of 1.566449 secs
Time difference of 0.02619791 secs
Time difference of 0.4173155 secs
[1] "hroest_K120808_Strep10%PlasmaBiolRepl1_R03_SW_filt"
[2] "hroest_K120809_Strep0%PlasmaBiolRepl2_R04_SW_filt"
[3] "hroest_K120809_Strep10%PlasmaBiolRepl2_R04_SW_filt"
Time difference of 0.02044439 secs
Time difference of 0.02027273 secs
Time difference of 0.0006375313 secs
Time difference of 0.1056669 secs
Time difference of 0.01033401 secs
Time difference of 0.05542231 secs
Time difference of 0.01888633 secs
Time difference of 0.009108543 secs
Time difference of 0.128365 secs
[1] "hroest_K120809_Strep0%PlasmaBiolRepl2_R04_SW_filt"
[2] "hroest_K120809_Strep10%PlasmaBiolRepl2_R04_SW_filt"
[1] "PestMix1_8Step1Plasma1SWATH20-50" "PestMix1_8Step8Plasma1SWATH20-50"
Time difference of 0.01129222 secs
Time difference of 0.03951049 secs
Time difference of 0.01278615 secs
Time difference of 0.01449561 secs
Time difference of 0.01021385 secs
Time difference of 0.0496459 secs
Time difference of 0.1311636 secs
Time difference of 0.008358002 secs
Time difference of 0.2555249 secs
[1] "chludwig_K150309_004b_SW_1_16" "chludwig_K150309_008_SW_1_4"
[3] "chludwig_K150309_013_SW_0"
Time difference of 0.0164547 secs
Time difference of 0.01261568 secs
Time difference of 0.001295805 secs
Time difference of 0.02287817 secs
Time difference of 0.01453471 secs
Time difference of 0.0818553 secs
Time difference of 0.007242918 secs
Time difference of 0.02278399 secs
Time difference of 0.3139098 secs
<simpleWarning in simpleLoess(y, x, w, span, degree = degree, parametric = parametric, drop.square = drop.square, normalize = normalize, statistics = control$statistics, surface = control$surface, cell = control$cell, iterations = iterations, iterTrace = control$iterTrace, trace.hat = control$trace.hat): span too small. fewer data values than degrees of freedom.>
<simpleWarning in simpleLoess(y, x, w, span, degree = degree, parametric = parametric, drop.square = drop.square, normalize = normalize, statistics = control$statistics, surface = control$surface, cell = control$cell, iterations = iterations, iterTrace = control$iterTrace, trace.hat = control$trace.hat): span too small. fewer data values than degrees of freedom.>
<simpleWarning in simpleLoess(y, x, w, span, degree = degree, parametric = parametric, drop.square = drop.square, normalize = normalize, statistics = control$statistics, surface = control$surface, cell = control$cell, iterations = iterations, iterTrace = control$iterTrace, trace.hat = control$trace.hat): Chernobyl! trL>n 10>
<simpleError in simpleLoess(y, x, w, span, degree = degree, parametric = parametric, drop.square = drop.square, normalize = normalize, statistics = control$statistics, surface = control$surface, cell = control$cell, iterations = iterations, iterTrace = control$iterTrace, trace.hat = control$trace.hat): span is too small>
runName
run0 hroest_K120808_Strep10%PlasmaBiolRepl1_R03_SW_filt
run1 hroest_K120809_Strep0%PlasmaBiolRepl2_R04_SW_filt
run2 hroest_K120809_Strep10%PlasmaBiolRepl2_R04_SW_filt
Time difference of 0.1003804 secs
Time difference of 0.01733017 secs
Time difference of 0.002462149 secs
Time difference of 0.01138926 secs
Time difference of 0.0556941 secs
Time difference of 0.0197413 secs
Time difference of 0.01842141 secs
Time difference of 0.117362 secs
runName
run0 hroest_K120808_Strep10%PlasmaBiolRepl1_R03_SW_filt
run1 hroest_K120809_Strep0%PlasmaBiolRepl2_R04_SW_filt
run2 hroest_K120809_Strep10%PlasmaBiolRepl2_R04_SW_filt
Time difference of 0.02778625 secs
[1] "run0 run1\nrun2 run2"
Time difference of 0.2762907 secs
Time difference of 0.1266916 secs
Time difference of 0.01117969 secs
Time difference of 0.09878159 secs
Time difference of 1.686221 secs
Time difference of 0.01936579 secs
Time difference of 0.4568222 secs
runName
run0 hroest_K120808_Strep10%PlasmaBiolRepl1_R03_SW_filt
run1 hroest_K120809_Strep0%PlasmaBiolRepl2_R04_SW_filt
run2 hroest_K120809_Strep10%PlasmaBiolRepl2_R04_SW_filt
Time difference of 0.1200736 secs
Time difference of 1.070514 secs
Time difference of 6.719805 secs
Time difference of 0.5573175 secs
runName
run0 hroest_K120808_Strep10%PlasmaBiolRepl1_R03_SW_filt
run1 hroest_K120809_Strep0%PlasmaBiolRepl2_R04_SW_filt
run2 hroest_K120809_Strep10%PlasmaBiolRepl2_R04_SW_filt
Time difference of 0.1100864 secs
[1] "Written /home/biocbuild/R/R-beta-2024-04-15_r86425/site-library/DIAlignR/extdata/temp_prog1.RData"
[1] "Written /home/biocbuild/R/R-beta-2024-04-15_r86425/site-library/DIAlignR/extdata/temp_0_2.rds"
[1] "progTree1 is done."
Time difference of 2.07266 secs
Time difference of 0.4369848 secs
[1] "Written /home/biocbuild/R/R-beta-2024-04-15_r86425/site-library/DIAlignR/extdata/temp_1_2.rds"
Time difference of 0.768235 secs
[1] "Written /home/biocbuild/R/R-beta-2024-04-15_r86425/site-library/DIAlignR/extdata/temp_2_2.rds"
Time difference of 0.4208112 secs
Time difference of 0.2242992 secs
[1] "Written /home/biocbuild/R/R-beta-2024-04-15_r86425/site-library/DIAlignR/extdata/temp_all_2.rds"
Time difference of 0.2532532 secs
runName
run0 hroest_K120808_Strep10%PlasmaBiolRepl1_R03_SW_filt
run1 hroest_K120809_Strep0%PlasmaBiolRepl2_R04_SW_filt
run2 hroest_K120809_Strep10%PlasmaBiolRepl2_R04_SW_filt
Time difference of 0.1005352 secs
[1] "Written /home/biocbuild/R/R-beta-2024-04-15_r86425/site-library/DIAlignR/extdata/temp_prog1.RData"
[1] "Written /home/biocbuild/R/R-beta-2024-04-15_r86425/site-library/DIAlignR/extdata/temp_0_2.rds"
[1] "progTree1 is done."
Time difference of 1.44682 secs
Time difference of 0.4103894 secs
[1] "Written /home/biocbuild/R/R-beta-2024-04-15_r86425/site-library/DIAlignR/extdata/temp_1_2.rds"
Time difference of 0.6617873 secs
[1] "Written /home/biocbuild/R/R-beta-2024-04-15_r86425/site-library/DIAlignR/extdata/temp_2_2.rds"
Time difference of 0.4037559 secs
Time difference of 0.01679611 secs
[1] "Written /home/biocbuild/R/R-beta-2024-04-15_r86425/site-library/DIAlignR/extdata/temp_all_2.rds"
Error in reticulate::use_condaenv(condaEnv, required = TRUE) :
Unable to locate conda environment 'TricEnvr'.
Error in reticulate::use_condaenv(condaEnv, required = TRUE) :
Unable to locate conda environment 'TricEnvr'.
Error in reticulate::use_condaenv(condaEnv, required = TRUE) :
Unable to locate conda environment 'TricEnvr'.
[ FAIL 1 | WARN 0 | SKIP 8 | PASS 631 ]
══ Skipped tests (8) ═══════════════════════════════════════════════════════════
• empty test (5): 'test_get_filenames.R:77:1', 'test_get_filenames.R:82:1',
'test_utils.R:200:1', 'test_utils.R:203:1', 'test_utils.R:206:1'
• ropenms not available for testing. A conda environment with name TricEnvr is
MUST for testing. (3): 'test_pyopenms.R:4:3', 'test_pyopenms.R:8:3',
'test_pyopenms.R:27:3'
══ Failed tests ════════════════════════════════════════════════════════════════
── Failure ('test_utils.R:276:3'): test_ipfReassignFDR ─────────────────────────
`finalTbl` not equal to `expData`.
Column 'RT': 'is.NA' value mismatch: 2 in current 0 in target
[ FAIL 1 | WARN 0 | SKIP 8 | PASS 631 ]
Error: Test failures
Execution halted
DIAlignR.Rcheck/DIAlignR-Ex.timings
| name | user | system | elapsed | |
| MSTperBatch | 0.000 | 0.002 | 0.001 | |
| addFlankToLeft | 0.002 | 0.000 | 0.002 | |
| addFlankToRight | 0.001 | 0.000 | 0.001 | |
| addXIC | 0.001 | 0.000 | 0.000 | |
| alignChromatogramsCpp | 0.029 | 0.000 | 0.029 | |
| alignTargetedRuns | 9.930 | 10.098 | 6.495 | |
| alignToMaster | 2.072 | 0.147 | 2.224 | |
| alignToRef | 0.001 | 0.000 | 0.001 | |
| alignToRefMST | 0.001 | 0.000 | 0.000 | |
| alignedXIC | 0.089 | 0.003 | 0.093 | |
| analytesFromFeatures | 0.045 | 0.001 | 0.045 | |
| approxFill | 0.001 | 0.000 | 0.001 | |
| areaIntegrator | 0.004 | 0.000 | 0.003 | |
| blobXICs | 0.002 | 0.000 | 0.002 | |
| calculateIntensity | 0.002 | 0.000 | 0.002 | |
| checkOverlap | 0 | 0 | 0 | |
| checkParams | 0.000 | 0.000 | 0.001 | |
| childXIC | 0.089 | 0.004 | 0.093 | |
| childXICs | 0.673 | 0.015 | 0.691 | |
| constrainSimCpp | 0 | 0 | 0 | |
| createMZML | 0.002 | 0.002 | 0.004 | |
| createSqMass | 0.002 | 0.001 | 0.002 | |
| dialignrLoess | 0.000 | 0.000 | 0.001 | |
| doAffineAlignmentCpp | 0.001 | 0.000 | 0.001 | |
| doAlignmentCpp | 0.001 | 0.000 | 0.001 | |
| extractXIC_group | 1.004 | 0.039 | 1.049 | |
| extractXIC_group2 | 0.001 | 0.000 | 0.001 | |
| fetchAnalytesInfo | 0.011 | 0.000 | 0.011 | |
| fetchFeaturesFromRun | 0.009 | 0.000 | 0.009 | |
| fetchPeptidesInfo | 0.008 | 0.000 | 0.008 | |
| fetchPeptidesInfo2 | 0.009 | 0.000 | 0.009 | |
| fetchPrecursorsInfo | 0.001 | 0.000 | 0.001 | |
| fetchTransitionsFromRun | 0.009 | 0.000 | 0.009 | |
| filenamesFromMZML | 0.001 | 0.000 | 0.001 | |
| filenamesFromOSW | 0.001 | 0.000 | 0.001 | |
| getAlignObj | 0.026 | 0.000 | 0.025 | |
| getAlignObjs | 1.381 | 0.035 | 1.420 | |
| getAlignedFigs | 0.146 | 0.013 | 0.158 | |
| getAlignedIndices | 0.011 | 0.000 | 0.011 | |
| getAlignedTimes | 0.022 | 0.000 | 0.023 | |
| getAlignedTimesCpp | 0.008 | 0.000 | 0.008 | |
| getAlignedTimesFast | 0.006 | 0.011 | 0.017 | |
| getBaseGapPenaltyCpp | 0.001 | 0.000 | 0.000 | |
| getChildFeature | 0.044 | 0.004 | 0.048 | |
| getChildXICpp | 0.008 | 0.000 | 0.008 | |
| getChildXICs | 0.987 | 0.027 | 1.017 | |
| getChromSimMatCpp | 0.002 | 0.001 | 0.002 | |
| getChromatogramIndices | 0.134 | 0.000 | 0.134 | |
| getFeatures | 0.042 | 0.003 | 0.045 | |
| getGlobalAlignMaskCpp | 0.001 | 0.000 | 0.001 | |
| getGlobalAlignment | 0.004 | 0.004 | 0.008 | |
| getGlobalFits | 0.489 | 0.016 | 0.505 | |
| getLOESSfit | 0.003 | 0.000 | 0.003 | |
| getLinearfit | 0.003 | 0.000 | 0.003 | |
| getMST | 0 | 0 | 0 | |
| getMZMLpointers | 0.020 | 0.000 | 0.021 | |
| getMappedRT | 0.012 | 0.000 | 0.012 | |
| getMultipeptide | 1.950 | 0.075 | 2.031 | |
| getNativeIDs | 0.021 | 0.003 | 0.025 | |
| getNodeIDs | 0 | 0 | 0 | |
| getNodeRun | 0.502 | 0.032 | 0.535 | |
| getOswAnalytes | 0.009 | 0.000 | 0.009 | |
| getOswFiles | 0.01 | 0.00 | 0.01 | |
| getPeptideScores | 0.042 | 0.000 | 0.041 | |
| getPrecursorByID | 0.019 | 0.000 | 0.019 | |
| getPrecursorIndices | 0.058 | 0.004 | 0.062 | |
| getPrecursors | 0.030 | 0.000 | 0.029 | |
| getRSE | 0.003 | 0.000 | 0.004 | |
| getRTdf | 0.024 | 0.000 | 0.025 | |
| getRefExpFeatureMap | 0.366 | 0.000 | 0.367 | |
| getRefRun | 0.412 | 0.020 | 0.432 | |
| getRunNames | 0.007 | 0.004 | 0.012 | |
| getSeqSimMatCpp | 0.000 | 0.000 | 0.001 | |
| getTransitions | 0.150 | 0.017 | 0.166 | |
| getTree | 0.031 | 0.004 | 0.035 | |
| getXICs | 0.097 | 0.012 | 0.108 | |
| getXICs4AlignObj | 0.088 | 0.008 | 0.096 | |
| get_ropenms | 0.000 | 0.000 | 0.001 | |
| imputeChromatogram | 0.016 | 0.000 | 0.017 | |
| ipfReassignFDR | 0 | 0 | 0 | |
| mapIdxToTime | 0 | 0 | 0 | |
| mappedRTfromAlignObj | 0.003 | 0.000 | 0.003 | |
| mergeXIC | 0.003 | 0.000 | 0.003 | |
| mstAlignRuns | 2.809 | 0.039 | 2.856 | |
| mstScript1 | 0.535 | 0.276 | 0.563 | |
| mstScript2 | 2.905 | 0.723 | 3.318 | |
| nrDesc | 0.001 | 0.000 | 0.000 | |
| otherChildXICpp | 0.010 | 0.000 | 0.009 | |
| paramsDIAlignR | 0 | 0 | 0 | |
| perBatch | 0.001 | 0.000 | 0.001 | |
| pickNearestFeature | 0.003 | 0.000 | 0.004 | |
| plotAlignedAnalytes | 0.721 | 0.039 | 0.763 | |
| plotAlignmentPath | 0.449 | 0.008 | 0.459 | |
| plotAnalyteXICs | 0.507 | 0.012 | 0.520 | |
| plotXICgroup | 0.463 | 0.000 | 0.464 | |
| populateReferenceExperimentFeatureAlignmentMap | 0.013 | 0.000 | 0.013 | |
| progAlignRuns | 0.002 | 0.000 | 0.001 | |
| readMzMLHeader | 0.002 | 0.000 | 0.001 | |
| readSqMassHeader | 0.001 | 0.000 | 0.001 | |
| recalculateIntensity | 0.342 | 0.008 | 0.350 | |
| reduceXICs | 0.093 | 0.012 | 0.106 | |
| script1 | 0.806 | 0.876 | 0.962 | |
| script2 | 3.103 | 1.410 | 3.446 | |
| setAlignmentRank | 0.008 | 0.004 | 0.013 | |
| sgolayCpp | 0.003 | 0.000 | 0.003 | |
| sgolayFill | 0.001 | 0.001 | 0.001 | |
| smoothSingleXIC | 0.000 | 0.002 | 0.002 | |
| smoothXICs | 0.005 | 0.004 | 0.009 | |
| splineFill | 0.001 | 0.000 | 0.000 | |
| splineFillCpp | 0.005 | 0.000 | 0.005 | |
| traverseDown | 1.930 | 0.068 | 2.002 | |
| traverseMST | 0 | 0 | 0 | |
| traverseUp | 1.963 | 0.015 | 1.984 | |
| trfrParentFeature | 0.05 | 0.00 | 0.05 | |
| trimXICs | 0.002 | 0.000 | 0.002 | |
| uncompressVec | 0.006 | 0.000 | 0.006 | |
| updateFileInfo | 0.011 | 0.000 | 0.011 | |
| writeOutFeatureAlignmentMap | 0.004 | 0.000 | 0.005 | |
| writeTables | 0.003 | 0.000 | 0.004 | |