| Back to Multiple platform build/check report for BioC 3.19: simplified long | 
 | 
This page was generated on 2024-10-18 20:39 -0400 (Fri, 18 Oct 2024).
| Hostname | OS | Arch (*) | R version | Installed pkgs | 
|---|---|---|---|---|
| nebbiolo1 | Linux (Ubuntu 22.04.3 LTS) | x86_64 | 4.4.1 (2024-06-14) -- "Race for Your Life" | 4763 | 
| palomino7 | Windows Server 2022 Datacenter | x64 | 4.4.1 (2024-06-14 ucrt) -- "Race for Your Life" | 4500 | 
| merida1 | macOS 12.7.5 Monterey | x86_64 | 4.4.1 (2024-06-14) -- "Race for Your Life" | 4530 | 
| kjohnson1 | macOS 13.6.6 Ventura | arm64 | 4.4.1 (2024-06-14) -- "Race for Your Life" | 4480 | 
| Click on any hostname to see more info about the system (e.g. compilers) (*) as reported by 'uname -p', except on Windows and Mac OS X | ||||
| Package 427/2300 | Hostname | OS / Arch | INSTALL | BUILD | CHECK | BUILD BIN | ||||||||
| ConsensusClusterPlus 1.68.0  (landing page) Matt Wilkerson 
 | nebbiolo1 | Linux (Ubuntu 22.04.3 LTS) / x86_64 | OK | OK | OK |  | ||||||||
| palomino7 | Windows Server 2022 Datacenter / x64 | OK | OK | OK | OK |  | ||||||||
| merida1 | macOS 12.7.5 Monterey / x86_64 | OK | OK | OK | OK |  | ||||||||
| kjohnson1 | macOS 13.6.6 Ventura / arm64 | OK | OK | OK | OK |  | ||||||||
| To the developers/maintainers of the ConsensusClusterPlus package: - Allow up to 24 hours (and sometimes 48 hours) for your latest push to git@git.bioconductor.org:packages/ConsensusClusterPlus.git to reflect on this report. See Troubleshooting Build Report for more information. - Use the following Renviron settings to reproduce errors and warnings. - If 'R CMD check' started to fail recently on the Linux builder(s) over a missing dependency, add the missing dependency to 'Suggests:' in your DESCRIPTION file. See Renviron.bioc for more information. | 
| Package: ConsensusClusterPlus | 
| Version: 1.68.0 | 
| Command: E:\biocbuild\bbs-3.19-bioc\R\bin\R.exe CMD check --no-multiarch --install=check:ConsensusClusterPlus.install-out.txt --library=E:\biocbuild\bbs-3.19-bioc\R\library --no-vignettes --timings ConsensusClusterPlus_1.68.0.tar.gz | 
| StartedAt: 2024-10-17 00:17:51 -0400 (Thu, 17 Oct 2024) | 
| EndedAt: 2024-10-17 00:18:25 -0400 (Thu, 17 Oct 2024) | 
| EllapsedTime: 33.9 seconds | 
| RetCode: 0 | 
| Status: OK | 
| CheckDir: ConsensusClusterPlus.Rcheck | 
| Warnings: 0 | 
##############################################################################
##############################################################################
###
### Running command:
###
###   E:\biocbuild\bbs-3.19-bioc\R\bin\R.exe CMD check --no-multiarch --install=check:ConsensusClusterPlus.install-out.txt --library=E:\biocbuild\bbs-3.19-bioc\R\library --no-vignettes --timings ConsensusClusterPlus_1.68.0.tar.gz
###
##############################################################################
##############################################################################
* using log directory 'E:/biocbuild/bbs-3.19-bioc/meat/ConsensusClusterPlus.Rcheck'
* using R version 4.4.1 (2024-06-14 ucrt)
* using platform: x86_64-w64-mingw32
* R was compiled by
    gcc.exe (GCC) 13.2.0
    GNU Fortran (GCC) 13.2.0
* running under: Windows Server 2022 x64 (build 20348)
* using session charset: UTF-8
* using option '--no-vignettes'
* checking for file 'ConsensusClusterPlus/DESCRIPTION' ... OK
* checking extension type ... Package
* this is package 'ConsensusClusterPlus' version '1.68.0'
* checking package namespace information ... OK
* checking package dependencies ... OK
* checking if this is a source package ... OK
* checking if there is a namespace ... OK
* checking for hidden files and directories ... OK
* checking for portable file names ... OK
* checking whether package 'ConsensusClusterPlus' can be installed ... OK
* checking installed package size ... OK
* checking package directory ... OK
* checking 'build' directory ... OK
* checking DESCRIPTION meta-information ... NOTE
Malformed Description field: should contain one or more complete sentences.
Non-standard license specification:
  GPL version 2
Standardizable: TRUE
Standardized license specification:
  GPL-2
* checking top-level files ... OK
* checking for left-over files ... OK
* checking index information ... OK
* checking package subdirectories ... OK
* checking code files for non-ASCII characters ... OK
* checking R files for syntax errors ... OK
* checking whether the package can be loaded ... OK
* checking whether the package can be loaded with stated dependencies ... OK
* checking whether the package can be unloaded cleanly ... OK
* checking whether the namespace can be loaded with stated dependencies ... OK
* checking whether the namespace can be unloaded cleanly ... OK
* checking dependencies in R code ... NOTE
Namespace in Imports field not imported from: 'ALL'
  All declared Imports should be used.
* checking S3 generic/method consistency ... OK
* checking replacement functions ... OK
* checking foreign function calls ... OK
* checking R code for possible problems ... NOTE
ConsensusClusterPlus: warning in heatmap(pc, Colv = NA, Rowv = NA, symm
  = FALSE, scale = "none", col = tmyPal, na.rm = TRUE, labRow = F,
  labCol = F, mar = c(5, 5), main = paste("consensus matrix k=", tk,
  sep = ""), ColSideCol = oc): partial argument match of 'mar' to
  'margins'
ConsensusClusterPlus: warning in heatmap(pc, Colv = NA, Rowv = NA, symm
  = FALSE, scale = "none", col = tmyPal, na.rm = TRUE, labRow = F,
  labCol = F, mar = c(5, 5), main = paste("consensus matrix k=", tk,
  sep = ""), ColSideCol = oc): partial argument match of 'ColSideCol'
  to 'ColSideColors'
ConsensusClusterPlus: warning in heatmap(pc, Colv = as.dendrogram(hc),
  Rowv = NA, symm = FALSE, scale = "none", col = tmyPal, na.rm = TRUE,
  labRow = F, labCol = F, mar = c(5, 5), main = paste("consensus matrix
  k=", tk, sep = ""), ColSideCol = colorList[[1]]): partial argument
  match of 'mar' to 'margins'
ConsensusClusterPlus: warning in heatmap(pc, Colv = as.dendrogram(hc),
  Rowv = NA, symm = FALSE, scale = "none", col = tmyPal, na.rm = TRUE,
  labRow = F, labCol = F, mar = c(5, 5), main = paste("consensus matrix
  k=", tk, sep = ""), ColSideCol = colorList[[1]]): partial argument
  match of 'ColSideCol' to 'ColSideColors'
ConsensusClusterPlus: no visible global function definition for
  'bitmap'
ConsensusClusterPlus: no visible global function definition for
  'postscript'
calcICL: no visible global function definition for 'postscript'
calcICL: no visible global function definition for 'bitmap'
Undefined global functions or variables:
  bitmap postscript
Consider adding
  importFrom("grDevices", "bitmap", "postscript")
to your NAMESPACE file.
* checking Rd files ... OK
* checking Rd metadata ... OK
* checking Rd cross-references ... OK
* checking for missing documentation entries ... OK
* checking for code/documentation mismatches ... OK
* checking Rd \usage sections ... OK
* checking Rd contents ... OK
* checking for unstated dependencies in examples ... OK
* checking sizes of PDF files under 'inst/doc' ... OK
* checking files in 'vignettes' ... OK
* checking examples ... OK
* checking for unstated dependencies in vignettes ... OK
* checking package vignettes ... OK
* checking running R code from vignettes ... SKIPPED
* checking re-building of vignette outputs ... SKIPPED
* checking PDF version of manual ... OK
* DONE
Status: 3 NOTEs
See
  'E:/biocbuild/bbs-3.19-bioc/meat/ConsensusClusterPlus.Rcheck/00check.log'
for details.
ConsensusClusterPlus.Rcheck/00install.out
############################################################################## ############################################################################## ### ### Running command: ### ### E:\biocbuild\bbs-3.19-bioc\R\bin\R.exe CMD INSTALL ConsensusClusterPlus ### ############################################################################## ############################################################################## * installing to library 'E:/biocbuild/bbs-3.19-bioc/R/library' * installing *source* package 'ConsensusClusterPlus' ... ** using staged installation ** R ** inst ** byte-compile and prepare package for lazy loading ** help *** installing help indices ** building package indices ** installing vignettes ** testing if installed package can be loaded from temporary location ** testing if installed package can be loaded from final location ** testing if installed package keeps a record of temporary installation path * DONE (ConsensusClusterPlus)
ConsensusClusterPlus.Rcheck/ConsensusClusterPlus-Ex.timings
| name | user | system | elapsed | |
| ConsensusClusterPlus | 1.56 | 0.16 | 1.73 | |