| Back to Multiple platform build/check report for BioC 3.19: simplified long |
|
This page was generated on 2024-10-18 20:39 -0400 (Fri, 18 Oct 2024).
| Hostname | OS | Arch (*) | R version | Installed pkgs |
|---|---|---|---|---|
| nebbiolo1 | Linux (Ubuntu 22.04.3 LTS) | x86_64 | 4.4.1 (2024-06-14) -- "Race for Your Life" | 4763 |
| palomino7 | Windows Server 2022 Datacenter | x64 | 4.4.1 (2024-06-14 ucrt) -- "Race for Your Life" | 4500 |
| merida1 | macOS 12.7.5 Monterey | x86_64 | 4.4.1 (2024-06-14) -- "Race for Your Life" | 4530 |
| kjohnson1 | macOS 13.6.6 Ventura | arm64 | 4.4.1 (2024-06-14) -- "Race for Your Life" | 4480 |
| Click on any hostname to see more info about the system (e.g. compilers) (*) as reported by 'uname -p', except on Windows and Mac OS X | ||||
| Package 367/2300 | Hostname | OS / Arch | INSTALL | BUILD | CHECK | BUILD BIN | ||||||||
| Clomial 1.40.0 (landing page) Habil Zare
| nebbiolo1 | Linux (Ubuntu 22.04.3 LTS) / x86_64 | OK | OK | OK | |||||||||
| palomino7 | Windows Server 2022 Datacenter / x64 | OK | OK | OK | OK | |||||||||
| merida1 | macOS 12.7.5 Monterey / x86_64 | OK | OK | OK | OK | |||||||||
| kjohnson1 | macOS 13.6.6 Ventura / arm64 | OK | OK | OK | OK | |||||||||
|
To the developers/maintainers of the Clomial package: - Allow up to 24 hours (and sometimes 48 hours) for your latest push to git@git.bioconductor.org:packages/Clomial.git to reflect on this report. See Troubleshooting Build Report for more information. - Use the following Renviron settings to reproduce errors and warnings. - If 'R CMD check' started to fail recently on the Linux builder(s) over a missing dependency, add the missing dependency to 'Suggests:' in your DESCRIPTION file. See Renviron.bioc for more information. |
| Package: Clomial |
| Version: 1.40.0 |
| Command: E:\biocbuild\bbs-3.19-bioc\R\bin\R.exe CMD check --no-multiarch --install=check:Clomial.install-out.txt --library=E:\biocbuild\bbs-3.19-bioc\R\library --no-vignettes --timings Clomial_1.40.0.tar.gz |
| StartedAt: 2024-10-17 00:03:45 -0400 (Thu, 17 Oct 2024) |
| EndedAt: 2024-10-17 00:06:44 -0400 (Thu, 17 Oct 2024) |
| EllapsedTime: 179.2 seconds |
| RetCode: 0 |
| Status: OK |
| CheckDir: Clomial.Rcheck |
| Warnings: 0 |
##############################################################################
##############################################################################
###
### Running command:
###
### E:\biocbuild\bbs-3.19-bioc\R\bin\R.exe CMD check --no-multiarch --install=check:Clomial.install-out.txt --library=E:\biocbuild\bbs-3.19-bioc\R\library --no-vignettes --timings Clomial_1.40.0.tar.gz
###
##############################################################################
##############################################################################
* using log directory 'E:/biocbuild/bbs-3.19-bioc/meat/Clomial.Rcheck'
* using R version 4.4.1 (2024-06-14 ucrt)
* using platform: x86_64-w64-mingw32
* R was compiled by
gcc.exe (GCC) 13.2.0
GNU Fortran (GCC) 13.2.0
* running under: Windows Server 2022 x64 (build 20348)
* using session charset: UTF-8
* using option '--no-vignettes'
* checking for file 'Clomial/DESCRIPTION' ... OK
* checking extension type ... Package
* this is package 'Clomial' version '1.40.0'
* checking package namespace information ... OK
* checking package dependencies ... OK
* checking if this is a source package ... OK
* checking if there is a namespace ... OK
* checking for hidden files and directories ... OK
* checking for portable file names ... OK
* checking whether package 'Clomial' can be installed ... OK
* checking installed package size ... OK
* checking package directory ... OK
* checking 'build' directory ... OK
* checking DESCRIPTION meta-information ... OK
* checking top-level files ... OK
* checking for left-over files ... OK
* checking index information ... OK
* checking package subdirectories ... OK
* checking code files for non-ASCII characters ... OK
* checking R files for syntax errors ... OK
* checking whether the package can be loaded ... OK
* checking whether the package can be loaded with stated dependencies ... OK
* checking whether the package can be unloaded cleanly ... OK
* checking whether the namespace can be loaded with stated dependencies ... OK
* checking whether the namespace can be unloaded cleanly ... OK
* checking dependencies in R code ... OK
* checking S3 generic/method consistency ... OK
* checking replacement functions ... OK
* checking foreign function calls ... OK
* checking R code for possible problems ... NOTE
Clomial: no visible global function definition for 'runif'
Clomial.generate.data: no visible global function definition for
'runif'
Clomial.generate.data: no visible global function definition for
'rbinom'
Clomial.likelihood: no visible global function definition for 'dbinom'
Phi: no visible global function definition for 'dbinom'
choose.best: no visible global function definition for 'tail'
compute.P.reparam : update.Wj: no visible global function definition
for 'optim'
compute.q: no visible global function definition for 'dbinom'
Undefined global functions or variables:
dbinom optim rbinom runif tail
Consider adding
importFrom("stats", "dbinom", "optim", "rbinom", "runif")
importFrom("utils", "tail")
to your NAMESPACE file.
* checking Rd files ... OK
* checking Rd metadata ... OK
* checking Rd cross-references ... OK
* checking for missing documentation entries ... OK
* checking for code/documentation mismatches ... OK
* checking Rd \usage sections ... OK
* checking Rd contents ... OK
* checking for unstated dependencies in examples ... OK
* checking contents of 'data' directory ... OK
* checking data for non-ASCII characters ... OK
* checking data for ASCII and uncompressed saves ... OK
* checking sizes of PDF files under 'inst/doc' ... OK
* checking files in 'vignettes' ... OK
* checking examples ... OK
Examples with CPU (user + system) or elapsed time > 5s
user system elapsed
choose.best 50.75 3.87 54.64
Clomial 18.33 1.39 19.74
Clomial-package 17.82 1.22 19.03
compute.bic 13.88 1.05 14.93
Clomial.likelihood 10.11 0.65 10.76
Clomial.iterate 8.76 0.58 9.35
compute.errors 5.76 0.42 6.18
* checking for unstated dependencies in vignettes ... OK
* checking package vignettes ... OK
* checking running R code from vignettes ... SKIPPED
* checking re-building of vignette outputs ... SKIPPED
* checking PDF version of manual ... OK
* DONE
Status: 1 NOTE
See
'E:/biocbuild/bbs-3.19-bioc/meat/Clomial.Rcheck/00check.log'
for details.
Clomial.Rcheck/00install.out
############################################################################## ############################################################################## ### ### Running command: ### ### E:\biocbuild\bbs-3.19-bioc\R\bin\R.exe CMD INSTALL Clomial ### ############################################################################## ############################################################################## * installing to library 'E:/biocbuild/bbs-3.19-bioc/R/library' * installing *source* package 'Clomial' ... ** using staged installation ** R ** data ** inst ** byte-compile and prepare package for lazy loading ** help *** installing help indices ** building package indices ** installing vignettes ** testing if installed package can be loaded from temporary location ** testing if installed package can be loaded from final location ** testing if installed package keeps a record of temporary installation path * DONE (Clomial)
Clomial.Rcheck/Clomial-Ex.timings
| name | user | system | elapsed | |
| Clomial-package | 17.82 | 1.22 | 19.03 | |
| Clomial | 18.33 | 1.39 | 19.74 | |
| Clomial.generate.data | 0.03 | 0.00 | 0.03 | |
| Clomial.iterate | 8.76 | 0.58 | 9.35 | |
| Clomial.likelihood | 10.11 | 0.65 | 10.76 | |
| Clomial1000 | 0.25 | 0.05 | 0.30 | |
| breastCancer | 0 | 0 | 0 | |
| choose.best | 50.75 | 3.87 | 54.64 | |
| compute.bic | 13.88 | 1.05 | 14.93 | |
| compute.errors | 5.76 | 0.42 | 6.18 | |