| Back to Multiple platform build/check report for BioC 3.19: simplified long |
|
This page was generated on 2024-10-18 20:41 -0400 (Fri, 18 Oct 2024).
| Hostname | OS | Arch (*) | R version | Installed pkgs |
|---|---|---|---|---|
| nebbiolo1 | Linux (Ubuntu 22.04.3 LTS) | x86_64 | 4.4.1 (2024-06-14) -- "Race for Your Life" | 4763 |
| palomino7 | Windows Server 2022 Datacenter | x64 | 4.4.1 (2024-06-14 ucrt) -- "Race for Your Life" | 4500 |
| merida1 | macOS 12.7.5 Monterey | x86_64 | 4.4.1 (2024-06-14) -- "Race for Your Life" | 4530 |
| kjohnson1 | macOS 13.6.6 Ventura | arm64 | 4.4.1 (2024-06-14) -- "Race for Your Life" | 4480 |
| Click on any hostname to see more info about the system (e.g. compilers) (*) as reported by 'uname -p', except on Windows and Mac OS X | ||||
| Package 327/2300 | Hostname | OS / Arch | INSTALL | BUILD | CHECK | BUILD BIN | ||||||||
| ChemmineOB 1.42.0 (landing page) Thomas Girke
| nebbiolo1 | Linux (Ubuntu 22.04.3 LTS) / x86_64 | OK | OK | WARNINGS | |||||||||
| palomino7 | Windows Server 2022 Datacenter / x64 | OK | OK | WARNINGS | OK | |||||||||
| merida1 | macOS 12.7.5 Monterey / x86_64 | ERROR | ERROR | skipped | skipped | |||||||||
| kjohnson1 | macOS 13.6.6 Ventura / arm64 | ERROR | ERROR | skipped | skipped | |||||||||
|
To the developers/maintainers of the ChemmineOB package: - Allow up to 24 hours (and sometimes 48 hours) for your latest push to git@git.bioconductor.org:packages/ChemmineOB.git to reflect on this report. See Troubleshooting Build Report for more information. - Use the following Renviron settings to reproduce errors and warnings. - If 'R CMD check' started to fail recently on the Linux builder(s) over a missing dependency, add the missing dependency to 'Suggests:' in your DESCRIPTION file. See Renviron.bioc for more information. |
| Package: ChemmineOB |
| Version: 1.42.0 |
| Command: /Library/Frameworks/R.framework/Resources/bin/R CMD build --keep-empty-dirs --no-resave-data ChemmineOB |
| StartedAt: 2024-10-16 21:16:33 -0400 (Wed, 16 Oct 2024) |
| EndedAt: 2024-10-16 21:16:42 -0400 (Wed, 16 Oct 2024) |
| EllapsedTime: 9.0 seconds |
| RetCode: 1 |
| Status: ERROR |
| PackageFile: None |
| PackageFileSize: NA |
##############################################################################
##############################################################################
###
### Running command:
###
### /Library/Frameworks/R.framework/Resources/bin/R CMD build --keep-empty-dirs --no-resave-data ChemmineOB
###
##############################################################################
##############################################################################
* checking for file ‘ChemmineOB/DESCRIPTION’ ... OK
* preparing ‘ChemmineOB’:
* checking DESCRIPTION meta-information ... OK
* cleaning src
* running ‘cleanup’
* installing the package to build vignettes
-----------------------------------
* installing *source* package ‘ChemmineOB’ ...
** using staged installation
checking for pkg-config... /opt/R/arm64/bin/pkg-config
checking pkg-config is at least version 0.9.0... yes
checking for OPENBABEL... no
checking for OPENBABEL... no
checking for gcc... clang -arch arm64
checking whether the C compiler works... yes
checking for C compiler default output file name... a.out
checking for suffix of executables...
checking whether we are cross compiling... no
checking for suffix of object files... o
checking whether we are using the GNU C compiler... yes
checking whether clang -arch arm64 accepts -g... yes
checking for clang -arch arm64 option to accept ISO C89... none needed
checking how to run the C preprocessor... clang -arch arm64 -E
configure: creating ./config.status
config.status: creating src/Makevars
** libs
using C++ compiler: ‘Apple clang version 15.0.0 (clang-1500.0.40.1)’
using SDK: ‘MacOSX11.3.sdk’
clang++ -arch arm64 -std=gnu++17 -I"/Library/Frameworks/R.framework/Resources/include" -DNDEBUG -I/usr/include/openbabel3 -I/usr/include/eigen3 -DUSE_BOOST -DHAVE_EIGEN -I/usr/local/include/eigen3 -I/usr/local/include/openbabel3 -I'/Library/Frameworks/R.framework/Versions/4.4-arm64/Resources/library/BH/include' -I'/Library/Frameworks/R.framework/Versions/4.4-arm64/Resources/library/Rcpp/include' -I'/Library/Frameworks/R.framework/Versions/4.4-arm64/Resources/library/zlibbioc/include' -I/opt/R/arm64/include -fPIC -falign-functions=64 -Wall -g -O2 -c ChemmineOB.cpp -o ChemmineOB.o
ChemmineOB.cpp:1569:10: fatal error: 'openbabel/obutil.h' file not found
#include <openbabel/obutil.h>
^~~~~~~~~~~~~~~~~~~~
1 error generated.
make: *** [ChemmineOB.o] Error 1
ERROR: compilation failed for package ‘ChemmineOB’
* removing ‘/private/tmp/RtmprAz1iD/Rinst21221b891891/ChemmineOB’
-----------------------------------
ERROR: package installation failed