| Back to Multiple platform build/check report for BioC 3.19: simplified long | 
 | 
This page was generated on 2024-06-28 17:41 -0400 (Fri, 28 Jun 2024).
| Hostname | OS | Arch (*) | R version | Installed pkgs | 
|---|---|---|---|---|
| nebbiolo1 | Linux (Ubuntu 22.04.3 LTS) | x86_64 | 4.4.0 (2024-04-24) -- "Puppy Cup" | 4760 | 
| palomino3 | Windows Server 2022 Datacenter | x64 | 4.4.0 (2024-04-24 ucrt) -- "Puppy Cup" | 4494 | 
| merida1 | macOS 12.7.4 Monterey | x86_64 | 4.4.0 (2024-04-24) -- "Puppy Cup" | 4508 | 
| kjohnson1 | macOS 13.6.6 Ventura | arm64 | 4.4.0 (2024-04-24) -- "Puppy Cup" | 4466 | 
| palomino7 | Windows Server 2022 Datacenter | x64 | 4.4.1 (2024-06-14 ucrt) -- "Race for Your Life" | 4362 | 
| Click on any hostname to see more info about the system (e.g. compilers) (*) as reported by 'uname -p', except on Windows and Mac OS X | ||||
| Package 341/2300 | Hostname | OS / Arch | INSTALL | BUILD | CHECK | BUILD BIN | ||||||||
| ChIPseqR 1.58.0  (landing page) Peter Humburg 
 | nebbiolo1 | Linux (Ubuntu 22.04.3 LTS) / x86_64 | OK | OK | OK |  | ||||||||
| palomino3 | Windows Server 2022 Datacenter / x64 | OK | OK | OK | OK |  | ||||||||
| merida1 | macOS 12.7.4 Monterey / x86_64 | OK | OK | OK | OK |  | ||||||||
| kjohnson1 | macOS 13.6.6 Ventura / arm64 | OK | OK | OK | OK |  | ||||||||
| palomino7 | Windows Server 2022 Datacenter / x64 | OK | OK | OK | OK | |||||||||
| To the developers/maintainers of the ChIPseqR package: - Allow up to 24 hours (and sometimes 48 hours) for your latest push to git@git.bioconductor.org:packages/ChIPseqR.git to reflect on this report. See Troubleshooting Build Report for more information. - Use the following Renviron settings to reproduce errors and warnings. - If 'R CMD check' started to fail recently on the Linux builder(s) over a missing dependency, add the missing dependency to 'Suggests:' in your DESCRIPTION file. See Renviron.bioc for more information. | 
| Package: ChIPseqR | 
| Version: 1.58.0 | 
| Command: F:\biocbuild\bbs-3.19-bioc\R\bin\R.exe CMD check --no-multiarch --install=check:ChIPseqR.install-out.txt --library=F:\biocbuild\bbs-3.19-bioc\R\library --no-vignettes --timings ChIPseqR_1.58.0.tar.gz | 
| StartedAt: 2024-06-27 00:01:58 -0400 (Thu, 27 Jun 2024) | 
| EndedAt: 2024-06-27 00:06:54 -0400 (Thu, 27 Jun 2024) | 
| EllapsedTime: 295.9 seconds | 
| RetCode: 0 | 
| Status: OK | 
| CheckDir: ChIPseqR.Rcheck | 
| Warnings: 0 | 
##############################################################################
##############################################################################
###
### Running command:
###
###   F:\biocbuild\bbs-3.19-bioc\R\bin\R.exe CMD check --no-multiarch --install=check:ChIPseqR.install-out.txt --library=F:\biocbuild\bbs-3.19-bioc\R\library --no-vignettes --timings ChIPseqR_1.58.0.tar.gz
###
##############################################################################
##############################################################################
* using log directory 'F:/biocbuild/bbs-3.19-bioc/meat/ChIPseqR.Rcheck'
* using R version 4.4.0 (2024-04-24 ucrt)
* using platform: x86_64-w64-mingw32
* R was compiled by
    gcc.exe (GCC) 13.2.0
    GNU Fortran (GCC) 13.2.0
* running under: Windows Server 2022 x64 (build 20348)
* using session charset: UTF-8
* using option '--no-vignettes'
* checking for file 'ChIPseqR/DESCRIPTION' ... OK
* checking extension type ... Package
* this is package 'ChIPseqR' version '1.58.0'
* checking package namespace information ... OK
* checking package dependencies ... OK
* checking if this is a source package ... OK
* checking if there is a namespace ... OK
* checking for hidden files and directories ... OK
* checking for portable file names ... OK
* checking whether package 'ChIPseqR' can be installed ... OK
* used C compiler: 'gcc.exe (GCC) 13.2.0'
* checking installed package size ... OK
* checking package directory ... OK
* checking 'build' directory ... OK
* checking DESCRIPTION meta-information ... OK
* checking top-level files ... OK
* checking for left-over files ... OK
* checking index information ... OK
* checking package subdirectories ... OK
* checking code files for non-ASCII characters ... OK
* checking R files for syntax errors ... OK
* checking whether the package can be loaded ... OK
* checking whether the package can be loaded with stated dependencies ... OK
* checking whether the package can be unloaded cleanly ... OK
* checking whether the namespace can be loaded with stated dependencies ... OK
* checking whether the namespace can be unloaded cleanly ... OK
* checking dependencies in R code ... OK
* checking S3 generic/method consistency ... OK
* checking replacement functions ... OK
* checking foreign function calls ... OK
* checking R code for possible problems ... NOTE
.fixCounts: no visible global function definition for 'runLength'
.fixCounts: no visible global function definition for 'runValue'
getBindLen: no visible global function definition for 'window'
pickPeak: no visible global function definition for 'start'
pickPeak: no visible global function definition for 'runLength'
pickPeak : <anonymous>: no visible global function definition for
  'window'
[[,BindScore-ANY-numeric: no visible global function definition for
  'window'
decompress,Rle: no visible global function definition for 'runValue'
decompress,RleList : <anonymous>: no visible global function definition
  for 'runValue'
initialize,RLEBindScore : <anonymous>: no visible global function
  definition for 'Rle'
initialize,RLEBindScore : <anonymous>: no visible global function
  definition for 'runValue'
initialize,RLEBindScore : <anonymous>: no visible global function
  definition for 'runValue<-'
plot,RLEReadCounts-missing : <anonymous>: no visible global function
  definition for 'window'
Undefined global functions or variables:
  Rle runLength runValue runValue<- start window
Consider adding
  importFrom("stats", "start", "window")
to your NAMESPACE file.
* checking Rd files ... OK
* checking Rd metadata ... OK
* checking Rd cross-references ... OK
* checking for missing documentation entries ... OK
* checking for code/documentation mismatches ... OK
* checking Rd \usage sections ... OK
* checking Rd contents ... OK
* checking for unstated dependencies in examples ... OK
* checking line endings in C/C++/Fortran sources/headers ... OK
* checking compiled code ... NOTE
Note: information on .o files for x64 is not available
File 'F:/biocbuild/bbs-3.19-bioc/R/library/ChIPseqR/libs/x64/ChIPseqR.dll':
  Found '_exit', possibly from '_exit' (C)
  Found 'abort', possibly from 'abort' (C), 'runtime' (Fortran)
Compiled code should not call entry points which might terminate R nor
write to stdout/stderr instead of to the console, nor use Fortran I/O
nor system RNGs nor [v]sprintf. The detected symbols are linked into
the code but might come from libraries and not actually be called.
See 'Writing portable packages' in the 'Writing R Extensions' manual.
* checking sizes of PDF files under 'inst/doc' ... OK
* checking files in 'vignettes' ... OK
* checking examples ... OK
Examples with CPU (user + system) or elapsed time > 5s
                    user system elapsed
alignFeature       10.02   2.18   12.21
BindScore           7.22   0.28    9.61
simpleNucCall       6.58   0.26    6.84
RLEBindScore-class  6.67   0.08    6.75
callBindingSites    4.92   0.21    5.12
* checking for unstated dependencies in vignettes ... OK
* checking package vignettes ... OK
* checking running R code from vignettes ... SKIPPED
* checking re-building of vignette outputs ... SKIPPED
* checking PDF version of manual ... OK
* DONE
Status: 2 NOTEs
See
  'F:/biocbuild/bbs-3.19-bioc/meat/ChIPseqR.Rcheck/00check.log'
for details.
ChIPseqR.Rcheck/00install.out
##############################################################################
##############################################################################
###
### Running command:
###
###   F:\biocbuild\bbs-3.19-bioc\R\bin\R.exe CMD INSTALL ChIPseqR
###
##############################################################################
##############################################################################
* installing to library 'F:/biocbuild/bbs-3.19-bioc/R/library'
* installing *source* package 'ChIPseqR' ...
** using staged installation
** libs
using C compiler: 'gcc.exe (GCC) 13.2.0'
gcc  -I"F:/biocbuild/bbs-3.19-bioc/R/include" -DNDEBUG     -I"C:/rtools44/x86_64-w64-mingw32.static.posix/include"     -O2 -Wall  -mfpmath=sse -msse2 -mstackrealign  -c startScore.c -o startScore.o
startScore.c: In function '_ratioStat_pois':
startScore.c:66:22: warning: unused variable 'tmp_stat' [-Wunused-variable]
   66 |         double stat, tmp_stat;
      |                      ^~~~~~~~
gcc -shared -s -static-libgcc -o ChIPseqR.dll tmp.def startScore.o -LC:/rtools44/x86_64-w64-mingw32.static.posix/lib/x64 -LC:/rtools44/x86_64-w64-mingw32.static.posix/lib -LF:/biocbuild/bbs-3.19-bioc/R/bin/x64 -lR
installing to F:/biocbuild/bbs-3.19-bioc/R/library/00LOCK-ChIPseqR/00new/ChIPseqR/libs/x64
** R
** inst
** byte-compile and prepare package for lazy loading
** help
*** installing help indices
** building package indices
** installing vignettes
** testing if installed package can be loaded from temporary location
** testing if installed package can be loaded from final location
** testing if installed package keeps a record of temporary installation path
* DONE (ChIPseqR)
ChIPseqR.Rcheck/ChIPseqR-Ex.timings
| name | user | system | elapsed | |
| BindScore | 7.22 | 0.28 | 9.61 | |
| ChIPseqR-package | 0 | 0 | 0 | |
| RLEBindScore-class | 6.67 | 0.08 | 6.75 | |
| RLEReadCounts-class | 0.02 | 0.00 | 0.01 | |
| ReadCounts | 0.03 | 0.00 | 0.03 | |
| alignFeature | 10.02 | 2.18 | 12.21 | |
| callBindingSites | 4.92 | 0.21 | 5.12 | |
| pos2gff | 0.01 | 0.00 | 0.02 | |
| simpleNucCall | 6.58 | 0.26 | 6.84 | |
| strandPileup | 0.02 | 0.00 | 0.02 | |
| windowCounts | 0.25 | 0.00 | 0.25 | |