| Back to Multiple platform build/check report for BioC 3.19: simplified long | 
 | 
This page was generated on 2024-05-09 11:40:40 -0400 (Thu, 09 May 2024).
| Hostname | OS | Arch (*) | R version | Installed pkgs | 
|---|---|---|---|---|
| nebbiolo1 | Linux (Ubuntu 22.04.3 LTS) | x86_64 | 4.4.0 (2024-04-24) -- "Puppy Cup" | 4748 | 
| palomino3 | Windows Server 2022 Datacenter | x64 | 4.4.0 (2024-04-24 ucrt) -- "Puppy Cup" | 4484 | 
| lconway | macOS 12.7.1 Monterey | x86_64 | 4.4.0 (2024-04-24) -- "Puppy Cup" | 4514 | 
| kunpeng2 | Linux (openEuler 22.03 LTS-SP1) | aarch64 | 4.4.0 beta (2024-04-15 r86425) -- "Puppy Cup" | 4480 | 
| Click on any hostname to see more info about the system (e.g. compilers) (*) as reported by 'uname -p', except on Windows and Mac OS X | ||||
| Package 337/2300 | Hostname | OS / Arch | INSTALL | BUILD | CHECK | BUILD BIN | ||||||||
| ChIPpeakAnno 3.38.0  (landing page) Jianhong Ou 
 | nebbiolo1 | Linux (Ubuntu 22.04.3 LTS) / x86_64 | OK | OK | OK |  | ||||||||
| palomino3 | Windows Server 2022 Datacenter / x64 | OK | OK | OK | OK |  | ||||||||
| lconway | macOS 12.7.1 Monterey / x86_64 | OK | OK | OK | OK |  | ||||||||
| kunpeng2 | Linux (openEuler 22.03 LTS-SP1) / aarch64 | OK | OK | OK | ||||||||||
| kjohnson3 | macOS 13.6.5 Ventura / arm64 | see weekly results here | ||||||||||||
| To the developers/maintainers of the ChIPpeakAnno package: - Allow up to 24 hours (and sometimes 48 hours) for your latest push to git@git.bioconductor.org:packages/ChIPpeakAnno.git to reflect on this report. See Troubleshooting Build Report for more information. - Use the following Renviron settings to reproduce errors and warnings. - If 'R CMD check' started to fail recently on the Linux builder(s) over a missing dependency, add the missing dependency to 'Suggests:' in your DESCRIPTION file. See Renviron.bioc for more information. - See Martin Grigorov's blog post for how to debug Linux ARM64 related issues on a x86_64 host. | 
| Package: ChIPpeakAnno | 
| Version: 3.38.0 | 
| Command: /home/biocbuild/R/R-beta-2024-04-15_r86425/bin/R CMD check --install=check:ChIPpeakAnno.install-out.txt --library=/home/biocbuild/R/R-beta-2024-04-15_r86425/site-library --no-vignettes --timings ChIPpeakAnno_3.38.0.tar.gz | 
| StartedAt: 2024-05-09 05:47:46 -0000 (Thu, 09 May 2024) | 
| EndedAt: 2024-05-09 06:01:24 -0000 (Thu, 09 May 2024) | 
| EllapsedTime: 817.5 seconds | 
| RetCode: 0 | 
| Status: OK | 
| CheckDir: ChIPpeakAnno.Rcheck | 
| Warnings: 0 | 
##############################################################################
##############################################################################
###
### Running command:
###
###   /home/biocbuild/R/R-beta-2024-04-15_r86425/bin/R CMD check --install=check:ChIPpeakAnno.install-out.txt --library=/home/biocbuild/R/R-beta-2024-04-15_r86425/site-library --no-vignettes --timings ChIPpeakAnno_3.38.0.tar.gz
###
##############################################################################
##############################################################################
* using log directory ‘/home/biocbuild/bbs-3.19-bioc/meat/ChIPpeakAnno.Rcheck’
* using R version 4.4.0 beta (2024-04-15 r86425)
* using platform: aarch64-unknown-linux-gnu
* R was compiled by
    gcc (GCC) 10.3.1
    GNU Fortran (GCC) 10.3.1
* running under: openEuler 22.03 (LTS-SP1)
* using session charset: UTF-8
* using option ‘--no-vignettes’
* checking for file ‘ChIPpeakAnno/DESCRIPTION’ ... OK
* checking extension type ... Package
* this is package ‘ChIPpeakAnno’ version ‘3.38.0’
* package encoding: UTF-8
* checking package namespace information ... OK
* checking package dependencies ... OK
* checking if this is a source package ... OK
* checking if there is a namespace ... OK
* checking for hidden files and directories ... OK
* checking for portable file names ... OK
* checking for sufficient/correct file permissions ... OK
* checking whether package ‘ChIPpeakAnno’ can be installed ... OK
* checking installed package size ... NOTE
  installed size is 21.1Mb
  sub-directories of 1Mb or more:
    data     12.6Mb
    extdata   7.2Mb
* checking package directory ... OK
* checking ‘build’ directory ... OK
* checking DESCRIPTION meta-information ... OK
* checking top-level files ... OK
* checking for left-over files ... OK
* checking index information ... OK
* checking package subdirectories ... OK
* checking code files for non-ASCII characters ... OK
* checking R files for syntax errors ... OK
* checking whether the package can be loaded ... OK
* checking whether the package can be loaded with stated dependencies ... OK
* checking whether the package can be unloaded cleanly ... OK
* checking whether the namespace can be loaded with stated dependencies ... OK
* checking whether the namespace can be unloaded cleanly ... OK
* checking loading without being on the library search path ... OK
* checking dependencies in R code ... OK
* checking S3 generic/method consistency ... OK
* checking replacement functions ... OK
* checking foreign function calls ... OK
* checking R code for possible problems ... OK
* checking Rd files ... NOTE
checkRd: (-1) summarizePatternInPeaks.Rd:63: Lost braces; missing escapes or markup?
    63 | {shuffle_sequences}}
       | ^
checkRd: (-1) summarizePatternInPeaks.Rd:69: Lost braces; missing escapes or markup?
    69 |  \item{"patternNum"}: {number of matched pattern}
       |                       ^
checkRd: (-1) summarizePatternInPeaks.Rd:70-71: Lost braces
    70 |  \item{"totalNumPatternWithSameLen"}:  {total number of pattern with the 
       |                                        ^
checkRd: (-1) summarizePatternInPeaks.Rd:72: Lost braces; missing escapes or markup?
    72 |  \item{"expectedRate"}:  {expected rate of pattern for 'binom.test' method}
       |                          ^
checkRd: (-1) summarizePatternInPeaks.Rd:73: Lost braces; missing escapes or markup?
    73 |  \item{"patternRate"}:  {real rate of pattern for 'permutation.test' method}
       |                         ^
checkRd: (-1) summarizePatternInPeaks.Rd:74: Lost braces; missing escapes or markup?
    74 |  \item{"pValueBinomTest"}:  {p value of bimom test for 'binom.test' method}
       |                             ^
checkRd: (-1) summarizePatternInPeaks.Rd:75-76: Lost braces
    75 |  \item{"cutOffPermutationTest"}:  {cut off of permutation test for 
       |                                   ^
checkRd: (-1) summarizePatternInPeaks.Rd:82: Lost braces; missing escapes or markup?
    82 |  \item{"motifChr"}: {Chromosome of motif}
       |                     ^
checkRd: (-1) summarizePatternInPeaks.Rd:83: Lost braces; missing escapes or markup?
    83 |  \item{"motifStartInChr"}:  {motif start position in chromosome}
       |                             ^
checkRd: (-1) summarizePatternInPeaks.Rd:84: Lost braces; missing escapes or markup?
    84 |  \item{"motifEndInChr"}:  {motif end position in chromosome}
       |                           ^
checkRd: (-1) summarizePatternInPeaks.Rd:85: Lost braces; missing escapes or markup?
    85 |  \item{"motifName"}:  {motif name}
       |                       ^
checkRd: (-1) summarizePatternInPeaks.Rd:86: Lost braces; missing escapes or markup?
    86 |  \item{"motifPattern"}:  {motif pattern}
       |                          ^
checkRd: (-1) summarizePatternInPeaks.Rd:87: Lost braces; missing escapes or markup?
    87 |  \item{"motifStartInPeak"}:  {motif start position in peak}
       |                              ^
checkRd: (-1) summarizePatternInPeaks.Rd:88: Lost braces; missing escapes or markup?
    88 |  \item{"motifEndInPeak"}: {motif end position in peak}
       |                           ^
checkRd: (-1) summarizePatternInPeaks.Rd:89: Lost braces; missing escapes or markup?
    89 |  \item{"motifFound"}:  {specific motif Found in peak}
       |                        ^
checkRd: (-1) summarizePatternInPeaks.Rd:90-91: Lost braces
    90 |  \item{"motifFoundStrand"}:  {strand of specific motif Found in peak, "-" 
       |                              ^
checkRd: (-1) summarizePatternInPeaks.Rd:92: Lost braces; missing escapes or markup?
    92 |  \item{"peakChr"}:  {Chromosome of peak}
       |                     ^
checkRd: (-1) summarizePatternInPeaks.Rd:93: Lost braces; missing escapes or markup?
    93 |  \item{"peakStart"}:  {peak start position}
       |                       ^
checkRd: (-1) summarizePatternInPeaks.Rd:94: Lost braces; missing escapes or markup?
    94 |  \item{"peakEnd"}:  {peak end position}
       |                     ^
checkRd: (-1) summarizePatternInPeaks.Rd:95: Lost braces; missing escapes or markup?
    95 |  \item{"peakWidth"}:  {peak width}
       |                       ^
checkRd: (-1) summarizePatternInPeaks.Rd:96: Lost braces; missing escapes or markup?
    96 |  \item{"peakStrand"}:  {peak strand}
       |                        ^
* checking Rd metadata ... OK
* checking Rd cross-references ... OK
* checking for missing documentation entries ... OK
* checking for code/documentation mismatches ... OK
* checking Rd \usage sections ... OK
* checking Rd contents ... OK
* checking for unstated dependencies in examples ... OK
* checking contents of ‘data’ directory ... OK
* checking data for non-ASCII characters ... OK
* checking LazyData ... OK
* checking data for ASCII and uncompressed saves ... OK
* checking files in ‘vignettes’ ... OK
* checking examples ... OK
Examples with CPU (user + system) or elapsed time > 5s
                           user system elapsed
findEnhancers            33.388  0.730  34.202
findMotifsInPromoterSeqs 20.426  0.271  21.417
annotatePeakInBatch      17.187  1.010  18.244
summarizeOverlapsByBins   6.593  0.588   6.807
annoPeaks                 3.793  0.255  10.829
* checking for unstated dependencies in ‘tests’ ... OK
* checking tests ...
  Running ‘runTests.R’
 OK
* checking for unstated dependencies in vignettes ... OK
* checking package vignettes ... OK
* checking running R code from vignettes ... SKIPPED
* checking re-building of vignette outputs ... SKIPPED
* checking PDF version of manual ... OK
* DONE
Status: 2 NOTEs
See
  ‘/home/biocbuild/bbs-3.19-bioc/meat/ChIPpeakAnno.Rcheck/00check.log’
for details.
ChIPpeakAnno.Rcheck/00install.out
############################################################################## ############################################################################## ### ### Running command: ### ### /home/biocbuild/R/R-beta-2024-04-15_r86425/bin/R CMD INSTALL ChIPpeakAnno ### ############################################################################## ############################################################################## * installing to library ‘/home/biocbuild/R/R-beta-2024-04-15_r86425/site-library’ * installing *source* package ‘ChIPpeakAnno’ ... ** using staged installation ** R ** data *** moving datasets to lazyload DB ** inst ** byte-compile and prepare package for lazy loading ** help *** installing help indices ** building package indices ** installing vignettes ** testing if installed package can be loaded from temporary location ** testing if installed package can be loaded from final location ** testing if installed package keeps a record of temporary installation path * DONE (ChIPpeakAnno)
ChIPpeakAnno.Rcheck/tests/runTests.Rout
R version 4.4.0 beta (2024-04-15 r86425) -- "Puppy Cup"
Copyright (C) 2024 The R Foundation for Statistical Computing
Platform: aarch64-unknown-linux-gnu
R is free software and comes with ABSOLUTELY NO WARRANTY.
You are welcome to redistribute it under certain conditions.
Type 'license()' or 'licence()' for distribution details.
R is a collaborative project with many contributors.
Type 'contributors()' for more information and
'citation()' on how to cite R or R packages in publications.
Type 'demo()' for some demos, 'help()' for on-line help, or
'help.start()' for an HTML browser interface to help.
Type 'q()' to quit R.
> require("ChIPpeakAnno") || stop("unable to load Package:ChIPpeakAnno")
Loading required package: ChIPpeakAnno
Loading required package: IRanges
Loading required package: BiocGenerics
Attaching package: 'BiocGenerics'
The following objects are masked from 'package:stats':
    IQR, mad, sd, var, xtabs
The following objects are masked from 'package:base':
    Filter, Find, Map, Position, Reduce, anyDuplicated, aperm, append,
    as.data.frame, basename, cbind, colnames, dirname, do.call,
    duplicated, eval, evalq, get, grep, grepl, intersect, is.unsorted,
    lapply, mapply, match, mget, order, paste, pmax, pmax.int, pmin,
    pmin.int, rank, rbind, rownames, sapply, setdiff, table, tapply,
    union, unique, unsplit, which.max, which.min
Loading required package: S4Vectors
Loading required package: stats4
Attaching package: 'S4Vectors'
The following object is masked from 'package:utils':
    findMatches
The following objects are masked from 'package:base':
    I, expand.grid, unname
Loading required package: GenomicRanges
Loading required package: GenomeInfoDb
[1] TRUE
> require("BSgenome.Drerio.UCSC.danRer7") || stop("unable to load Package:BSgenome.Drerio.UCSC.danRer7")
Loading required package: BSgenome.Drerio.UCSC.danRer7
Loading required package: BSgenome
Loading required package: Biostrings
Loading required package: XVector
Attaching package: 'Biostrings'
The following object is masked from 'package:base':
    strsplit
Loading required package: BiocIO
Loading required package: rtracklayer
Attaching package: 'rtracklayer'
The following object is masked from 'package:BiocIO':
    FileForFormat
[1] TRUE
> require("BSgenome.Hsapiens.UCSC.hg19") || stop("unable to load Package:BSgenome.Hsapiens.UCSC.hg19")
Loading required package: BSgenome.Hsapiens.UCSC.hg19
[1] TRUE
> require("org.Hs.eg.db") || stop("unable to load Package:org.Hs.eg.db")
Loading required package: org.Hs.eg.db
Loading required package: AnnotationDbi
Loading required package: Biobase
Welcome to Bioconductor
    Vignettes contain introductory material; view with
    'browseVignettes()'. To cite Bioconductor, see
    'citation("Biobase")', and for packages 'citation("pkgname")'.
[1] TRUE
> require("org.Ce.eg.db") || stop("unable to load Package:org.Ce.eg.db")
Loading required package: org.Ce.eg.db
[1] TRUE
> require("BSgenome.Celegans.UCSC.ce10") || stop("unable to load Package:BSgenome.Celegans.UCSC.ce10")
Loading required package: BSgenome.Celegans.UCSC.ce10
[1] TRUE
> require("EnsDb.Hsapiens.v79") || stop("unable to load Package:EnsDb.Hsapiens.v79")
Loading required package: EnsDb.Hsapiens.v79
Loading required package: ensembldb
Loading required package: GenomicFeatures
Loading required package: AnnotationFilter
Attaching package: 'ensembldb'
The following object is masked from 'package:stats':
    filter
[1] TRUE
> require("TxDb.Hsapiens.UCSC.hg38.knownGene") || stop("unable to load TxDb.Hsapiens.UCSC.hg38.knownGene")
Loading required package: TxDb.Hsapiens.UCSC.hg38.knownGene
[1] TRUE
> require("biomaRt") || stop("unable to load biomaRt")
Loading required package: biomaRt
[1] TRUE
> require("reactome.db") || stop("unable to load reactome.db")
Loading required package: reactome.db
[1] TRUE
> require("testthat") || stop("unable to load testthat")
Loading required package: testthat
Attaching package: 'testthat'
The following object is masked from 'package:AnnotationFilter':
    not
[1] TRUE
> test_check("ChIPpeakAnno")
INFO [2024-05-09 06:01:01] $cat.cex
INFO [2024-05-09 06:01:01] [1] 1
INFO [2024-05-09 06:01:01] 
INFO [2024-05-09 06:01:01] $cat.col
INFO [2024-05-09 06:01:01] [1] "black"
INFO [2024-05-09 06:01:01] 
INFO [2024-05-09 06:01:01] $cat.fontface
INFO [2024-05-09 06:01:01] [1] "plain"
INFO [2024-05-09 06:01:01] 
INFO [2024-05-09 06:01:01] $cat.fontfamily
INFO [2024-05-09 06:01:01] [1] "serif"
INFO [2024-05-09 06:01:01] 
INFO [2024-05-09 06:01:01] $x
INFO [2024-05-09 06:01:01] $x$TF1
INFO [2024-05-09 06:01:01] [1] 3 4 5
INFO [2024-05-09 06:01:01] 
INFO [2024-05-09 06:01:01] $x$TF2
INFO [2024-05-09 06:01:01] [1] 1 2 3 4 5
INFO [2024-05-09 06:01:01] 
INFO [2024-05-09 06:01:01] 
INFO [2024-05-09 06:01:01] $disable.logging
INFO [2024-05-09 06:01:01] [1] TRUE
INFO [2024-05-09 06:01:01] 
INFO [2024-05-09 06:01:01] $filename
INFO [2024-05-09 06:01:01] NULL
INFO [2024-05-09 06:01:01] 
INFO [2024-05-09 06:01:01] $cat.cex
INFO [2024-05-09 06:01:01] [1] 1
INFO [2024-05-09 06:01:01] 
INFO [2024-05-09 06:01:01] $cat.col
INFO [2024-05-09 06:01:01] [1] "black"
INFO [2024-05-09 06:01:01] 
INFO [2024-05-09 06:01:01] $cat.fontface
INFO [2024-05-09 06:01:01] [1] "plain"
INFO [2024-05-09 06:01:01] 
INFO [2024-05-09 06:01:01] $cat.fontfamily
INFO [2024-05-09 06:01:01] [1] "serif"
INFO [2024-05-09 06:01:01] 
INFO [2024-05-09 06:01:01] $x
INFO [2024-05-09 06:01:01] $x$TF1
INFO [2024-05-09 06:01:01] [1] 3 4 5
INFO [2024-05-09 06:01:01] 
INFO [2024-05-09 06:01:01] $x$TF2
INFO [2024-05-09 06:01:01] [1] 1 2 4 5
INFO [2024-05-09 06:01:01] 
INFO [2024-05-09 06:01:01] $x$TF3
INFO [2024-05-09 06:01:01] [1] 3 4 5
INFO [2024-05-09 06:01:01] 
INFO [2024-05-09 06:01:01] $x$TF4
INFO [2024-05-09 06:01:01] [1] 1 2 4 5
INFO [2024-05-09 06:01:01] 
INFO [2024-05-09 06:01:01] 
INFO [2024-05-09 06:01:01] $disable.logging
INFO [2024-05-09 06:01:01] [1] TRUE
INFO [2024-05-09 06:01:01] 
INFO [2024-05-09 06:01:01] $filename
INFO [2024-05-09 06:01:01] NULL
INFO [2024-05-09 06:01:01] 
INFO [2024-05-09 06:01:01] $scaled
INFO [2024-05-09 06:01:01] [1] FALSE
INFO [2024-05-09 06:01:01] 
INFO [2024-05-09 06:01:01] $euler.d
INFO [2024-05-09 06:01:01] [1] FALSE
INFO [2024-05-09 06:01:01] 
INFO [2024-05-09 06:01:01] $cat.cex
INFO [2024-05-09 06:01:01] [1] 1
INFO [2024-05-09 06:01:01] 
INFO [2024-05-09 06:01:01] $cat.col
INFO [2024-05-09 06:01:01] [1] "black"
INFO [2024-05-09 06:01:01] 
INFO [2024-05-09 06:01:01] $cat.fontface
INFO [2024-05-09 06:01:01] [1] "plain"
INFO [2024-05-09 06:01:01] 
INFO [2024-05-09 06:01:01] $cat.fontfamily
INFO [2024-05-09 06:01:01] [1] "serif"
INFO [2024-05-09 06:01:01] 
INFO [2024-05-09 06:01:01] $x
INFO [2024-05-09 06:01:01] $x$TF1
INFO [2024-05-09 06:01:01] [1] 1 2 3
INFO [2024-05-09 06:01:01] 
INFO [2024-05-09 06:01:01] $x$TF2
INFO [2024-05-09 06:01:01] [1] 1 2 3
INFO [2024-05-09 06:01:01] 
INFO [2024-05-09 06:01:01] 
INFO [2024-05-09 06:01:01] $disable.logging
INFO [2024-05-09 06:01:01] [1] TRUE
INFO [2024-05-09 06:01:01] 
INFO [2024-05-09 06:01:01] $filename
INFO [2024-05-09 06:01:01] NULL
INFO [2024-05-09 06:01:01] 
INFO [2024-05-09 06:01:02] $scaled
INFO [2024-05-09 06:01:02] [1] FALSE
INFO [2024-05-09 06:01:02] 
INFO [2024-05-09 06:01:02] $euler.d
INFO [2024-05-09 06:01:02] [1] FALSE
INFO [2024-05-09 06:01:02] 
INFO [2024-05-09 06:01:02] $cat.cex
INFO [2024-05-09 06:01:02] [1] 1
INFO [2024-05-09 06:01:02] 
INFO [2024-05-09 06:01:02] $cat.col
INFO [2024-05-09 06:01:02] [1] "black"
INFO [2024-05-09 06:01:02] 
INFO [2024-05-09 06:01:02] $cat.fontface
INFO [2024-05-09 06:01:02] [1] "plain"
INFO [2024-05-09 06:01:02] 
INFO [2024-05-09 06:01:02] $cat.fontfamily
INFO [2024-05-09 06:01:02] [1] "serif"
INFO [2024-05-09 06:01:02] 
INFO [2024-05-09 06:01:02] $x
INFO [2024-05-09 06:01:02] $x$TF1
INFO [2024-05-09 06:01:02] [1] 4 5 6
INFO [2024-05-09 06:01:02] 
INFO [2024-05-09 06:01:02] $x$TF2
INFO [2024-05-09 06:01:02] [1] 1 2 3
INFO [2024-05-09 06:01:02] 
INFO [2024-05-09 06:01:02] 
INFO [2024-05-09 06:01:02] $disable.logging
INFO [2024-05-09 06:01:02] [1] TRUE
INFO [2024-05-09 06:01:02] 
INFO [2024-05-09 06:01:02] $filename
INFO [2024-05-09 06:01:02] NULL
INFO [2024-05-09 06:01:02] 
INFO [2024-05-09 06:01:02] $scaled
INFO [2024-05-09 06:01:02] [1] FALSE
INFO [2024-05-09 06:01:02] 
INFO [2024-05-09 06:01:02] $euler.d
INFO [2024-05-09 06:01:02] [1] FALSE
INFO [2024-05-09 06:01:02] 
INFO [2024-05-09 06:01:02] $cat.cex
INFO [2024-05-09 06:01:02] [1] 1
INFO [2024-05-09 06:01:02] 
INFO [2024-05-09 06:01:02] $cat.col
INFO [2024-05-09 06:01:02] [1] "black"
INFO [2024-05-09 06:01:02] 
INFO [2024-05-09 06:01:02] $cat.fontface
INFO [2024-05-09 06:01:02] [1] "plain"
INFO [2024-05-09 06:01:02] 
INFO [2024-05-09 06:01:02] $cat.fontfamily
INFO [2024-05-09 06:01:02] [1] "serif"
INFO [2024-05-09 06:01:02] 
INFO [2024-05-09 06:01:02] $x
INFO [2024-05-09 06:01:02] $x$TF1
INFO [2024-05-09 06:01:02] [1] 4 5 6
INFO [2024-05-09 06:01:02] 
INFO [2024-05-09 06:01:02] $x$TF2
INFO [2024-05-09 06:01:02] [1] 1 2 3
INFO [2024-05-09 06:01:02] 
INFO [2024-05-09 06:01:02] 
INFO [2024-05-09 06:01:02] $disable.logging
INFO [2024-05-09 06:01:02] [1] TRUE
INFO [2024-05-09 06:01:02] 
INFO [2024-05-09 06:01:02] $filename
INFO [2024-05-09 06:01:02] NULL
INFO [2024-05-09 06:01:02] 
INFO [2024-05-09 06:01:03] $scaled
INFO [2024-05-09 06:01:03] [1] FALSE
INFO [2024-05-09 06:01:03] 
INFO [2024-05-09 06:01:03] $euler.d
INFO [2024-05-09 06:01:03] [1] FALSE
INFO [2024-05-09 06:01:03] 
INFO [2024-05-09 06:01:03] $cat.cex
INFO [2024-05-09 06:01:03] [1] 1
INFO [2024-05-09 06:01:03] 
INFO [2024-05-09 06:01:03] $cat.col
INFO [2024-05-09 06:01:03] [1] "black"
INFO [2024-05-09 06:01:03] 
INFO [2024-05-09 06:01:03] $cat.fontface
INFO [2024-05-09 06:01:03] [1] "plain"
INFO [2024-05-09 06:01:03] 
INFO [2024-05-09 06:01:03] $cat.fontfamily
INFO [2024-05-09 06:01:03] [1] "serif"
INFO [2024-05-09 06:01:03] 
INFO [2024-05-09 06:01:03] $x
INFO [2024-05-09 06:01:03] $x$TF1
INFO [2024-05-09 06:01:03] [1] 4 5 6
INFO [2024-05-09 06:01:03] 
INFO [2024-05-09 06:01:03] $x$TF2
INFO [2024-05-09 06:01:03] [1] 1 2 3
INFO [2024-05-09 06:01:03] 
INFO [2024-05-09 06:01:03] $x$TF3
INFO [2024-05-09 06:01:03] [1] 2 3 6
INFO [2024-05-09 06:01:03] 
INFO [2024-05-09 06:01:03] 
INFO [2024-05-09 06:01:03] $disable.logging
INFO [2024-05-09 06:01:03] [1] TRUE
INFO [2024-05-09 06:01:03] 
INFO [2024-05-09 06:01:03] $filename
INFO [2024-05-09 06:01:03] NULL
INFO [2024-05-09 06:01:03] 
INFO [2024-05-09 06:01:03] $scaled
INFO [2024-05-09 06:01:03] [1] FALSE
INFO [2024-05-09 06:01:03] 
INFO [2024-05-09 06:01:03] $euler.d
INFO [2024-05-09 06:01:03] [1] FALSE
INFO [2024-05-09 06:01:03] 
INFO [2024-05-09 06:01:03] $cat.cex
INFO [2024-05-09 06:01:03] [1] 1
INFO [2024-05-09 06:01:03] 
INFO [2024-05-09 06:01:03] $cat.col
INFO [2024-05-09 06:01:03] [1] "black"
INFO [2024-05-09 06:01:03] 
INFO [2024-05-09 06:01:03] $cat.fontface
INFO [2024-05-09 06:01:03] [1] "plain"
INFO [2024-05-09 06:01:03] 
INFO [2024-05-09 06:01:03] $cat.fontfamily
INFO [2024-05-09 06:01:03] [1] "serif"
INFO [2024-05-09 06:01:03] 
INFO [2024-05-09 06:01:03] $x
INFO [2024-05-09 06:01:03] $x$TF1
INFO [2024-05-09 06:01:03] [1] 3 4 5
INFO [2024-05-09 06:01:03] 
INFO [2024-05-09 06:01:03] $x$TF2
INFO [2024-05-09 06:01:03] [1] 1 2 5
INFO [2024-05-09 06:01:03] 
INFO [2024-05-09 06:01:03] $x$TF3
INFO [2024-05-09 06:01:03] [1] 1 2 5
INFO [2024-05-09 06:01:03] 
INFO [2024-05-09 06:01:03] 
INFO [2024-05-09 06:01:03] $disable.logging
INFO [2024-05-09 06:01:03] [1] TRUE
INFO [2024-05-09 06:01:03] 
INFO [2024-05-09 06:01:03] $filename
INFO [2024-05-09 06:01:03] NULL
INFO [2024-05-09 06:01:03] 
INFO [2024-05-09 06:01:04] $scaled
INFO [2024-05-09 06:01:04] [1] FALSE
INFO [2024-05-09 06:01:04] 
INFO [2024-05-09 06:01:04] $euler.d
INFO [2024-05-09 06:01:04] [1] FALSE
INFO [2024-05-09 06:01:04] 
INFO [2024-05-09 06:01:04] $cat.cex
INFO [2024-05-09 06:01:04] [1] 1
INFO [2024-05-09 06:01:04] 
INFO [2024-05-09 06:01:04] $cat.col
INFO [2024-05-09 06:01:04] [1] "black"
INFO [2024-05-09 06:01:04] 
INFO [2024-05-09 06:01:04] $cat.fontface
INFO [2024-05-09 06:01:04] [1] "plain"
INFO [2024-05-09 06:01:04] 
INFO [2024-05-09 06:01:04] $cat.fontfamily
INFO [2024-05-09 06:01:04] [1] "serif"
INFO [2024-05-09 06:01:04] 
INFO [2024-05-09 06:01:04] $x
INFO [2024-05-09 06:01:04] $x$TF1
INFO [2024-05-09 06:01:04] [1] 3 4 5
INFO [2024-05-09 06:01:04] 
INFO [2024-05-09 06:01:04] $x$TF2
INFO [2024-05-09 06:01:04] [1] 1 2 5
INFO [2024-05-09 06:01:04] 
INFO [2024-05-09 06:01:04] $x$TF3
INFO [2024-05-09 06:01:04] [1] 1 2 5
INFO [2024-05-09 06:01:04] 
INFO [2024-05-09 06:01:04] $x$TF4
INFO [2024-05-09 06:01:04] [1] 1 2 5
INFO [2024-05-09 06:01:04] 
INFO [2024-05-09 06:01:04] 
INFO [2024-05-09 06:01:04] $disable.logging
INFO [2024-05-09 06:01:04] [1] TRUE
INFO [2024-05-09 06:01:04] 
INFO [2024-05-09 06:01:04] $filename
INFO [2024-05-09 06:01:04] NULL
INFO [2024-05-09 06:01:04] 
[ FAIL 0 | WARN 3 | SKIP 6 | PASS 320 ]
══ Skipped tests (6) ═══════════════════════════════════════════════════════════
• empty test (6): 'test_binOverGene.R:1:1', 'test_binOverRegions.R:1:1',
  'test_enrichmentPlot.R:1:1', 'test_getAnnotation.R:1:1',
  'test_reCenterPeaks.R:1:1', 'test_write2FASTA.R:1:1'
[ FAIL 0 | WARN 3 | SKIP 6 | PASS 320 ]
> 
> proc.time()
   user  system elapsed 
236.967   4.854 258.297 
ChIPpeakAnno.Rcheck/ChIPpeakAnno-Ex.timings
| name | user | system | elapsed | |
| ChIPpeakAnno-package | 0.001 | 0.000 | 0.000 | |
| ExonPlusUtr.human.GRCh37 | 3.850 | 0.080 | 3.938 | |
| HOT.spots | 0.116 | 0.004 | 0.120 | |
| IDRfilter | 0 | 0 | 0 | |
| Peaks.Ste12.Replicate1 | 0.066 | 0.000 | 0.066 | |
| Peaks.Ste12.Replicate2 | 0.017 | 0.000 | 0.017 | |
| Peaks.Ste12.Replicate3 | 0.016 | 0.000 | 0.015 | |
| TSS.human.GRCh37 | 0.200 | 0.000 | 0.201 | |
| TSS.human.GRCh38 | 0.136 | 0.000 | 0.137 | |
| TSS.human.NCBI36 | 0.096 | 0.008 | 0.105 | |
| TSS.mouse.GRCm38 | 0.093 | 0.004 | 0.097 | |
| TSS.mouse.NCBIM37 | 0.084 | 0.004 | 0.088 | |
| TSS.rat.RGSC3.4 | 0.074 | 0.000 | 0.074 | |
| TSS.rat.Rnor_5.0 | 0.065 | 0.000 | 0.065 | |
| TSS.zebrafish.Zv8 | 0.056 | 0.012 | 0.068 | |
| TSS.zebrafish.Zv9 | 0.082 | 0.000 | 0.082 | |
| addAncestors | 1.379 | 0.016 | 1.400 | |
| addGeneIDs | 1.018 | 0.020 | 1.043 | |
| addMetadata | 1.425 | 0.064 | 1.492 | |
| annoGR | 0 | 0 | 0 | |
| annoPeaks | 3.793 | 0.255 | 10.829 | |
| annotatePeakInBatch | 17.187 | 1.010 | 18.244 | |
| annotatedPeak | 0.054 | 0.004 | 0.057 | |
| assignChromosomeRegion | 0.000 | 0.000 | 0.001 | |
| bdp | 0.000 | 0.000 | 0.001 | |
| binOverFeature | 0.986 | 0.016 | 1.006 | |
| binOverGene | 0 | 0 | 0 | |
| binOverRegions | 0 | 0 | 0 | |
| condenseMatrixByColnames | 0.015 | 0.000 | 0.015 | |
| convert2EntrezID | 0.553 | 0.012 | 0.566 | |
| countPatternInSeqs | 0.220 | 0.000 | 0.222 | |
| cumulativePercentage | 0.000 | 0.000 | 0.001 | |
| downstreams | 0.036 | 0.000 | 0.036 | |
| egOrgMap | 0 | 0 | 0 | |
| enrichedGO | 0.003 | 0.000 | 0.002 | |
| enrichmentPlot | 0.703 | 0.016 | 0.721 | |
| estFragmentLength | 0 | 0 | 0 | |
| estLibSize | 0 | 0 | 0 | |
| featureAlignedDistribution | 0.305 | 0.016 | 0.322 | |
| featureAlignedExtendSignal | 0.001 | 0.000 | 0.001 | |
| featureAlignedHeatmap | 0.427 | 0.008 | 0.436 | |
| featureAlignedSignal | 0.234 | 0.016 | 0.251 | |
| findEnhancers | 33.388 | 0.730 | 34.202 | |
| findMotifsInPromoterSeqs | 20.426 | 0.271 | 21.417 | |
| findOverlappingPeaks | 0.001 | 0.000 | 0.001 | |
| findOverlapsOfPeaks | 2.614 | 0.032 | 2.651 | |
| genomicElementDistribution | 0.001 | 0.000 | 0.001 | |
| genomicElementUpSetR | 0.001 | 0.000 | 0.000 | |
| getAllPeakSequence | 0.699 | 0.036 | 0.744 | |
| getAnnotation | 0.001 | 0.000 | 0.001 | |
| getEnrichedGO | 0.012 | 0.000 | 0.012 | |
| getEnrichedPATH | 0.001 | 0.000 | 0.001 | |
| getGO | 0 | 0 | 0 | |
| getGeneSeq | 0.001 | 0.000 | 0.001 | |
| getUniqueGOidCount | 0.001 | 0.000 | 0.001 | |
| getVennCounts | 0.001 | 0.000 | 0.001 | |
| hyperGtest | 0.001 | 0.000 | 0.001 | |
| makeVennDiagram | 0.002 | 0.000 | 0.002 | |
| mergePlusMinusPeaks | 0.001 | 0.000 | 0.001 | |
| metagenePlot | 2.915 | 0.063 | 2.989 | |
| myPeakList | 0.015 | 0.000 | 0.015 | |
| oligoFrequency | 0.130 | 0.004 | 0.134 | |
| oligoSummary | 0.000 | 0.001 | 0.000 | |
| peakPermTest | 0.001 | 0.001 | 0.002 | |
| peaks1 | 0.012 | 0.000 | 0.011 | |
| peaks2 | 0.010 | 0.000 | 0.011 | |
| peaks3 | 0.011 | 0.000 | 0.011 | |
| peaksNearBDP | 0.001 | 0.000 | 0.000 | |
| pie1 | 0.007 | 0.000 | 0.006 | |
| plotBinOverRegions | 0.001 | 0.000 | 0.000 | |
| preparePool | 0 | 0 | 0 | |
| reCenterPeaks | 0.033 | 0.004 | 0.037 | |
| summarizeOverlapsByBins | 6.593 | 0.588 | 6.807 | |
| summarizePatternInPeaks | 1.957 | 0.351 | 2.317 | |
| tileCount | 0.275 | 0.221 | 0.433 | |
| tileGRanges | 0.173 | 0.165 | 0.057 | |
| toGRanges | 0.118 | 0.032 | 0.152 | |
| translatePattern | 0.001 | 0.000 | 0.000 | |
| wgEncodeTfbsV3 | 0.198 | 0.008 | 0.207 | |
| write2FASTA | 0.021 | 0.004 | 0.025 | |
| xget | 0.164 | 0.008 | 0.172 | |