| Back to Multiple platform build/check report for BioC 3.19: simplified long | 
 | 
This page was generated on 2024-06-11 14:43 -0400 (Tue, 11 Jun 2024).
| Hostname | OS | Arch (*) | R version | Installed pkgs | 
|---|---|---|---|---|
| nebbiolo1 | Linux (Ubuntu 22.04.3 LTS) | x86_64 | 4.4.0 (2024-04-24) -- "Puppy Cup" | 4757 | 
| palomino3 | Windows Server 2022 Datacenter | x64 | 4.4.0 (2024-04-24 ucrt) -- "Puppy Cup" | 4491 | 
| lconway | macOS 12.7.1 Monterey | x86_64 | 4.4.0 (2024-04-24) -- "Puppy Cup" | 4522 | 
| kjohnson3 | macOS 13.6.5 Ventura | arm64 | 4.4.0 (2024-04-24) -- "Puppy Cup" | 4468 | 
| Click on any hostname to see more info about the system (e.g. compilers) (*) as reported by 'uname -p', except on Windows and Mac OS X | ||||
| Package 273/2300 | Hostname | OS / Arch | INSTALL | BUILD | CHECK | BUILD BIN | ||||||||
| Cardinal 3.6.1  (landing page) Kylie Ariel Bemis 
 | nebbiolo1 | Linux (Ubuntu 22.04.3 LTS) / x86_64 | OK | OK | OK |  | ||||||||
| palomino3 | Windows Server 2022 Datacenter / x64 | OK | OK | OK | OK |  | ||||||||
| lconway | macOS 12.7.1 Monterey / x86_64 | OK | OK | OK | OK |  | ||||||||
| kjohnson3 | macOS 13.6.5 Ventura / arm64 | OK | OK | OK | OK |  | ||||||||
| To the developers/maintainers of the Cardinal package: - Allow up to 24 hours (and sometimes 48 hours) for your latest push to git@git.bioconductor.org:packages/Cardinal.git to reflect on this report. See Troubleshooting Build Report for more information. - Use the following Renviron settings to reproduce errors and warnings. - If 'R CMD check' started to fail recently on the Linux builder(s) over a missing dependency, add the missing dependency to 'Suggests:' in your DESCRIPTION file. See Renviron.bioc for more information. | 
| Package: Cardinal | 
| Version: 3.6.1 | 
| Command: /Library/Frameworks/R.framework/Resources/bin/R CMD check --install=check:Cardinal.install-out.txt --library=/Library/Frameworks/R.framework/Resources/library --no-vignettes --timings Cardinal_3.6.1.tar.gz | 
| StartedAt: 2024-06-10 09:36:52 -0400 (Mon, 10 Jun 2024) | 
| EndedAt: 2024-06-10 09:42:22 -0400 (Mon, 10 Jun 2024) | 
| EllapsedTime: 329.3 seconds | 
| RetCode: 0 | 
| Status: OK | 
| CheckDir: Cardinal.Rcheck | 
| Warnings: 0 | 
##############################################################################
##############################################################################
###
### Running command:
###
###   /Library/Frameworks/R.framework/Resources/bin/R CMD check --install=check:Cardinal.install-out.txt --library=/Library/Frameworks/R.framework/Resources/library --no-vignettes --timings Cardinal_3.6.1.tar.gz
###
##############################################################################
##############################################################################
* using log directory ‘/Users/biocbuild/bbs-3.19-bioc/meat/Cardinal.Rcheck’
* using R version 4.4.0 (2024-04-24)
* using platform: aarch64-apple-darwin20
* R was compiled by
    Apple clang version 14.0.0 (clang-1400.0.29.202)
    GNU Fortran (GCC) 12.2.0
* running under: macOS Ventura 13.6.5
* using session charset: UTF-8
* using option ‘--no-vignettes’
* checking for file ‘Cardinal/DESCRIPTION’ ... OK
* checking extension type ... Package
* this is package ‘Cardinal’ version ‘3.6.1’
* checking package namespace information ... OK
* checking package dependencies ... OK
* checking if this is a source package ... OK
* checking if there is a namespace ... OK
* checking for hidden files and directories ... OK
* checking for portable file names ... OK
* checking for sufficient/correct file permissions ... OK
* checking whether package ‘Cardinal’ can be installed ... OK
* checking installed package size ... OK
* checking package directory ... OK
* checking ‘build’ directory ... OK
* checking DESCRIPTION meta-information ... OK
* checking top-level files ... OK
* checking for left-over files ... OK
* checking index information ... OK
* checking package subdirectories ... OK
* checking code files for non-ASCII characters ... OK
* checking R files for syntax errors ... OK
* checking whether the package can be loaded ... OK
* checking whether the package can be loaded with stated dependencies ... OK
* checking whether the package can be unloaded cleanly ... OK
* checking whether the namespace can be loaded with stated dependencies ... OK
* checking whether the namespace can be unloaded cleanly ... OK
* checking whether startup messages can be suppressed ... OK
* checking dependencies in R code ... OK
* checking S3 generic/method consistency ... OK
* checking replacement functions ... OK
* checking foreign function calls ... OK
* checking R code for possible problems ... OK
* checking Rd files ... OK
* checking Rd metadata ... OK
* checking Rd cross-references ... OK
* checking for missing documentation entries ... OK
* checking for code/documentation mismatches ... OK
* checking Rd \usage sections ... OK
* checking Rd contents ... OK
* checking for unstated dependencies in examples ... OK
* checking files in ‘vignettes’ ... OK
* checking examples ... OK
* checking for unstated dependencies in ‘tests’ ... OK
* checking tests ...
  Running ‘testthat.R’
 OK
* checking for unstated dependencies in vignettes ... OK
* checking package vignettes ... OK
* checking running R code from vignettes ... SKIPPED
* checking re-building of vignette outputs ... SKIPPED
* checking PDF version of manual ... OK
* DONE
Status: OK
Cardinal.Rcheck/00install.out
############################################################################## ############################################################################## ### ### Running command: ### ### /Library/Frameworks/R.framework/Resources/bin/R CMD INSTALL Cardinal ### ############################################################################## ############################################################################## * installing to library ‘/Library/Frameworks/R.framework/Versions/4.4-arm64/Resources/library’ * installing *source* package ‘Cardinal’ ... ** using staged installation ** R ** inst ** byte-compile and prepare package for lazy loading ** help *** installing help indices ** building package indices ** installing vignettes ** testing if installed package can be loaded from temporary location ** testing if installed package can be loaded from final location ** testing if installed package keeps a record of temporary installation path * DONE (Cardinal)
Cardinal.Rcheck/tests/testthat.Rout
R version 4.4.0 (2024-04-24) -- "Puppy Cup"
Copyright (C) 2024 The R Foundation for Statistical Computing
Platform: aarch64-apple-darwin20
R is free software and comes with ABSOLUTELY NO WARRANTY.
You are welcome to redistribute it under certain conditions.
Type 'license()' or 'licence()' for distribution details.
R is a collaborative project with many contributors.
Type 'contributors()' for more information and
'citation()' on how to cite R or R packages in publications.
Type 'demo()' for some demos, 'help()' for on-line help, or
'help.start()' for an HTML browser interface to help.
Type 'q()' to quit R.
> library(testthat)
> library(Cardinal)
Loading required package: ProtGenerics
Attaching package: 'ProtGenerics'
The following object is masked from 'package:stats':
    smooth
Loading required package: BiocGenerics
Attaching package: 'BiocGenerics'
The following objects are masked from 'package:stats':
    IQR, mad, sd, var, xtabs
The following objects are masked from 'package:base':
    Filter, Find, Map, Position, Reduce, anyDuplicated, aperm, append,
    as.data.frame, basename, cbind, colnames, dirname, do.call,
    duplicated, eval, evalq, get, grep, grepl, intersect, is.unsorted,
    lapply, mapply, match, mget, order, paste, pmax, pmax.int, pmin,
    pmin.int, rank, rbind, rownames, sapply, setdiff, table, tapply,
    union, unique, unsplit, which.max, which.min
Loading required package: BiocParallel
Loading required package: S4Vectors
Loading required package: stats4
Attaching package: 'S4Vectors'
The following object is masked from 'package:utils':
    findMatches
The following objects are masked from 'package:base':
    I, expand.grid, unname
Cardinal v3.6 is a major update.
Use vignette('Cardinal3-guide') to see what's new.
> 
> test_check("Cardinal")
[ FAIL 0 | WARN 0 | SKIP 0 | PASS 710 ]
> 
> proc.time()
   user  system elapsed 
116.105   3.405 136.228 
Cardinal.Rcheck/Cardinal-Ex.timings
| name | user | system | elapsed | |
| MSImagingArrays-class | 0.391 | 0.011 | 0.488 | |
| MSImagingExperiment-class | 0.136 | 0.003 | 0.191 | |
| MassDataFrame-class | 0.028 | 0.001 | 0.030 | |
| PositionDataFrame-class | 0.048 | 0.001 | 0.049 | |
| SpatialNMF | 1.056 | 0.068 | 1.134 | |
| SpatialPCA | 0.832 | 0.022 | 1.056 | |
| SpatialPLS | 0.768 | 0.019 | 0.891 | |
| SpectraArrays-class | 0.011 | 0.001 | 0.015 | |
| SpectralImagingArrays-class | 0.073 | 0.001 | 0.101 | |
| SpectralImagingExperiment-class | 0.080 | 0.002 | 0.108 | |
| XDataFrame-class | 0.032 | 0.001 | 0.047 | |
| bin | 0.589 | 0.018 | 0.644 | |
| colocalized | 1.522 | 0.025 | 2.032 | |
| features | 0.617 | 0.021 | 0.718 | |
| findNeighbors | 0.066 | 0.003 | 0.098 | |
| meansTest | 3.842 | 0.044 | 4.698 | |
| normalize | 0.560 | 0.005 | 0.732 | |
| peakAlign | 0.733 | 0.010 | 0.794 | |
| peakPick | 0.922 | 0.011 | 0.979 | |
| peakProcess | 0.821 | 0.011 | 1.020 | |
| pixels | 0.698 | 0.009 | 0.964 | |
| plot-image | 1.483 | 0.049 | 1.949 | |
| plot-spectra | 0.876 | 0.022 | 1.226 | |
| process | 0.846 | 0.011 | 1.014 | |
| recalibrate | 0.869 | 0.014 | 1.130 | |
| reduceBaseline | 0.816 | 0.009 | 0.942 | |
| simulateSpectra | 1.020 | 0.034 | 1.274 | |
| slice | 1.372 | 0.020 | 1.793 | |
| smooth | 0.764 | 0.017 | 0.801 | |
| spatialDGMM | 1.225 | 0.025 | 1.472 | |
| spatialFastmap | 1.478 | 0.027 | 1.673 | |
| spatialKMeans | 1.016 | 0.016 | 1.202 | |
| spatialShrunkenCentroids | 2.031 | 0.070 | 2.246 | |
| spatialWeights | 0.692 | 0.026 | 0.722 | |
| spectrapply | 0.575 | 0.013 | 0.659 | |
| subset | 0.840 | 0.010 | 0.981 | |
| summarize | 0.829 | 0.018 | 0.881 | |