| Back to Multiple platform build/check report for BioC 3.19: simplified long | 
 | 
This page was generated on 2024-10-18 20:40 -0400 (Fri, 18 Oct 2024).
| Hostname | OS | Arch (*) | R version | Installed pkgs | 
|---|---|---|---|---|
| nebbiolo1 | Linux (Ubuntu 22.04.3 LTS) | x86_64 | 4.4.1 (2024-06-14) -- "Race for Your Life" | 4763 | 
| palomino7 | Windows Server 2022 Datacenter | x64 | 4.4.1 (2024-06-14 ucrt) -- "Race for Your Life" | 4500 | 
| merida1 | macOS 12.7.5 Monterey | x86_64 | 4.4.1 (2024-06-14) -- "Race for Your Life" | 4530 | 
| kjohnson1 | macOS 13.6.6 Ventura | arm64 | 4.4.1 (2024-06-14) -- "Race for Your Life" | 4480 | 
| Click on any hostname to see more info about the system (e.g. compilers) (*) as reported by 'uname -p', except on Windows and Mac OS X | ||||
| Package 478/2300 | Hostname | OS / Arch | INSTALL | BUILD | CHECK | BUILD BIN | ||||||||
| CTexploreR 1.0.0  (landing page) Axelle Loriot 
 | nebbiolo1 | Linux (Ubuntu 22.04.3 LTS) / x86_64 | OK | OK | OK |  | ||||||||
| palomino7 | Windows Server 2022 Datacenter / x64 | OK | OK | OK | OK |  | ||||||||
| merida1 | macOS 12.7.5 Monterey / x86_64 | OK | OK | OK | OK |  | ||||||||
| kjohnson1 | macOS 13.6.6 Ventura / arm64 | OK | OK | OK | OK |  | ||||||||
| To the developers/maintainers of the CTexploreR package: - Allow up to 24 hours (and sometimes 48 hours) for your latest push to git@git.bioconductor.org:packages/CTexploreR.git to reflect on this report. See Troubleshooting Build Report for more information. - Use the following Renviron settings to reproduce errors and warnings. - If 'R CMD check' started to fail recently on the Linux builder(s) over a missing dependency, add the missing dependency to 'Suggests:' in your DESCRIPTION file. See Renviron.bioc for more information. | 
| Package: CTexploreR | 
| Version: 1.0.0 | 
| Command: rm -rf CTexploreR.buildbin-libdir && mkdir CTexploreR.buildbin-libdir && /Users/biocbuild/BBS/utils/build-universal.sh CTexploreR_1.0.0.tar.gz /Library/Frameworks/R.framework/Resources/bin/R CTexploreR.buildbin-libdir | 
| StartedAt: 2024-10-17 15:57:06 -0400 (Thu, 17 Oct 2024) | 
| EndedAt: 2024-10-17 15:58:36 -0400 (Thu, 17 Oct 2024) | 
| EllapsedTime: 90.3 seconds | 
| RetCode: 0 | 
| Status: OK | 
| PackageFile: CTexploreR_1.0.0.tgz | 
| PackageFileSize: 3.681 MiB | 
##############################################################################
##############################################################################
###
### Running command:
###
###   rm -rf CTexploreR.buildbin-libdir && mkdir CTexploreR.buildbin-libdir && /Users/biocbuild/BBS/utils/build-universal.sh CTexploreR_1.0.0.tar.gz /Library/Frameworks/R.framework/Resources/bin/R CTexploreR.buildbin-libdir
###
##############################################################################
##############################################################################
>>>>>>> 
>>>>>>> INSTALLATION WITH 'R CMD INSTALL --preclean --no-multiarch --library=CTexploreR.buildbin-libdir CTexploreR_1.0.0.tar.gz'
>>>>>>> 
* installing *source* package ‘CTexploreR’ ...
** using staged installation
** R
** inst
** byte-compile and prepare package for lazy loading
see ?CTdata and browseVignettes('CTdata') for documentation
loading from cache
** help
*** installing help indices
** building package indices
** installing vignettes
** testing if installed package can be loaded from temporary location
** testing if installed package can be loaded from final location
** testing if installed package keeps a record of temporary installation path
* DONE (CTexploreR)