| Back to Multiple platform build/check report for BioC 3.19: simplified long |
|
This page was generated on 2024-10-18 20:41 -0400 (Fri, 18 Oct 2024).
| Hostname | OS | Arch (*) | R version | Installed pkgs |
|---|---|---|---|---|
| nebbiolo1 | Linux (Ubuntu 22.04.3 LTS) | x86_64 | 4.4.1 (2024-06-14) -- "Race for Your Life" | 4763 |
| palomino7 | Windows Server 2022 Datacenter | x64 | 4.4.1 (2024-06-14 ucrt) -- "Race for Your Life" | 4500 |
| merida1 | macOS 12.7.5 Monterey | x86_64 | 4.4.1 (2024-06-14) -- "Race for Your Life" | 4530 |
| kjohnson1 | macOS 13.6.6 Ventura | arm64 | 4.4.1 (2024-06-14) -- "Race for Your Life" | 4480 |
| Click on any hostname to see more info about the system (e.g. compilers) (*) as reported by 'uname -p', except on Windows and Mac OS X | ||||
| Package 353/2300 | Hostname | OS / Arch | INSTALL | BUILD | CHECK | BUILD BIN | ||||||||
| CIMICE 1.12.0 (landing page) Nicolò Rossi
| nebbiolo1 | Linux (Ubuntu 22.04.3 LTS) / x86_64 | OK | OK | OK | |||||||||
| palomino7 | Windows Server 2022 Datacenter / x64 | OK | OK | OK | OK | |||||||||
| merida1 | macOS 12.7.5 Monterey / x86_64 | OK | OK | OK | OK | |||||||||
| kjohnson1 | macOS 13.6.6 Ventura / arm64 | OK | OK | OK | OK | |||||||||
|
To the developers/maintainers of the CIMICE package: - Allow up to 24 hours (and sometimes 48 hours) for your latest push to git@git.bioconductor.org:packages/CIMICE.git to reflect on this report. See Troubleshooting Build Report for more information. - Use the following Renviron settings to reproduce errors and warnings. - If 'R CMD check' started to fail recently on the Linux builder(s) over a missing dependency, add the missing dependency to 'Suggests:' in your DESCRIPTION file. See Renviron.bioc for more information. |
| Package: CIMICE |
| Version: 1.12.0 |
| Command: /Library/Frameworks/R.framework/Resources/bin/R CMD check --install=check:CIMICE.install-out.txt --library=/Library/Frameworks/R.framework/Resources/library --no-vignettes --timings CIMICE_1.12.0.tar.gz |
| StartedAt: 2024-10-17 16:12:20 -0400 (Thu, 17 Oct 2024) |
| EndedAt: 2024-10-17 16:14:02 -0400 (Thu, 17 Oct 2024) |
| EllapsedTime: 102.0 seconds |
| RetCode: 0 |
| Status: OK |
| CheckDir: CIMICE.Rcheck |
| Warnings: 0 |
##############################################################################
##############################################################################
###
### Running command:
###
### /Library/Frameworks/R.framework/Resources/bin/R CMD check --install=check:CIMICE.install-out.txt --library=/Library/Frameworks/R.framework/Resources/library --no-vignettes --timings CIMICE_1.12.0.tar.gz
###
##############################################################################
##############################################################################
* using log directory ‘/Users/biocbuild/bbs-3.19-bioc/meat/CIMICE.Rcheck’
* using R version 4.4.1 (2024-06-14)
* using platform: aarch64-apple-darwin20
* R was compiled by
Apple clang version 14.0.0 (clang-1400.0.29.202)
GNU Fortran (GCC) 12.2.0
* running under: macOS Ventura 13.6.6
* using session charset: UTF-8
* using option ‘--no-vignettes’
* checking for file ‘CIMICE/DESCRIPTION’ ... OK
* checking extension type ... Package
* this is package ‘CIMICE’ version ‘1.12.0’
* package encoding: UTF-8
* checking package namespace information ... OK
* checking package dependencies ... OK
* checking if this is a source package ... OK
* checking if there is a namespace ... OK
* checking for hidden files and directories ... NOTE
Found the following hidden files and directories:
.git.bfg-report
These were most likely included in error. See section ‘Package
structure’ in the ‘Writing R Extensions’ manual.
* checking for portable file names ... OK
* checking for sufficient/correct file permissions ... OK
* checking whether package ‘CIMICE’ can be installed ... OK
* checking installed package size ... OK
* checking package directory ... OK
* checking ‘build’ directory ... OK
* checking DESCRIPTION meta-information ... OK
* checking top-level files ... OK
* checking for left-over files ... OK
* checking index information ... OK
* checking package subdirectories ... OK
* checking code files for non-ASCII characters ... OK
* checking R files for syntax errors ... OK
* checking whether the package can be loaded ... OK
* checking whether the package can be loaded with stated dependencies ... OK
* checking whether the package can be unloaded cleanly ... OK
* checking whether the namespace can be loaded with stated dependencies ... OK
* checking whether the namespace can be unloaded cleanly ... OK
* checking dependencies in R code ... OK
* checking S3 generic/method consistency ... OK
* checking replacement functions ... OK
* checking foreign function calls ... OK
* checking R code for possible problems ... OK
* checking Rd files ... OK
* checking Rd metadata ... OK
* checking Rd cross-references ... OK
* checking for missing documentation entries ... OK
* checking for code/documentation mismatches ... OK
* checking Rd \usage sections ... OK
* checking Rd contents ... OK
* checking for unstated dependencies in examples ... OK
* checking files in ‘vignettes’ ... OK
* checking examples ... OK
* checking for unstated dependencies in ‘tests’ ... OK
* checking tests ...
Running ‘testthat.R’
OK
* checking for unstated dependencies in vignettes ... OK
* checking package vignettes ... OK
* checking running R code from vignettes ... SKIPPED
* checking re-building of vignette outputs ... SKIPPED
* checking PDF version of manual ... OK
* DONE
Status: 1 NOTE
See
‘/Users/biocbuild/bbs-3.19-bioc/meat/CIMICE.Rcheck/00check.log’
for details.
CIMICE.Rcheck/00install.out
############################################################################## ############################################################################## ### ### Running command: ### ### /Library/Frameworks/R.framework/Resources/bin/R CMD INSTALL CIMICE ### ############################################################################## ############################################################################## * installing to library ‘/Library/Frameworks/R.framework/Versions/4.4-arm64/Resources/library’ * installing *source* package ‘CIMICE’ ... ** using staged installation ** R ** inst ** byte-compile and prepare package for lazy loading ** help *** installing help indices ** building package indices ** installing vignettes ** testing if installed package can be loaded from temporary location ** testing if installed package can be loaded from final location ** testing if installed package keeps a record of temporary installation path * DONE (CIMICE)
CIMICE.Rcheck/tests/testthat.Rout
R version 4.4.1 (2024-06-14) -- "Race for Your Life"
Copyright (C) 2024 The R Foundation for Statistical Computing
Platform: aarch64-apple-darwin20
R is free software and comes with ABSOLUTELY NO WARRANTY.
You are welcome to redistribute it under certain conditions.
Type 'license()' or 'licence()' for distribution details.
R is a collaborative project with many contributors.
Type 'contributors()' for more information and
'citation()' on how to cite R or R packages in publications.
Type 'demo()' for some demos, 'help()' for on-line help, or
'help.start()' for an HTML browser interface to help.
Type 'q()' to quit R.
> library(testthat)
> library(CIMICE)
>
> test_check("CIMICE")
[ FAIL 0 | WARN 0 | SKIP 0 | PASS 1 ]
>
> proc.time()
user system elapsed
3.145 0.311 4.444
CIMICE.Rcheck/CIMICE-Ex.timings
| name | user | system | elapsed | |
| annotate_mutational_matrix | 0.033 | 0.003 | 0.053 | |
| binary_radix_sort | 0.024 | 0.001 | 0.030 | |
| build_subset_graph | 0.053 | 0.003 | 0.085 | |
| build_topology_subset | 0.032 | 0.001 | 0.049 | |
| chunk_reader | 0.008 | 0.001 | 0.010 | |
| compact_dataset | 0.008 | 0.001 | 0.009 | |
| computeDWNW | 0.068 | 0.003 | 0.099 | |
| computeUPW | 0.062 | 0.003 | 0.077 | |
| compute_weights_default | 0.047 | 0.002 | 0.069 | |
| corrplot_from_mutational_matrix | 0.302 | 0.014 | 0.415 | |
| corrplot_genes | 0.320 | 0.004 | 0.437 | |
| corrplot_samples | 0.165 | 0.002 | 0.219 | |
| dataset_preprocessing | 0.022 | 0.001 | 0.022 | |
| dataset_preprocessing_population | 0.021 | 0.001 | 0.035 | |
| draw_ggraph | 0.305 | 0.004 | 0.413 | |
| draw_networkD3 | 0.589 | 0.015 | 0.798 | |
| draw_visNetwork | 0.054 | 0.013 | 0.104 | |
| example_dataset | 0.002 | 0.000 | 0.002 | |
| example_dataset_withFreqs | 0.002 | 0.000 | 0.002 | |
| finalize_generator | 0.184 | 0.010 | 0.286 | |
| fix_clonal_genotype | 0.024 | 0.002 | 0.040 | |
| format_labels | 0.001 | 0.000 | 0.001 | |
| gene_mutations_hist | 0.143 | 0.014 | 0.204 | |
| get_no_of_children | 0.049 | 0.005 | 0.071 | |
| graph_non_transitive_subset_topology | 0.047 | 0.004 | 0.077 | |
| make_dataset | 0.003 | 0.000 | 0.003 | |
| make_generator_stub | 0.079 | 0.009 | 0.117 | |
| make_labels | 0.044 | 0.003 | 0.062 | |
| normalizeDWNW | 0.057 | 0.003 | 0.086 | |
| normalizeUPW | 0.053 | 0.003 | 0.067 | |
| perturb_dataset | 0.172 | 0.006 | 0.248 | |
| plot_generator | 0.360 | 0.011 | 0.496 | |
| prepare_generator_edge_set_command | 0.102 | 0.004 | 0.137 | |
| prepare_labels | 0.024 | 0.002 | 0.035 | |
| quick_run | 0.032 | 0.001 | 0.039 | |
| read | 0.761 | 0.476 | 1.648 | |
| read_CAPRI | 0.762 | 0.475 | 1.657 | |
| read_CAPRI_string | 0.005 | 0.000 | 0.005 | |
| read_CAPRIpop | 0.004 | 0.001 | 0.005 | |
| read_CAPRIpop_string | 0.004 | 0.000 | 0.004 | |
| read_MAF | 0.223 | 0.054 | 0.372 | |
| read_matrix | 0.003 | 0.000 | 0.003 | |
| remove_transitive_edges | 0.000 | 0.000 | 0.001 | |
| sample_mutations_hist | 0.140 | 0.002 | 0.188 | |
| select_genes_on_mutations | 0.004 | 0.001 | 0.005 | |
| select_samples_on_mutations | 0.023 | 0.002 | 0.034 | |
| set_generator_edges | 0.122 | 0.005 | 0.173 | |
| simulate_generator | 0.114 | 0.005 | 0.154 | |
| to_dot | 0.046 | 0.002 | 0.064 | |
| update_df | 0.020 | 0.001 | 0.027 | |