| Back to Multiple platform build/check report for BioC 3.19: simplified long |
|
This page was generated on 2024-06-11 14:43 -0400 (Tue, 11 Jun 2024).
| Hostname | OS | Arch (*) | R version | Installed pkgs |
|---|---|---|---|---|
| nebbiolo1 | Linux (Ubuntu 22.04.3 LTS) | x86_64 | 4.4.0 (2024-04-24) -- "Puppy Cup" | 4757 |
| palomino3 | Windows Server 2022 Datacenter | x64 | 4.4.0 (2024-04-24 ucrt) -- "Puppy Cup" | 4491 |
| lconway | macOS 12.7.1 Monterey | x86_64 | 4.4.0 (2024-04-24) -- "Puppy Cup" | 4522 |
| kjohnson3 | macOS 13.6.5 Ventura | arm64 | 4.4.0 (2024-04-24) -- "Puppy Cup" | 4468 |
| Click on any hostname to see more info about the system (e.g. compilers) (*) as reported by 'uname -p', except on Windows and Mac OS X | ||||
| Package 310/2300 | Hostname | OS / Arch | INSTALL | BUILD | CHECK | BUILD BIN | ||||||||
| CEMiTool 1.28.0 (landing page) Helder Nakaya
| nebbiolo1 | Linux (Ubuntu 22.04.3 LTS) / x86_64 | OK | OK | OK | |||||||||
| palomino3 | Windows Server 2022 Datacenter / x64 | OK | OK | OK | OK | |||||||||
| lconway | macOS 12.7.1 Monterey / x86_64 | OK | OK | OK | OK | |||||||||
| kjohnson3 | macOS 13.6.5 Ventura / arm64 | OK | OK | OK | OK | |||||||||
|
To the developers/maintainers of the CEMiTool package: - Allow up to 24 hours (and sometimes 48 hours) for your latest push to git@git.bioconductor.org:packages/CEMiTool.git to reflect on this report. See Troubleshooting Build Report for more information. - Use the following Renviron settings to reproduce errors and warnings. - If 'R CMD check' started to fail recently on the Linux builder(s) over a missing dependency, add the missing dependency to 'Suggests:' in your DESCRIPTION file. See Renviron.bioc for more information. |
| Package: CEMiTool |
| Version: 1.28.0 |
| Command: /Library/Frameworks/R.framework/Resources/bin/R CMD check --install=check:CEMiTool.install-out.txt --library=/Library/Frameworks/R.framework/Resources/library --no-vignettes --timings CEMiTool_1.28.0.tar.gz |
| StartedAt: 2024-06-10 10:04:11 -0400 (Mon, 10 Jun 2024) |
| EndedAt: 2024-06-10 10:11:58 -0400 (Mon, 10 Jun 2024) |
| EllapsedTime: 466.5 seconds |
| RetCode: 0 |
| Status: OK |
| CheckDir: CEMiTool.Rcheck |
| Warnings: 0 |
##############################################################################
##############################################################################
###
### Running command:
###
### /Library/Frameworks/R.framework/Resources/bin/R CMD check --install=check:CEMiTool.install-out.txt --library=/Library/Frameworks/R.framework/Resources/library --no-vignettes --timings CEMiTool_1.28.0.tar.gz
###
##############################################################################
##############################################################################
* using log directory ‘/Users/biocbuild/bbs-3.19-bioc/meat/CEMiTool.Rcheck’
* using R version 4.4.0 (2024-04-24)
* using platform: aarch64-apple-darwin20
* R was compiled by
Apple clang version 14.0.0 (clang-1400.0.29.202)
GNU Fortran (GCC) 12.2.0
* running under: macOS Ventura 13.6.5
* using session charset: UTF-8
* using option ‘--no-vignettes’
* checking for file ‘CEMiTool/DESCRIPTION’ ... OK
* this is package ‘CEMiTool’ version ‘1.28.0’
* package encoding: UTF-8
* checking package namespace information ... OK
* checking package dependencies ... OK
* checking if this is a source package ... OK
* checking if there is a namespace ... OK
* checking for hidden files and directories ... OK
* checking for portable file names ... OK
* checking for sufficient/correct file permissions ... OK
* checking whether package ‘CEMiTool’ can be installed ... OK
* checking installed package size ... NOTE
installed size is 6.5Mb
sub-directories of 1Mb or more:
data 3.1Mb
extdata 2.8Mb
* checking package directory ... OK
* checking ‘build’ directory ... OK
* checking DESCRIPTION meta-information ... OK
* checking top-level files ... OK
* checking for left-over files ... OK
* checking index information ... OK
* checking package subdirectories ... OK
* checking code files for non-ASCII characters ... OK
* checking R files for syntax errors ... OK
* checking whether the package can be loaded ... OK
* checking whether the package can be loaded with stated dependencies ... OK
* checking whether the package can be unloaded cleanly ... OK
* checking whether the namespace can be loaded with stated dependencies ... OK
* checking whether the namespace can be unloaded cleanly ... OK
* checking dependencies in R code ... OK
* checking S3 generic/method consistency ... OK
* checking replacement functions ... OK
* checking foreign function calls ... OK
* checking R code for possible problems ... NOTE
flip_vector: no visible global function definition for ‘setNames’
select_genes: no visible global function definition for ‘var’
get_hubs,CEMiTool : <anonymous>: no visible global function definition
for ‘head’
get_merged_mods,CEMiTool: no visible global function definition for
‘as.dist’
get_mods,CEMiTool: no visible global function definition for ‘as.dist’
get_phi,CEMiTool: no visible global function definition for ‘tail’
get_phi,CEMiTool: no visible global function definition for ‘head’
mod_gene_num,CEMiTool: no visible binding for global variable ‘modules’
mod_gene_num,CEMiTool: no visible binding for global variable
‘num_genes’
mod_summary,CEMiTool: no visible global function definition for ‘:=’
plot_gsea,CEMiTool: no visible global function definition for ‘dist’
plot_mean_var,CEMiTool: no visible binding for global variable ‘var’
plot_mean_var,CEMiTool: no visible binding for global variable ‘Mean’
plot_mean_var,CEMiTool: no visible binding for global variable
‘Variance’
plot_mean_var,CEMiTool: no visible binding for global variable
‘..eq.label..’
plot_mean_var,CEMiTool: no visible binding for global variable
‘..rr.label..’
plot_ora,CEMiTool : <anonymous>: no visible global function definition
for ‘head’
plot_qq,CEMiTool: no visible binding for global variable ‘data’
plot_sample_tree,CEMiTool: no visible global function definition for
‘dist’
plot_sample_tree,CEMiTool: no visible global function definition for
‘dev.off’
save_plots,CEMiTool : <anonymous>: no visible global function
definition for ‘dev.off’
save_plots,CEMiTool: no visible global function definition for
‘dev.off’
Undefined global functions or variables:
..eq.label.. ..rr.label.. := Mean Variance as.dist data dev.off dist
head modules num_genes setNames tail var
Consider adding
importFrom("grDevices", "dev.off")
importFrom("stats", "as.dist", "dist", "setNames", "var")
importFrom("utils", "data", "head", "tail")
to your NAMESPACE file.
* checking Rd files ... OK
* checking Rd metadata ... OK
* checking Rd cross-references ... OK
* checking for missing documentation entries ... OK
* checking for code/documentation mismatches ... OK
* checking Rd \usage sections ... OK
* checking Rd contents ... OK
* checking for unstated dependencies in examples ... OK
* checking contents of ‘data’ directory ... OK
* checking data for non-ASCII characters ... OK
* checking LazyData ... OK
* checking data for ASCII and uncompressed saves ... OK
* checking files in ‘vignettes’ ... OK
* checking examples ... OK
Examples with CPU (user + system) or elapsed time > 5s
user system elapsed
cemitool 13.895 0.246 20.088
plot_interactions 9.224 0.178 13.304
gsea_data 5.447 0.045 7.478
ora_data 3.659 0.078 5.259
plot_ora 3.537 0.105 5.084
* checking for unstated dependencies in ‘tests’ ... OK
* checking tests ...
Running ‘testthat.R’
OK
* checking for unstated dependencies in vignettes ... OK
* checking package vignettes ... OK
* checking running R code from vignettes ... SKIPPED
* checking re-building of vignette outputs ... SKIPPED
* checking PDF version of manual ... OK
* DONE
Status: 2 NOTEs
See
‘/Users/biocbuild/bbs-3.19-bioc/meat/CEMiTool.Rcheck/00check.log’
for details.
CEMiTool.Rcheck/00install.out
############################################################################## ############################################################################## ### ### Running command: ### ### /Library/Frameworks/R.framework/Resources/bin/R CMD INSTALL CEMiTool ### ############################################################################## ############################################################################## * installing to library ‘/Library/Frameworks/R.framework/Versions/4.4-arm64/Resources/library’ * installing *source* package ‘CEMiTool’ ... ** using staged installation ** R ** data *** moving datasets to lazyload DB ** exec ** inst ** byte-compile and prepare package for lazy loading ** help *** installing help indices ** building package indices ** installing vignettes ** testing if installed package can be loaded from temporary location ** testing if installed package can be loaded from final location ** testing if installed package keeps a record of temporary installation path * DONE (CEMiTool)
CEMiTool.Rcheck/tests/testthat.Rout
R version 4.4.0 (2024-04-24) -- "Puppy Cup"
Copyright (C) 2024 The R Foundation for Statistical Computing
Platform: aarch64-apple-darwin20
R is free software and comes with ABSOLUTELY NO WARRANTY.
You are welcome to redistribute it under certain conditions.
Type 'license()' or 'licence()' for distribution details.
R is a collaborative project with many contributors.
Type 'contributors()' for more information and
'citation()' on how to cite R or R packages in publications.
Type 'demo()' for some demos, 'help()' for on-line help, or
'help.start()' for an HTML browser interface to help.
Type 'q()' to quit R.
> library(testthat)
> library(CEMiTool)
> test_check('CEMiTool')
[ FAIL 0 | WARN 13 | SKIP 0 | PASS 105 ]
[ FAIL 0 | WARN 13 | SKIP 0 | PASS 105 ]
>
> proc.time()
user system elapsed
33.318 1.399 49.172
CEMiTool.Rcheck/CEMiTool-Ex.timings
| name | user | system | elapsed | |
| CEMiTool-class | 0.017 | 0.004 | 0.031 | |
| adj_data | 1.216 | 0.022 | 1.732 | |
| cem | 0.019 | 0.004 | 0.023 | |
| cemitool | 13.895 | 0.246 | 20.088 | |
| expr0 | 0.001 | 0.002 | 0.003 | |
| expr_data | 0.140 | 0.009 | 0.211 | |
| filter_expr | 1.127 | 0.016 | 1.582 | |
| find_modules | 2.641 | 0.035 | 3.851 | |
| fit_data | 2.649 | 0.038 | 3.739 | |
| generate_report | 0 | 0 | 0 | |
| get_adj | 0.146 | 0.009 | 0.226 | |
| get_beta_data | 1.218 | 0.017 | 1.723 | |
| get_cemitool_r2_beta | 2.611 | 0.033 | 3.736 | |
| get_connectivity | 2.638 | 0.036 | 3.753 | |
| get_hubs | 0.018 | 0.003 | 0.031 | |
| get_merged_mods | 1.365 | 0.022 | 1.973 | |
| get_mods | 1.232 | 0.018 | 1.754 | |
| get_phi | 2.585 | 0.028 | 3.199 | |
| gsea_data | 5.447 | 0.045 | 7.478 | |
| interactions_data | 0.272 | 0.022 | 0.417 | |
| mod_colors | 0.018 | 0.003 | 0.024 | |
| mod_gene_num | 0.084 | 0.006 | 0.120 | |
| mod_gsea | 1.575 | 0.022 | 2.289 | |
| mod_names | 0.057 | 0.006 | 0.095 | |
| mod_ora | 2.563 | 0.075 | 3.667 | |
| mod_summary | 0.183 | 0.009 | 0.277 | |
| module_genes | 0.024 | 0.006 | 0.049 | |
| new_cem | 0.058 | 0.007 | 0.103 | |
| nmodules | 0.018 | 0.003 | 0.030 | |
| ora_data | 3.659 | 0.078 | 5.259 | |
| plot_beta_r2 | 0.211 | 0.012 | 0.310 | |
| plot_gsea | 1.717 | 0.032 | 2.403 | |
| plot_hist | 0.303 | 0.010 | 0.454 | |
| plot_interactions | 9.224 | 0.178 | 13.304 | |
| plot_mean_k | 0.178 | 0.006 | 0.261 | |
| plot_mean_var | 0.446 | 0.027 | 0.697 | |
| plot_ora | 3.537 | 0.105 | 5.084 | |
| plot_profile | 1.763 | 0.041 | 2.511 | |
| plot_qq | 0.336 | 0.019 | 0.522 | |
| plot_sample_tree | 0.701 | 0.020 | 1.051 | |
| read_gmt | 0.599 | 0.014 | 0.856 | |
| sample_annot | 0.003 | 0.004 | 0.008 | |
| sample_annotation | 0.018 | 0.005 | 0.027 | |
| save_plots | 1.133 | 0.021 | 1.629 | |
| select_genes | 0.149 | 0.008 | 0.205 | |
| show_plot | 0.151 | 0.006 | 0.217 | |
| write_files | 0.423 | 0.032 | 0.655 | |