| Back to Multiple platform build/check report for BioC 3.19: simplified long |
|
This page was generated on 2024-06-11 14:43 -0400 (Tue, 11 Jun 2024).
| Hostname | OS | Arch (*) | R version | Installed pkgs |
|---|---|---|---|---|
| nebbiolo1 | Linux (Ubuntu 22.04.3 LTS) | x86_64 | 4.4.0 (2024-04-24) -- "Puppy Cup" | 4757 |
| palomino3 | Windows Server 2022 Datacenter | x64 | 4.4.0 (2024-04-24 ucrt) -- "Puppy Cup" | 4491 |
| lconway | macOS 12.7.1 Monterey | x86_64 | 4.4.0 (2024-04-24) -- "Puppy Cup" | 4522 |
| kjohnson3 | macOS 13.6.5 Ventura | arm64 | 4.4.0 (2024-04-24) -- "Puppy Cup" | 4468 |
| Click on any hostname to see more info about the system (e.g. compilers) (*) as reported by 'uname -p', except on Windows and Mac OS X | ||||
| Package 262/2300 | Hostname | OS / Arch | INSTALL | BUILD | CHECK | BUILD BIN | ||||||||
| CAGEfightR 1.24.0 (landing page) Malte Thodberg
| nebbiolo1 | Linux (Ubuntu 22.04.3 LTS) / x86_64 | OK | OK | OK | |||||||||
| palomino3 | Windows Server 2022 Datacenter / x64 | OK | OK | OK | OK | |||||||||
| lconway | macOS 12.7.1 Monterey / x86_64 | OK | OK | OK | OK | |||||||||
| kjohnson3 | macOS 13.6.5 Ventura / arm64 | OK | OK | OK | OK | |||||||||
|
To the developers/maintainers of the CAGEfightR package: - Allow up to 24 hours (and sometimes 48 hours) for your latest push to git@git.bioconductor.org:packages/CAGEfightR.git to reflect on this report. See Troubleshooting Build Report for more information. - Use the following Renviron settings to reproduce errors and warnings. - If 'R CMD check' started to fail recently on the Linux builder(s) over a missing dependency, add the missing dependency to 'Suggests:' in your DESCRIPTION file. See Renviron.bioc for more information. |
| Package: CAGEfightR |
| Version: 1.24.0 |
| Command: /Library/Frameworks/R.framework/Resources/bin/R CMD check --install=check:CAGEfightR.install-out.txt --library=/Library/Frameworks/R.framework/Resources/library --no-vignettes --timings CAGEfightR_1.24.0.tar.gz |
| StartedAt: 2024-06-10 09:27:55 -0400 (Mon, 10 Jun 2024) |
| EndedAt: 2024-06-10 09:36:52 -0400 (Mon, 10 Jun 2024) |
| EllapsedTime: 537.9 seconds |
| RetCode: 0 |
| Status: OK |
| CheckDir: CAGEfightR.Rcheck |
| Warnings: 0 |
##############################################################################
##############################################################################
###
### Running command:
###
### /Library/Frameworks/R.framework/Resources/bin/R CMD check --install=check:CAGEfightR.install-out.txt --library=/Library/Frameworks/R.framework/Resources/library --no-vignettes --timings CAGEfightR_1.24.0.tar.gz
###
##############################################################################
##############################################################################
* using log directory ‘/Users/biocbuild/bbs-3.19-bioc/meat/CAGEfightR.Rcheck’
* using R version 4.4.0 (2024-04-24)
* using platform: aarch64-apple-darwin20
* R was compiled by
Apple clang version 14.0.0 (clang-1400.0.29.202)
GNU Fortran (GCC) 12.2.0
* running under: macOS Ventura 13.6.5
* using session charset: UTF-8
* using option ‘--no-vignettes’
* checking for file ‘CAGEfightR/DESCRIPTION’ ... OK
* checking extension type ... Package
* this is package ‘CAGEfightR’ version ‘1.24.0’
* package encoding: UTF-8
* checking package namespace information ... OK
* checking package dependencies ... OK
* checking if this is a source package ... OK
* checking if there is a namespace ... OK
* checking for hidden files and directories ... OK
* checking for portable file names ... OK
* checking for sufficient/correct file permissions ... OK
* checking whether package ‘CAGEfightR’ can be installed ... OK
* checking installed package size ... OK
* checking package directory ... OK
* checking ‘build’ directory ... OK
* checking DESCRIPTION meta-information ... OK
* checking top-level files ... OK
* checking for left-over files ... OK
* checking index information ... OK
* checking package subdirectories ... OK
* checking code files for non-ASCII characters ... OK
* checking R files for syntax errors ... OK
* checking whether the package can be loaded ... OK
* checking whether the package can be loaded with stated dependencies ... OK
* checking whether the package can be unloaded cleanly ... OK
* checking whether the namespace can be loaded with stated dependencies ... OK
* checking whether the namespace can be unloaded cleanly ... OK
* checking whether startup messages can be suppressed ... OK
* checking dependencies in R code ... OK
* checking S3 generic/method consistency ... OK
* checking replacement functions ... OK
* checking foreign function calls ... OK
* checking R code for possible problems ... OK
* checking Rd files ... OK
* checking Rd metadata ... OK
* checking Rd cross-references ... OK
* checking for missing documentation entries ... OK
* checking for code/documentation mismatches ... OK
* checking Rd \usage sections ... OK
* checking Rd contents ... OK
* checking for unstated dependencies in examples ... OK
* checking contents of ‘data’ directory ... OK
* checking data for non-ASCII characters ... OK
* checking LazyData ... OK
* checking data for ASCII and uncompressed saves ... OK
* checking files in ‘vignettes’ ... OK
* checking examples ... OK
Examples with CPU (user + system) or elapsed time > 5s
user system elapsed
findLinks 9.259 0.754 10.351
assignGeneID 4.804 0.128 5.797
trackCTSS 4.439 0.219 5.339
* checking for unstated dependencies in vignettes ... OK
* checking package vignettes ... OK
* checking running R code from vignettes ... SKIPPED
* checking re-building of vignette outputs ... SKIPPED
* checking PDF version of manual ... OK
* DONE
Status: OK
CAGEfightR.Rcheck/00install.out
############################################################################## ############################################################################## ### ### Running command: ### ### /Library/Frameworks/R.framework/Resources/bin/R CMD INSTALL CAGEfightR ### ############################################################################## ############################################################################## * installing to library ‘/Library/Frameworks/R.framework/Versions/4.4-arm64/Resources/library’ * installing *source* package ‘CAGEfightR’ ... ** using staged installation ** R ** data *** moving datasets to lazyload DB ** inst ** byte-compile and prepare package for lazy loading ** help *** installing help indices ** building package indices ** installing vignettes ** testing if installed package can be loaded from temporary location ** testing if installed package can be loaded from final location ** testing if installed package keeps a record of temporary installation path * DONE (CAGEfightR)
CAGEfightR.Rcheck/CAGEfightR-Ex.timings
| name | user | system | elapsed | |
| assignGeneID | 4.804 | 0.128 | 5.797 | |
| assignMissingID | 1.084 | 0.034 | 1.129 | |
| assignTxID | 1.095 | 0.033 | 1.324 | |
| assignTxType | 0 | 0 | 0 | |
| balanceBC | 0.000 | 0.001 | 0.001 | |
| balanceD | 0 | 0 | 0 | |
| bwCommonGenome | 0.040 | 0.008 | 0.058 | |
| bwGenomeCompatibility | 0.016 | 0.004 | 0.027 | |
| bwValid | 0.007 | 0.003 | 0.013 | |
| calcBidirectionality | 0.524 | 0.018 | 0.730 | |
| calcComposition | 1.524 | 0.045 | 1.607 | |
| calcPooled | 0.103 | 0.014 | 0.128 | |
| calcShape | 2.419 | 0.129 | 2.549 | |
| calcSupport | 0.105 | 0.005 | 0.110 | |
| calcTPM | 0.115 | 0.007 | 0.122 | |
| calcTotalTags | 0.060 | 0.005 | 0.065 | |
| checkCTSSs | 0.276 | 0.010 | 0.361 | |
| checkPeaked | 0.072 | 0.005 | 0.103 | |
| checkPooled | 0.140 | 0.010 | 0.204 | |
| clusterBidirectionally | 0.000 | 0.000 | 0.001 | |
| clusterUnidirectionally | 1.309 | 0.030 | 1.342 | |
| combineClusters | 0.947 | 0.022 | 1.272 | |
| convertBAM2BigWig | 0 | 0 | 0 | |
| convertBED2BigWig | 0 | 0 | 0 | |
| convertGRanges2GPos | 0.090 | 0.002 | 0.120 | |
| exampleDesign | 0.006 | 0.011 | 0.027 | |
| findLinks | 9.259 | 0.754 | 10.351 | |
| findStretches | 0.425 | 0.076 | 0.614 | |
| quantifyCTSSs | 0.000 | 0.000 | 0.001 | |
| quantifyCTSSs2 | 0 | 0 | 0 | |
| quantifyClusters | 0.444 | 0.061 | 0.545 | |
| quantifyGenes | 1.372 | 0.123 | 1.591 | |
| quickEnhancers | 0 | 0 | 0 | |
| quickGenes | 0.000 | 0.001 | 0.000 | |
| quickTSSs | 0.000 | 0.000 | 0.001 | |
| shapeEntropy | 0.001 | 0.000 | 0.001 | |
| shapeIQR | 0 | 0 | 0 | |
| shapeMean | 0.001 | 0.001 | 0.001 | |
| shapeMultimodality | 0 | 0 | 0 | |
| subsetByBidirectionality | 0.470 | 0.035 | 0.506 | |
| subsetByComposition | 1.323 | 0.059 | 1.481 | |
| subsetBySupport | 0.075 | 0.011 | 0.103 | |
| swapRanges | 0.216 | 0.011 | 0.299 | |
| swapScores | 0.115 | 0.008 | 0.165 | |
| trackBalance | 0 | 0 | 0 | |
| trackCTSS | 4.439 | 0.219 | 5.339 | |
| trackClusters | 3.086 | 0.042 | 3.665 | |
| trackLinks | 1.053 | 0.357 | 1.571 | |
| trimToPeak | 0.836 | 0.111 | 1.115 | |
| trimToPercentiles | 1.926 | 0.054 | 2.107 | |
| tuneTagClustering | 0 | 0 | 0 | |
| utilsAggregateRows | 0.346 | 0.282 | 0.719 | |
| utilsDeStrand | 0.124 | 0.005 | 0.145 | |
| utilsScoreOverlaps | 0.068 | 0.002 | 0.070 | |
| utilsSimplifyTxDb | 0 | 0 | 0 | |