| Back to Multiple platform build/check report for BioC 3.19: simplified long | 
 | 
This page was generated on 2024-10-18 20:41 -0400 (Fri, 18 Oct 2024).
| Hostname | OS | Arch (*) | R version | Installed pkgs | 
|---|---|---|---|---|
| nebbiolo1 | Linux (Ubuntu 22.04.3 LTS) | x86_64 | 4.4.1 (2024-06-14) -- "Race for Your Life" | 4763 | 
| palomino7 | Windows Server 2022 Datacenter | x64 | 4.4.1 (2024-06-14 ucrt) -- "Race for Your Life" | 4500 | 
| merida1 | macOS 12.7.5 Monterey | x86_64 | 4.4.1 (2024-06-14) -- "Race for Your Life" | 4530 | 
| kjohnson1 | macOS 13.6.6 Ventura | arm64 | 4.4.1 (2024-06-14) -- "Race for Your Life" | 4480 | 
| Click on any hostname to see more info about the system (e.g. compilers) (*) as reported by 'uname -p', except on Windows and Mac OS X | ||||
| Package 250/2300 | Hostname | OS / Arch | INSTALL | BUILD | CHECK | BUILD BIN | ||||||||
| BufferedMatrixMethods 1.68.0  (landing page) Ben Bolstad 
 | nebbiolo1 | Linux (Ubuntu 22.04.3 LTS) / x86_64 | OK | OK | OK |  | ||||||||
| palomino7 | Windows Server 2022 Datacenter / x64 | OK | OK | OK | OK |  | ||||||||
| merida1 | macOS 12.7.5 Monterey / x86_64 | OK | OK | OK | OK |  | ||||||||
| kjohnson1 | macOS 13.6.6 Ventura / arm64 | OK | OK | OK | OK |  | ||||||||
| To the developers/maintainers of the BufferedMatrixMethods package: - Allow up to 24 hours (and sometimes 48 hours) for your latest push to git@git.bioconductor.org:packages/BufferedMatrixMethods.git to reflect on this report. See Troubleshooting Build Report for more information. - Use the following Renviron settings to reproduce errors and warnings. - If 'R CMD check' started to fail recently on the Linux builder(s) over a missing dependency, add the missing dependency to 'Suggests:' in your DESCRIPTION file. See Renviron.bioc for more information. | 
| Package: BufferedMatrixMethods | 
| Version: 1.68.0 | 
| Command: rm -rf BufferedMatrixMethods.buildbin-libdir && mkdir BufferedMatrixMethods.buildbin-libdir && /Users/biocbuild/BBS/utils/build-universal.sh BufferedMatrixMethods_1.68.0.tar.gz /Library/Frameworks/R.framework/Resources/bin/R BufferedMatrixMethods.buildbin-libdir | 
| StartedAt: 2024-10-18 17:36:25 -0400 (Fri, 18 Oct 2024) | 
| EndedAt: 2024-10-18 17:36:31 -0400 (Fri, 18 Oct 2024) | 
| EllapsedTime: 5.7 seconds | 
| RetCode: 0 | 
| Status: OK | 
| PackageFile: BufferedMatrixMethods_1.68.0.tgz | 
| PackageFileSize: 49.04 KiB | 
##############################################################################
##############################################################################
###
### Running command:
###
###   rm -rf BufferedMatrixMethods.buildbin-libdir && mkdir BufferedMatrixMethods.buildbin-libdir && /Users/biocbuild/BBS/utils/build-universal.sh BufferedMatrixMethods_1.68.0.tar.gz /Library/Frameworks/R.framework/Resources/bin/R BufferedMatrixMethods.buildbin-libdir
###
##############################################################################
##############################################################################
>>>>>>> 
>>>>>>> INSTALLATION WITH 'R CMD INSTALL --preclean --no-multiarch --library=BufferedMatrixMethods.buildbin-libdir BufferedMatrixMethods_1.68.0.tar.gz'
>>>>>>> 
* installing *source* package ‘BufferedMatrixMethods’ ...
** using staged installation
** libs
using C compiler: ‘Apple clang version 15.0.0 (clang-1500.0.40.1)’
using SDK: ‘MacOSX11.3.sdk’
clang -arch arm64 -I"/Library/Frameworks/R.framework/Resources/include" -DNDEBUG  -I'/Library/Frameworks/R.framework/Versions/4.4-arm64/Resources/library/BufferedMatrix/include' -I/opt/R/arm64/include    -fPIC  -falign-functions=64 -Wall -g -O2  -c init_package.c -o init_package.o
clang -arch arm64 -I"/Library/Frameworks/R.framework/Resources/include" -DNDEBUG  -I'/Library/Frameworks/R.framework/Versions/4.4-arm64/Resources/library/BufferedMatrix/include' -I/opt/R/arm64/include    -fPIC  -falign-functions=64 -Wall -g -O2  -c preprocess_bm.c -o preprocess_bm.o
preprocess_bm.c:344:7: warning: unused variable 'i' [-Wunused-variable]
  int i,j;
      ^
preprocess_bm.c:378:7: warning: unused variable 'current_mode' [-Wunused-variable]
  int current_mode;
      ^
preprocess_bm.c:593:7: warning: unused variable 'current_mode' [-Wunused-variable]
  int current_mode;
      ^
preprocess_bm.c:924:7: warning: variable 'first_ind' set but not used [-Wunused-but-set-variable]
  int first_ind;
      ^
preprocess_bm.c:1151:7: warning: unused variable 'current_mode' [-Wunused-variable]
  int current_mode;
      ^
preprocess_bm.c:453:12: warning: unused function 'min' [-Wunused-function]
static int min(int x1,int x2){
           ^
6 warnings generated.
clang -arch arm64 -dynamiclib -Wl,-headerpad_max_install_names -undefined dynamic_lookup -L/Library/Frameworks/R.framework/Resources/lib -L/opt/R/arm64/lib -o BufferedMatrixMethods.so init_package.o preprocess_bm.o -F/Library/Frameworks/R.framework/.. -framework R -Wl,-framework -Wl,CoreFoundation
installing to /Users/biocbuild/bbs-3.19-bioc/meat/BufferedMatrixMethods.buildbin-libdir/00LOCK-BufferedMatrixMethods/00new/BufferedMatrixMethods/libs
** R
** byte-compile and prepare package for lazy loading
** help
*** installing help indices
** building package indices
** testing if installed package can be loaded from temporary location
** checking absolute paths in shared objects and dynamic libraries
** testing if installed package can be loaded from final location
** testing if installed package keeps a record of temporary installation path
* DONE (BufferedMatrixMethods)
>>>>>>> 
>>>>>>> FIXING PATHS TO DYNAMIC LIBRARIES FOR BufferedMatrixMethods.buildbin-libdir/BufferedMatrixMethods/libs/BufferedMatrixMethods.so
>>>>>>> 
>>>>>>> Paths before fix:
BufferedMatrixMethods.buildbin-libdir/BufferedMatrixMethods/libs/BufferedMatrixMethods.so:
	BufferedMatrixMethods.so (compatibility version 0.0.0, current version 0.0.0)
	/Library/Frameworks/R.framework/Versions/4.4-arm64/Resources/lib/libR.dylib (compatibility version 4.4.0, current version 4.4.1)
	/System/Library/Frameworks/CoreFoundation.framework/Versions/A/CoreFoundation (compatibility version 150.0.0, current version 1775.118.101)
	/usr/lib/libSystem.B.dylib (compatibility version 1.0.0, current version 1292.100.5)
>>>>>>> Fix with install_name_tool:
install_name_tool -change "/usr/local/lib/libgcc_s.1.1.dylib" "/Library/Frameworks/R.framework/Versions/4.4-arm64/Resources/lib/libgcc_s.1.1.dylib" "BufferedMatrixMethods.buildbin-libdir/BufferedMatrixMethods/libs/BufferedMatrixMethods.so"
install_name_tool -change "/usr/local/lib/libgfortran.5.dylib" "/Library/Frameworks/R.framework/Versions/4.4-arm64/Resources/lib/libgfortran.5.dylib" "BufferedMatrixMethods.buildbin-libdir/BufferedMatrixMethods/libs/BufferedMatrixMethods.so"
install_name_tool -change "/usr/local/lib/libquadmath.0.dylib" "/Library/Frameworks/R.framework/Versions/4.4-arm64/Resources/lib/libquadmath.0.dylib" "BufferedMatrixMethods.buildbin-libdir/BufferedMatrixMethods/libs/BufferedMatrixMethods.so"
>>>>>>> Paths after fix:
BufferedMatrixMethods.buildbin-libdir/BufferedMatrixMethods/libs/BufferedMatrixMethods.so:
	BufferedMatrixMethods.so (compatibility version 0.0.0, current version 0.0.0)
	/Library/Frameworks/R.framework/Versions/4.4-arm64/Resources/lib/libR.dylib (compatibility version 4.4.0, current version 4.4.1)
	/System/Library/Frameworks/CoreFoundation.framework/Versions/A/CoreFoundation (compatibility version 150.0.0, current version 1775.118.101)
	/usr/lib/libSystem.B.dylib (compatibility version 1.0.0, current version 1292.100.5)