| Back to Multiple platform build/check report for BioC 3.19: simplified long | 
 | 
This page was generated on 2024-05-09 11:40:37 -0400 (Thu, 09 May 2024).
| Hostname | OS | Arch (*) | R version | Installed pkgs | 
|---|---|---|---|---|
| nebbiolo1 | Linux (Ubuntu 22.04.3 LTS) | x86_64 | 4.4.0 (2024-04-24) -- "Puppy Cup" | 4748 | 
| palomino3 | Windows Server 2022 Datacenter | x64 | 4.4.0 (2024-04-24 ucrt) -- "Puppy Cup" | 4484 | 
| lconway | macOS 12.7.1 Monterey | x86_64 | 4.4.0 (2024-04-24) -- "Puppy Cup" | 4514 | 
| kunpeng2 | Linux (openEuler 22.03 LTS-SP1) | aarch64 | 4.4.0 beta (2024-04-15 r86425) -- "Puppy Cup" | 4480 | 
| Click on any hostname to see more info about the system (e.g. compilers) (*) as reported by 'uname -p', except on Windows and Mac OS X | ||||
| Package 219/2300 | Hostname | OS / Arch | INSTALL | BUILD | CHECK | BUILD BIN | ||||||||
| Biostrings 2.72.0  (landing page) Hervé Pagès 
 | nebbiolo1 | Linux (Ubuntu 22.04.3 LTS) / x86_64 | OK | OK | WARNINGS |  | ||||||||
| palomino3 | Windows Server 2022 Datacenter / x64 | OK | OK | WARNINGS | OK |  | ||||||||
| lconway | macOS 12.7.1 Monterey / x86_64 | OK | OK | WARNINGS | OK |  | ||||||||
| kunpeng2 | Linux (openEuler 22.03 LTS-SP1) / aarch64 | OK | OK | WARNINGS | ||||||||||
| kjohnson3 | macOS 13.6.5 Ventura / arm64 | see weekly results here | ||||||||||||
| To the developers/maintainers of the Biostrings package: - Allow up to 24 hours (and sometimes 48 hours) for your latest push to git@git.bioconductor.org:packages/Biostrings.git to reflect on this report. See Troubleshooting Build Report for more information. - Use the following Renviron settings to reproduce errors and warnings. - If 'R CMD check' started to fail recently on the Linux builder(s) over a missing dependency, add the missing dependency to 'Suggests:' in your DESCRIPTION file. See Renviron.bioc for more information. - See Martin Grigorov's blog post for how to debug Linux ARM64 related issues on a x86_64 host. | 
| Package: Biostrings | 
| Version: 2.72.0 | 
| Command: /home/biocbuild/R/R-beta-2024-04-15_r86425/bin/R CMD INSTALL Biostrings | 
| StartedAt: 2024-05-08 20:10:29 -0000 (Wed, 08 May 2024) | 
| EndedAt: 2024-05-08 20:11:12 -0000 (Wed, 08 May 2024) | 
| EllapsedTime: 42.7 seconds | 
| RetCode: 0 | 
| Status: OK | 
##############################################################################
##############################################################################
###
### Running command:
###
###   /home/biocbuild/R/R-beta-2024-04-15_r86425/bin/R CMD INSTALL Biostrings
###
##############################################################################
##############################################################################
* installing to library ‘/home/biocbuild/R/R-beta-2024-04-15_r86425/site-library’
* installing *source* package ‘Biostrings’ ...
** using staged installation
** libs
using C compiler: ‘gcc (GCC) 10.3.1’
gcc -I"/home/biocbuild/R/R-beta-2024-04-15_r86425/include" -DNDEBUG  -I'/home/biocbuild/R/R-beta-2024-04-15_r86425/site-library/S4Vectors/include' -I'/home/biocbuild/R/R-beta-2024-04-15_r86425/site-library/IRanges/include' -I'/home/biocbuild/R/R-beta-2024-04-15_r86425/site-library/XVector/include' -I/usr/local/include    -fPIC  -g -O2  -Wall -c BAB_class.c -o BAB_class.o
gcc -I"/home/biocbuild/R/R-beta-2024-04-15_r86425/include" -DNDEBUG  -I'/home/biocbuild/R/R-beta-2024-04-15_r86425/site-library/S4Vectors/include' -I'/home/biocbuild/R/R-beta-2024-04-15_r86425/site-library/IRanges/include' -I'/home/biocbuild/R/R-beta-2024-04-15_r86425/site-library/XVector/include' -I/usr/local/include    -fPIC  -g -O2  -Wall -c BitMatrix.c -o BitMatrix.o
BitMatrix.c:299:13: warning: ‘BitMatrix_print’ defined but not used [-Wunused-function]
  299 | static void BitMatrix_print(BitMatrix *bitmat)
      |             ^~~~~~~~~~~~~~~
gcc -I"/home/biocbuild/R/R-beta-2024-04-15_r86425/include" -DNDEBUG  -I'/home/biocbuild/R/R-beta-2024-04-15_r86425/site-library/S4Vectors/include' -I'/home/biocbuild/R/R-beta-2024-04-15_r86425/site-library/IRanges/include' -I'/home/biocbuild/R/R-beta-2024-04-15_r86425/site-library/XVector/include' -I/usr/local/include    -fPIC  -g -O2  -Wall -c IRanges_stubs.c -o IRanges_stubs.o
gcc -I"/home/biocbuild/R/R-beta-2024-04-15_r86425/include" -DNDEBUG  -I'/home/biocbuild/R/R-beta-2024-04-15_r86425/site-library/S4Vectors/include' -I'/home/biocbuild/R/R-beta-2024-04-15_r86425/site-library/IRanges/include' -I'/home/biocbuild/R/R-beta-2024-04-15_r86425/site-library/XVector/include' -I/usr/local/include    -fPIC  -g -O2  -Wall -c MIndex_class.c -o MIndex_class.o
MIndex_class.c: In function ‘SparseMIndex_endIndex’:
MIndex_class.c:184:20: warning: unused variable ‘poffsets_order’ [-Wunused-variable]
  184 |  IntAE *poffsets, *poffsets_order;
      |                    ^~~~~~~~~~~~~~
gcc -I"/home/biocbuild/R/R-beta-2024-04-15_r86425/include" -DNDEBUG  -I'/home/biocbuild/R/R-beta-2024-04-15_r86425/site-library/S4Vectors/include' -I'/home/biocbuild/R/R-beta-2024-04-15_r86425/site-library/IRanges/include' -I'/home/biocbuild/R/R-beta-2024-04-15_r86425/site-library/XVector/include' -I/usr/local/include    -fPIC  -g -O2  -Wall -c PreprocessedTB_class.c -o PreprocessedTB_class.o
gcc -I"/home/biocbuild/R/R-beta-2024-04-15_r86425/include" -DNDEBUG  -I'/home/biocbuild/R/R-beta-2024-04-15_r86425/site-library/S4Vectors/include' -I'/home/biocbuild/R/R-beta-2024-04-15_r86425/site-library/IRanges/include' -I'/home/biocbuild/R/R-beta-2024-04-15_r86425/site-library/XVector/include' -I/usr/local/include    -fPIC  -g -O2  -Wall -c R_init_Biostrings.c -o R_init_Biostrings.o
gcc -I"/home/biocbuild/R/R-beta-2024-04-15_r86425/include" -DNDEBUG  -I'/home/biocbuild/R/R-beta-2024-04-15_r86425/site-library/S4Vectors/include' -I'/home/biocbuild/R/R-beta-2024-04-15_r86425/site-library/IRanges/include' -I'/home/biocbuild/R/R-beta-2024-04-15_r86425/site-library/XVector/include' -I/usr/local/include    -fPIC  -g -O2  -Wall -c RoSeqs_utils.c -o RoSeqs_utils.o
gcc -I"/home/biocbuild/R/R-beta-2024-04-15_r86425/include" -DNDEBUG  -I'/home/biocbuild/R/R-beta-2024-04-15_r86425/site-library/S4Vectors/include' -I'/home/biocbuild/R/R-beta-2024-04-15_r86425/site-library/IRanges/include' -I'/home/biocbuild/R/R-beta-2024-04-15_r86425/site-library/XVector/include' -I/usr/local/include    -fPIC  -g -O2  -Wall -c S4Vectors_stubs.c -o S4Vectors_stubs.o
gcc -I"/home/biocbuild/R/R-beta-2024-04-15_r86425/include" -DNDEBUG  -I'/home/biocbuild/R/R-beta-2024-04-15_r86425/site-library/S4Vectors/include' -I'/home/biocbuild/R/R-beta-2024-04-15_r86425/site-library/IRanges/include' -I'/home/biocbuild/R/R-beta-2024-04-15_r86425/site-library/XVector/include' -I/usr/local/include    -fPIC  -g -O2  -Wall -c SparseList_utils.c -o SparseList_utils.o
gcc -I"/home/biocbuild/R/R-beta-2024-04-15_r86425/include" -DNDEBUG  -I'/home/biocbuild/R/R-beta-2024-04-15_r86425/site-library/S4Vectors/include' -I'/home/biocbuild/R/R-beta-2024-04-15_r86425/site-library/IRanges/include' -I'/home/biocbuild/R/R-beta-2024-04-15_r86425/site-library/XVector/include' -I/usr/local/include    -fPIC  -g -O2  -Wall -c XStringSetList_class.c -o XStringSetList_class.o
gcc -I"/home/biocbuild/R/R-beta-2024-04-15_r86425/include" -DNDEBUG  -I'/home/biocbuild/R/R-beta-2024-04-15_r86425/site-library/S4Vectors/include' -I'/home/biocbuild/R/R-beta-2024-04-15_r86425/site-library/IRanges/include' -I'/home/biocbuild/R/R-beta-2024-04-15_r86425/site-library/XVector/include' -I/usr/local/include    -fPIC  -g -O2  -Wall -c XStringSet_class.c -o XStringSet_class.o
XStringSet_class.c: In function ‘new_XStringSet_from_CHARACTER’:
XStringSet_class.c:124:3: warning: ‘lkup_len’ may be used uninitialized in this function [-Wmaybe-uninitialized]
  124 |   _copy_CHARSXP_to_Chars_holder(&ans_elt_holder, x_elt,
      |   ^~~~~~~~~~~~~~~~~~~~~~~~~~~~~~~~~~~~~~~~~~~~~~~~~~~~~
  125 |     INTEGER(start)[i], lkup0, lkup_len);
      |     ~~~~~~~~~~~~~~~~~~~~~~~~~~~~~~~~~~~
gcc -I"/home/biocbuild/R/R-beta-2024-04-15_r86425/include" -DNDEBUG  -I'/home/biocbuild/R/R-beta-2024-04-15_r86425/site-library/S4Vectors/include' -I'/home/biocbuild/R/R-beta-2024-04-15_r86425/site-library/IRanges/include' -I'/home/biocbuild/R/R-beta-2024-04-15_r86425/site-library/XVector/include' -I/usr/local/include    -fPIC  -g -O2  -Wall -c XString_class.c -o XString_class.o
gcc -I"/home/biocbuild/R/R-beta-2024-04-15_r86425/include" -DNDEBUG  -I'/home/biocbuild/R/R-beta-2024-04-15_r86425/site-library/S4Vectors/include' -I'/home/biocbuild/R/R-beta-2024-04-15_r86425/site-library/IRanges/include' -I'/home/biocbuild/R/R-beta-2024-04-15_r86425/site-library/XVector/include' -I/usr/local/include    -fPIC  -g -O2  -Wall -c XVector_stubs.c -o XVector_stubs.o
gcc -I"/home/biocbuild/R/R-beta-2024-04-15_r86425/include" -DNDEBUG  -I'/home/biocbuild/R/R-beta-2024-04-15_r86425/site-library/S4Vectors/include' -I'/home/biocbuild/R/R-beta-2024-04-15_r86425/site-library/IRanges/include' -I'/home/biocbuild/R/R-beta-2024-04-15_r86425/site-library/XVector/include' -I/usr/local/include    -fPIC  -g -O2  -Wall -c find_palindromes.c -o find_palindromes.o
gcc -I"/home/biocbuild/R/R-beta-2024-04-15_r86425/include" -DNDEBUG  -I'/home/biocbuild/R/R-beta-2024-04-15_r86425/site-library/S4Vectors/include' -I'/home/biocbuild/R/R-beta-2024-04-15_r86425/site-library/IRanges/include' -I'/home/biocbuild/R/R-beta-2024-04-15_r86425/site-library/XVector/include' -I/usr/local/include    -fPIC  -g -O2  -Wall -c gtestsim.c -o gtestsim.o
gcc -I"/home/biocbuild/R/R-beta-2024-04-15_r86425/include" -DNDEBUG  -I'/home/biocbuild/R/R-beta-2024-04-15_r86425/site-library/S4Vectors/include' -I'/home/biocbuild/R/R-beta-2024-04-15_r86425/site-library/IRanges/include' -I'/home/biocbuild/R/R-beta-2024-04-15_r86425/site-library/XVector/include' -I/usr/local/include    -fPIC  -g -O2  -Wall -c inject_code.c -o inject_code.o
gcc -I"/home/biocbuild/R/R-beta-2024-04-15_r86425/include" -DNDEBUG  -I'/home/biocbuild/R/R-beta-2024-04-15_r86425/site-library/S4Vectors/include' -I'/home/biocbuild/R/R-beta-2024-04-15_r86425/site-library/IRanges/include' -I'/home/biocbuild/R/R-beta-2024-04-15_r86425/site-library/XVector/include' -I/usr/local/include    -fPIC  -g -O2  -Wall -c letter_frequency.c -o letter_frequency.o
letter_frequency.c: In function ‘XStringSet_two_way_letter_frequency’:
letter_frequency.c:957:48: warning: unused variable ‘x_pos’ [-Wunused-variable]
  957 |   int x_width, y_width, x_length, *ans_mat, i, x_pos;
      |                                                ^~~~~
gcc -I"/home/biocbuild/R/R-beta-2024-04-15_r86425/include" -DNDEBUG  -I'/home/biocbuild/R/R-beta-2024-04-15_r86425/site-library/S4Vectors/include' -I'/home/biocbuild/R/R-beta-2024-04-15_r86425/site-library/IRanges/include' -I'/home/biocbuild/R/R-beta-2024-04-15_r86425/site-library/XVector/include' -I/usr/local/include    -fPIC  -g -O2  -Wall -c lowlevel_matching.c -o lowlevel_matching.o
gcc -I"/home/biocbuild/R/R-beta-2024-04-15_r86425/include" -DNDEBUG  -I'/home/biocbuild/R/R-beta-2024-04-15_r86425/site-library/S4Vectors/include' -I'/home/biocbuild/R/R-beta-2024-04-15_r86425/site-library/IRanges/include' -I'/home/biocbuild/R/R-beta-2024-04-15_r86425/site-library/XVector/include' -I/usr/local/include    -fPIC  -g -O2  -Wall -c match_PWM.c -o match_PWM.o
gcc -I"/home/biocbuild/R/R-beta-2024-04-15_r86425/include" -DNDEBUG  -I'/home/biocbuild/R/R-beta-2024-04-15_r86425/site-library/S4Vectors/include' -I'/home/biocbuild/R/R-beta-2024-04-15_r86425/site-library/IRanges/include' -I'/home/biocbuild/R/R-beta-2024-04-15_r86425/site-library/XVector/include' -I/usr/local/include    -fPIC  -g -O2  -Wall -c match_pattern.c -o match_pattern.o
gcc -I"/home/biocbuild/R/R-beta-2024-04-15_r86425/include" -DNDEBUG  -I'/home/biocbuild/R/R-beta-2024-04-15_r86425/site-library/S4Vectors/include' -I'/home/biocbuild/R/R-beta-2024-04-15_r86425/site-library/IRanges/include' -I'/home/biocbuild/R/R-beta-2024-04-15_r86425/site-library/XVector/include' -I/usr/local/include    -fPIC  -g -O2  -Wall -c match_pattern_boyermoore.c -o match_pattern_boyermoore.o
gcc -I"/home/biocbuild/R/R-beta-2024-04-15_r86425/include" -DNDEBUG  -I'/home/biocbuild/R/R-beta-2024-04-15_r86425/site-library/S4Vectors/include' -I'/home/biocbuild/R/R-beta-2024-04-15_r86425/site-library/IRanges/include' -I'/home/biocbuild/R/R-beta-2024-04-15_r86425/site-library/XVector/include' -I/usr/local/include    -fPIC  -g -O2  -Wall -c match_pattern_indels.c -o match_pattern_indels.o
match_pattern_indels.c:7:13: warning: ‘test_match_pattern_indels’ defined but not used [-Wunused-function]
    7 | static void test_match_pattern_indels(const char *p, const char *s,
      |             ^~~~~~~~~~~~~~~~~~~~~~~~~
gcc -I"/home/biocbuild/R/R-beta-2024-04-15_r86425/include" -DNDEBUG  -I'/home/biocbuild/R/R-beta-2024-04-15_r86425/site-library/S4Vectors/include' -I'/home/biocbuild/R/R-beta-2024-04-15_r86425/site-library/IRanges/include' -I'/home/biocbuild/R/R-beta-2024-04-15_r86425/site-library/XVector/include' -I/usr/local/include    -fPIC  -g -O2  -Wall -c match_pattern_shiftor.c -o match_pattern_shiftor.o
gcc -I"/home/biocbuild/R/R-beta-2024-04-15_r86425/include" -DNDEBUG  -I'/home/biocbuild/R/R-beta-2024-04-15_r86425/site-library/S4Vectors/include' -I'/home/biocbuild/R/R-beta-2024-04-15_r86425/site-library/IRanges/include' -I'/home/biocbuild/R/R-beta-2024-04-15_r86425/site-library/XVector/include' -I/usr/local/include    -fPIC  -g -O2  -Wall -c match_pdict.c -o match_pdict.o
match_pdict.c: In function ‘vmatch_PDict3Parts_XStringSet’:
match_pdict.c:419:12: warning: ‘ans_col’ may be used uninitialized in this function [-Wmaybe-uninitialized]
  419 |    ans_col += tb_length;
      |    ~~~~~~~~^~~~~~~~~~~~
match_pdict.c:392:58: note: ‘ans_col’ was declared here
  392 |  int tb_length, S_length, collapse0, i, j, match_count, *ans_col;
      |                                                          ^~~~~~~
match_pdict.c: In function ‘vmatch_XStringSet_XStringSet’:
match_pdict.c:470:13: warning: ‘ans_elt’ may be used uninitialized in this function [-Wmaybe-uninitialized]
  470 |     ans_elt += P_length;
      |     ~~~~~~~~^~~~~~~~~~~
match_pdict.c:441:57: note: ‘ans_elt’ was declared here
  441 |  int P_length, S_length, collapse0, i, j, match_count, *ans_elt;
      |                                                         ^~~~~~~
gcc -I"/home/biocbuild/R/R-beta-2024-04-15_r86425/include" -DNDEBUG  -I'/home/biocbuild/R/R-beta-2024-04-15_r86425/site-library/S4Vectors/include' -I'/home/biocbuild/R/R-beta-2024-04-15_r86425/site-library/IRanges/include' -I'/home/biocbuild/R/R-beta-2024-04-15_r86425/site-library/XVector/include' -I/usr/local/include    -fPIC  -g -O2  -Wall -c match_pdict_ACtree2.c -o match_pdict_ACtree2.o
match_pdict_ACtree2.c: In function ‘split_and_move_pointers’:
match_pdict_ACtree2.c:1031:10: warning: variable ‘node0’ set but not used [-Wunused-but-set-variable]
 1031 |  ACnode *node0, *node1, *node2;
      |          ^~~~~
match_pdict_ACtree2.c: In function ‘merge_pointers’:
match_pdict_ACtree2.c:1076:10: warning: variable ‘node0’ set but not used [-Wunused-but-set-variable]
 1076 |  ACnode *node0, *node1, *node2;
      |          ^~~~~
At top level:
match_pdict_ACtree2.c:602:21: warning: ‘a_nice_max_nodeextbuf_nelt’ defined but not used [-Wunused-function]
  602 | static unsigned int a_nice_max_nodeextbuf_nelt(int nnodes)
      |                     ^~~~~~~~~~~~~~~~~~~~~~~~~~
match_pdict_ACtree2.c:139:13: warning: ‘debug_node_counting_functions’ defined but not used [-Wunused-function]
  139 | static void debug_node_counting_functions(int maxdepth)
      |             ^~~~~~~~~~~~~~~~~~~~~~~~~~~~~
gcc -I"/home/biocbuild/R/R-beta-2024-04-15_r86425/include" -DNDEBUG  -I'/home/biocbuild/R/R-beta-2024-04-15_r86425/site-library/S4Vectors/include' -I'/home/biocbuild/R/R-beta-2024-04-15_r86425/site-library/IRanges/include' -I'/home/biocbuild/R/R-beta-2024-04-15_r86425/site-library/XVector/include' -I/usr/local/include    -fPIC  -g -O2  -Wall -c match_pdict_Twobit.c -o match_pdict_Twobit.o
match_pdict_Twobit.c: In function ‘build_Twobit’:
match_pdict_Twobit.c:75:20: warning: ‘twobit_sign2pos’ may be used uninitialized in this function [-Wmaybe-uninitialized]
   75 |  PROTECT(ans_elt = new_XInteger_from_tag("XInteger", twobit_sign2pos));
      |                    ^~~~~~~~~~~~~~~~~~~~~
match_pdict_Twobit.c:110:12: note: ‘twobit_sign2pos’ was declared here
  110 |  SEXP ans, twobit_sign2pos;
      |            ^~~~~~~~~~~~~~~
gcc -I"/home/biocbuild/R/R-beta-2024-04-15_r86425/include" -DNDEBUG  -I'/home/biocbuild/R/R-beta-2024-04-15_r86425/site-library/S4Vectors/include' -I'/home/biocbuild/R/R-beta-2024-04-15_r86425/site-library/IRanges/include' -I'/home/biocbuild/R/R-beta-2024-04-15_r86425/site-library/XVector/include' -I/usr/local/include    -fPIC  -g -O2  -Wall -c match_pdict_utils.c -o match_pdict_utils.o
match_pdict_utils.c: In function ‘match_ppheadtail0’:
match_pdict_utils.c:653:49: warning: unused variable ‘ncol’ [-Wunused-variable]
  653 |  int nelt, min_safe_tb_end, max_safe_tb_end, j, ncol;
      |                                                 ^~~~
match_pdict_utils.c: In function ‘match_ppheadtail’:
match_pdict_utils.c:713:6: warning: unused variable ‘nelt’ [-Wunused-variable]
  713 |  int nelt, nkey0, nkey1, nkey2, i, key;
      |      ^~~~
match_pdict_utils.c: In function ‘_match_pdict_all_flanks’:
match_pdict_utils.c:820:44: warning: unused variable ‘subtotal_NFC’ [-Wunused-variable]
  820 |  static unsigned long int total_NFC = 0UL, subtotal_NFC = 0UL;
      |                                            ^~~~~~~~~~~~
match_pdict_utils.c:820:27: warning: unused variable ‘total_NFC’ [-Wunused-variable]
  820 |  static unsigned long int total_NFC = 0UL, subtotal_NFC = 0UL;
      |                           ^~~~~~~~~
match_pdict_utils.c:819:33: warning: unused variable ‘NFC’ [-Wunused-variable]
  819 |  unsigned long int ndup, nloci, NFC; // NFC = Number of Flank Comparisons
      |                                 ^~~
match_pdict_utils.c:819:26: warning: unused variable ‘nloci’ [-Wunused-variable]
  819 |  unsigned long int ndup, nloci, NFC; // NFC = Number of Flank Comparisons
      |                          ^~~~~
match_pdict_utils.c:819:20: warning: unused variable ‘ndup’ [-Wunused-variable]
  819 |  unsigned long int ndup, nloci, NFC; // NFC = Number of Flank Comparisons
      |                    ^~~~
At top level:
match_pdict_utils.c:820:27: warning: ‘total_NFC’ defined but not used [-Wunused-variable]
  820 |  static unsigned long int total_NFC = 0UL, subtotal_NFC = 0UL;
      |                           ^~~~~~~~~
match_pdict_utils.c:820:44: warning: ‘subtotal_NFC’ defined but not used [-Wunused-variable]
  820 |  static unsigned long int total_NFC = 0UL, subtotal_NFC = 0UL;
      |                                            ^~~~~~~~~~~~
match_pdict_utils.c:261:13: warning: ‘match_headtail_by_loc’ defined but not used [-Wunused-function]
  261 | static void match_headtail_by_loc(const HeadTail *headtail,
      |             ^~~~~~~~~~~~~~~~~~~~~
gcc -I"/home/biocbuild/R/R-beta-2024-04-15_r86425/include" -DNDEBUG  -I'/home/biocbuild/R/R-beta-2024-04-15_r86425/site-library/S4Vectors/include' -I'/home/biocbuild/R/R-beta-2024-04-15_r86425/site-library/IRanges/include' -I'/home/biocbuild/R/R-beta-2024-04-15_r86425/site-library/XVector/include' -I/usr/local/include    -fPIC  -g -O2  -Wall -c match_reporting.c -o match_reporting.o
gcc -I"/home/biocbuild/R/R-beta-2024-04-15_r86425/include" -DNDEBUG  -I'/home/biocbuild/R/R-beta-2024-04-15_r86425/site-library/S4Vectors/include' -I'/home/biocbuild/R/R-beta-2024-04-15_r86425/site-library/IRanges/include' -I'/home/biocbuild/R/R-beta-2024-04-15_r86425/site-library/XVector/include' -I/usr/local/include    -fPIC  -g -O2  -Wall -c matchprobes.c -o matchprobes.o
gcc -I"/home/biocbuild/R/R-beta-2024-04-15_r86425/include" -DNDEBUG  -I'/home/biocbuild/R/R-beta-2024-04-15_r86425/site-library/S4Vectors/include' -I'/home/biocbuild/R/R-beta-2024-04-15_r86425/site-library/IRanges/include' -I'/home/biocbuild/R/R-beta-2024-04-15_r86425/site-library/XVector/include' -I/usr/local/include    -fPIC  -g -O2  -Wall -c pmatchPattern.c -o pmatchPattern.o
gcc -I"/home/biocbuild/R/R-beta-2024-04-15_r86425/include" -DNDEBUG  -I'/home/biocbuild/R/R-beta-2024-04-15_r86425/site-library/S4Vectors/include' -I'/home/biocbuild/R/R-beta-2024-04-15_r86425/site-library/IRanges/include' -I'/home/biocbuild/R/R-beta-2024-04-15_r86425/site-library/XVector/include' -I/usr/local/include    -fPIC  -g -O2  -Wall -c read_fasta_files.c -o read_fasta_files.o
gcc -I"/home/biocbuild/R/R-beta-2024-04-15_r86425/include" -DNDEBUG  -I'/home/biocbuild/R/R-beta-2024-04-15_r86425/site-library/S4Vectors/include' -I'/home/biocbuild/R/R-beta-2024-04-15_r86425/site-library/IRanges/include' -I'/home/biocbuild/R/R-beta-2024-04-15_r86425/site-library/XVector/include' -I/usr/local/include    -fPIC  -g -O2  -Wall -c read_fastq_files.c -o read_fastq_files.o
read_fastq_files.c: In function ‘parse_FASTQ_file’:
read_fastq_files.c:394:7: warning: ‘dont_load’ may be used uninitialized in this function [-Wmaybe-uninitialized]
  394 |    if (dont_load || loader->new_empty_seq_hook == NULL)
      |       ^
gcc -I"/home/biocbuild/R/R-beta-2024-04-15_r86425/include" -DNDEBUG  -I'/home/biocbuild/R/R-beta-2024-04-15_r86425/site-library/S4Vectors/include' -I'/home/biocbuild/R/R-beta-2024-04-15_r86425/site-library/IRanges/include' -I'/home/biocbuild/R/R-beta-2024-04-15_r86425/site-library/XVector/include' -I/usr/local/include    -fPIC  -g -O2  -Wall -c replaceAt.c -o replaceAt.o
gcc -I"/home/biocbuild/R/R-beta-2024-04-15_r86425/include" -DNDEBUG  -I'/home/biocbuild/R/R-beta-2024-04-15_r86425/site-library/S4Vectors/include' -I'/home/biocbuild/R/R-beta-2024-04-15_r86425/site-library/IRanges/include' -I'/home/biocbuild/R/R-beta-2024-04-15_r86425/site-library/XVector/include' -I/usr/local/include    -fPIC  -g -O2  -Wall -c replace_letter_at.c -o replace_letter_at.o
gcc -I"/home/biocbuild/R/R-beta-2024-04-15_r86425/include" -DNDEBUG  -I'/home/biocbuild/R/R-beta-2024-04-15_r86425/site-library/S4Vectors/include' -I'/home/biocbuild/R/R-beta-2024-04-15_r86425/site-library/IRanges/include' -I'/home/biocbuild/R/R-beta-2024-04-15_r86425/site-library/XVector/include' -I/usr/local/include    -fPIC  -g -O2  -Wall -c strutils.c -o strutils.o
gcc -I"/home/biocbuild/R/R-beta-2024-04-15_r86425/include" -DNDEBUG  -I'/home/biocbuild/R/R-beta-2024-04-15_r86425/site-library/S4Vectors/include' -I'/home/biocbuild/R/R-beta-2024-04-15_r86425/site-library/IRanges/include' -I'/home/biocbuild/R/R-beta-2024-04-15_r86425/site-library/XVector/include' -I/usr/local/include    -fPIC  -g -O2  -Wall -c translate.c -o translate.o
translate.c: In function ‘DNAStringSet_translate’:
translate.c:110:8: warning: ‘if_ambig0’ may be used uninitialized in this function [-Wmaybe-uninitialized]
  110 |     if (if_ambig == TRANSLATE_ERROR) {
      |        ^
translate.c:136:29: note: ‘if_ambig0’ was declared here
  136 |  int ncodes, if_non_ambig0, if_ambig0, ans_length, i, errcode;
      |                             ^~~~~~~~~
translate.c:106:8: warning: ‘if_non_ambig0’ may be used uninitialized in this function [-Wmaybe-uninitialized]
  106 |     if (if_non_ambig == TRANSLATE_TO_X)
      |        ^
translate.c:136:14: note: ‘if_non_ambig0’ was declared here
  136 |  int ncodes, if_non_ambig0, if_ambig0, ans_length, i, errcode;
      |              ^~~~~~~~~~~~~
gcc -I"/home/biocbuild/R/R-beta-2024-04-15_r86425/include" -DNDEBUG  -I'/home/biocbuild/R/R-beta-2024-04-15_r86425/site-library/S4Vectors/include' -I'/home/biocbuild/R/R-beta-2024-04-15_r86425/site-library/IRanges/include' -I'/home/biocbuild/R/R-beta-2024-04-15_r86425/site-library/XVector/include' -I/usr/local/include    -fPIC  -g -O2  -Wall -c unstrsplit_methods.c -o unstrsplit_methods.o
gcc -I"/home/biocbuild/R/R-beta-2024-04-15_r86425/include" -DNDEBUG  -I'/home/biocbuild/R/R-beta-2024-04-15_r86425/site-library/S4Vectors/include' -I'/home/biocbuild/R/R-beta-2024-04-15_r86425/site-library/IRanges/include' -I'/home/biocbuild/R/R-beta-2024-04-15_r86425/site-library/XVector/include' -I/usr/local/include    -fPIC  -g -O2  -Wall -c utils.c -o utils.o
utils.c: In function ‘_get_twobit_signature’:
utils.c:157:9: warning: ‘twobit_sign’ may be used uninitialized in this function [-Wmaybe-uninitialized]
  157 |  return twobit_sign;
      |         ^~~~~~~~~~~
utils.c: In function ‘_get_twobit_signature_at’:
utils.c:164:12: warning: ‘twobit_sign’ may be used uninitialized in this function [-Wmaybe-uninitialized]
  164 |  int i, j, twobit_sign;
      |            ^~~~~~~~~~~
gcc -I"/home/biocbuild/R/R-beta-2024-04-15_r86425/include" -DNDEBUG  -I'/home/biocbuild/R/R-beta-2024-04-15_r86425/site-library/S4Vectors/include' -I'/home/biocbuild/R/R-beta-2024-04-15_r86425/site-library/IRanges/include' -I'/home/biocbuild/R/R-beta-2024-04-15_r86425/site-library/XVector/include' -I/usr/local/include    -fPIC  -g -O2  -Wall -c xscat.c -o xscat.o
In file included from /home/biocbuild/R/R-beta-2024-04-15_r86425/site-library/S4Vectors/include/S4Vectors_defines.h:18,
                 from /home/biocbuild/R/R-beta-2024-04-15_r86425/site-library/IRanges/include/IRanges_defines.h:18,
                 from ../inst/include/Biostrings_defines.h:18,
                 from Biostrings.h:1,
                 from xscat.c:1:
xscat.c: In function ‘XString_xscat’:
/home/biocbuild/R/R-beta-2024-04-15_r86425/include/Rdefines.h:91:21: warning: ‘ans_length’ may be used uninitialized in this function [-Wmaybe-uninitialized]
   91 | #define NEW_RAW(n)  Rf_allocVector(RAWSXP,n)
      |                     ^~~~~~~~~~~~~~
xscat.c:18:13: note: ‘ans_length’ was declared here
   18 |  int nargs, ans_length, tag_offset, j;
      |             ^~~~~~~~~~
xscat.c:52:16: warning: ‘ans_classname’ may be used uninitialized in this function [-Wmaybe-uninitialized]
   52 |  PROTECT(ans = new_XRaw_from_tag(ans_classname, ans_tag));
      |                ^~~~~~~~~~~~~~~~~
In file included from /home/biocbuild/R/R-beta-2024-04-15_r86425/site-library/S4Vectors/include/S4Vectors_defines.h:18,
                 from /home/biocbuild/R/R-beta-2024-04-15_r86425/site-library/IRanges/include/IRanges_defines.h:18,
                 from ../inst/include/Biostrings_defines.h:18,
                 from Biostrings.h:1,
                 from xscat.c:1:
xscat.c: In function ‘XStringSet_xscat’:
/home/biocbuild/R/R-beta-2024-04-15_r86425/include/Rdefines.h:85:25: warning: ‘ans_length’ may be used uninitialized in this function [-Wmaybe-uninitialized]
   85 | #define NEW_INTEGER(n)  Rf_allocVector(INTSXP,n)
      |                         ^~~~~~~~~~~~~~
xscat.c:66:32: note: ‘ans_length’ was declared here
   66 |  int nargs, *arg_lengths, *ii, ans_length, i, j, *width;
      |                                ^~~~~~~~~~
xscat.c:108:16: warning: ‘ans_element_type’ may be used uninitialized in this function [-Wmaybe-uninitialized]
  108 |  PROTECT(ans = _alloc_XStringSet(ans_element_type, ans_width));
      |                ^~~~~~~~~~~~~~~~~
gcc -shared -L/home/biocbuild/R/R-beta-2024-04-15_r86425/lib -L/usr/local/lib -o Biostrings.so BAB_class.o BitMatrix.o IRanges_stubs.o MIndex_class.o PreprocessedTB_class.o R_init_Biostrings.o RoSeqs_utils.o S4Vectors_stubs.o SparseList_utils.o XStringSetList_class.o XStringSet_class.o XString_class.o XVector_stubs.o find_palindromes.o gtestsim.o inject_code.o letter_frequency.o lowlevel_matching.o match_PWM.o match_pattern.o match_pattern_boyermoore.o match_pattern_indels.o match_pattern_shiftor.o match_pdict.o match_pdict_ACtree2.o match_pdict_Twobit.o match_pdict_utils.o match_reporting.o matchprobes.o pmatchPattern.o read_fasta_files.o read_fastq_files.o replaceAt.o replace_letter_at.o strutils.o translate.o unstrsplit_methods.o utils.o xscat.o -L/home/biocbuild/R/R-beta-2024-04-15_r86425/lib -lR
installing to /home/biocbuild/R/R-beta-2024-04-15_r86425/site-library/00LOCK-Biostrings/00new/Biostrings/libs
** R
** data
** inst
** byte-compile and prepare package for lazy loading
in method for ‘twoWayAlphabetFrequencyByQuality’ with signature ‘"QualityScaledXStringSet"’: no definition for class “QualityScaledXStringSet”
Creating a new generic function for ‘strsplit’ in package ‘Biostrings’
Creating a generic function for ‘ls’ from package ‘base’ in package ‘Biostrings’
Creating a new generic function for ‘pattern’ in package ‘Biostrings’
Creating a new generic function for ‘offset’ in package ‘Biostrings’
** help
*** installing help indices
** building package indices
** installing vignettes
** testing if installed package can be loaded from temporary location
** checking absolute paths in shared objects and dynamic libraries
** testing if installed package can be loaded from final location
** testing if installed package keeps a record of temporary installation path
* DONE (Biostrings)