| Back to Multiple platform build/check report for BioC 3.19: simplified long |
|
This page was generated on 2024-10-18 20:38 -0400 (Fri, 18 Oct 2024).
| Hostname | OS | Arch (*) | R version | Installed pkgs |
|---|---|---|---|---|
| nebbiolo1 | Linux (Ubuntu 22.04.3 LTS) | x86_64 | 4.4.1 (2024-06-14) -- "Race for Your Life" | 4763 |
| palomino7 | Windows Server 2022 Datacenter | x64 | 4.4.1 (2024-06-14 ucrt) -- "Race for Your Life" | 4500 |
| merida1 | macOS 12.7.5 Monterey | x86_64 | 4.4.1 (2024-06-14) -- "Race for Your Life" | 4530 |
| kjohnson1 | macOS 13.6.6 Ventura | arm64 | 4.4.1 (2024-06-14) -- "Race for Your Life" | 4480 |
| Click on any hostname to see more info about the system (e.g. compilers) (*) as reported by 'uname -p', except on Windows and Mac OS X | ||||
| Package 189/2300 | Hostname | OS / Arch | INSTALL | BUILD | CHECK | BUILD BIN | ||||||||
| BiocPkgTools 1.22.0 (landing page) Sean Davis
| nebbiolo1 | Linux (Ubuntu 22.04.3 LTS) / x86_64 | OK | OK | OK | |||||||||
| palomino7 | Windows Server 2022 Datacenter / x64 | OK | OK | OK | OK | |||||||||
| merida1 | macOS 12.7.5 Monterey / x86_64 | OK | OK | OK | OK | |||||||||
| kjohnson1 | macOS 13.6.6 Ventura / arm64 | OK | OK | OK | OK | |||||||||
|
To the developers/maintainers of the BiocPkgTools package: - Allow up to 24 hours (and sometimes 48 hours) for your latest push to git@git.bioconductor.org:packages/BiocPkgTools.git to reflect on this report. See Troubleshooting Build Report for more information. - Use the following Renviron settings to reproduce errors and warnings. - If 'R CMD check' started to fail recently on the Linux builder(s) over a missing dependency, add the missing dependency to 'Suggests:' in your DESCRIPTION file. See Renviron.bioc for more information. |
| Package: BiocPkgTools |
| Version: 1.22.0 |
| Command: /home/biocbuild/bbs-3.19-bioc/R/bin/R CMD check --install=check:BiocPkgTools.install-out.txt --library=/home/biocbuild/bbs-3.19-bioc/R/site-library --timings BiocPkgTools_1.22.0.tar.gz |
| StartedAt: 2024-10-16 22:04:27 -0400 (Wed, 16 Oct 2024) |
| EndedAt: 2024-10-16 22:09:45 -0400 (Wed, 16 Oct 2024) |
| EllapsedTime: 317.6 seconds |
| RetCode: 0 |
| Status: OK |
| CheckDir: BiocPkgTools.Rcheck |
| Warnings: 0 |
##############################################################################
##############################################################################
###
### Running command:
###
### /home/biocbuild/bbs-3.19-bioc/R/bin/R CMD check --install=check:BiocPkgTools.install-out.txt --library=/home/biocbuild/bbs-3.19-bioc/R/site-library --timings BiocPkgTools_1.22.0.tar.gz
###
##############################################################################
##############################################################################
* using log directory ‘/home/biocbuild/bbs-3.19-bioc/meat/BiocPkgTools.Rcheck’
* using R version 4.4.1 (2024-06-14)
* using platform: x86_64-pc-linux-gnu
* R was compiled by
gcc (Ubuntu 11.4.0-1ubuntu1~22.04) 11.4.0
GNU Fortran (Ubuntu 11.4.0-1ubuntu1~22.04) 11.4.0
* running under: Ubuntu 22.04.5 LTS
* using session charset: UTF-8
* checking for file ‘BiocPkgTools/DESCRIPTION’ ... OK
* checking extension type ... Package
* this is package ‘BiocPkgTools’ version ‘1.22.0’
* package encoding: UTF-8
* checking package namespace information ... OK
* checking package dependencies ... OK
* checking if this is a source package ... OK
* checking if there is a namespace ... OK
* checking for hidden files and directories ... OK
* checking for portable file names ... OK
* checking for sufficient/correct file permissions ... OK
* checking whether package ‘BiocPkgTools’ can be installed ... OK
* checking installed package size ... OK
* checking package directory ... OK
* checking ‘build’ directory ... OK
* checking DESCRIPTION meta-information ... NOTE
License stub is invalid DCF.
* checking top-level files ... OK
* checking for left-over files ... OK
* checking index information ... OK
* checking package subdirectories ... OK
* checking code files for non-ASCII characters ... OK
* checking R files for syntax errors ... OK
* checking whether the package can be loaded ... OK
* checking whether the package can be loaded with stated dependencies ... OK
* checking whether the package can be unloaded cleanly ... OK
* checking whether the namespace can be loaded with stated dependencies ... OK
* checking whether the namespace can be unloaded cleanly ... OK
* checking loading without being on the library search path ... OK
* checking dependencies in R code ... NOTE
Unexported objects imported by ':::' calls:
‘BiocManager:::.repositories’ ‘BiocManager:::.repositories_base’
‘BiocManager:::.repositories_bioc’
‘BiocManager:::.repository_container_version’
‘BiocManager:::.version_bioc’
See the note in ?`:::` about the use of this operator.
* checking S3 generic/method consistency ... OK
* checking replacement functions ... OK
* checking foreign function calls ... OK
* checking R code for possible problems ... OK
* checking Rd files ... OK
* checking Rd metadata ... OK
* checking Rd cross-references ... OK
* checking for missing documentation entries ... OK
* checking for code/documentation mismatches ... OK
* checking Rd \usage sections ... OK
* checking Rd contents ... OK
* checking for unstated dependencies in examples ... OK
* checking files in ‘vignettes’ ... OK
* checking examples ... OK
Examples with CPU (user + system) or elapsed time > 5s
user system elapsed
firstInBioc 11.581 0.272 13.555
biocBuildReport 8.120 3.707 10.678
get_bioc_data 11.471 0.143 12.782
biocDownloadStats 10.431 0.378 13.477
pkgCombDependencyGain 6.124 0.108 7.679
pkgDepMetrics 5.937 0.068 9.886
class-dependencies 5.402 0.188 5.591
inducedSubgraphByPkgs 4.238 0.231 5.992
biocMaintained 3.551 0.064 6.814
pkgDownloadRank 1.764 0.168 5.770
* checking for unstated dependencies in ‘tests’ ... OK
* checking tests ...
Running ‘testthat.R’
OK
* checking for unstated dependencies in vignettes ... OK
* checking package vignettes ... OK
* checking re-building of vignette outputs ... OK
* checking PDF version of manual ... OK
* DONE
Status: 2 NOTEs
See
‘/home/biocbuild/bbs-3.19-bioc/meat/BiocPkgTools.Rcheck/00check.log’
for details.
BiocPkgTools.Rcheck/00install.out
############################################################################## ############################################################################## ### ### Running command: ### ### /home/biocbuild/bbs-3.19-bioc/R/bin/R CMD INSTALL BiocPkgTools ### ############################################################################## ############################################################################## * installing to library ‘/home/biocbuild/bbs-3.19-bioc/R/site-library’ * installing *source* package ‘BiocPkgTools’ ... ** using staged installation ** R ** inst ** byte-compile and prepare package for lazy loading ** help *** installing help indices ** building package indices ** installing vignettes ** testing if installed package can be loaded from temporary location ** testing if installed package can be loaded from final location ** testing if installed package keeps a record of temporary installation path * DONE (BiocPkgTools)
BiocPkgTools.Rcheck/tests/testthat.Rout
R version 4.4.1 (2024-06-14) -- "Race for Your Life"
Copyright (C) 2024 The R Foundation for Statistical Computing
Platform: x86_64-pc-linux-gnu
R is free software and comes with ABSOLUTELY NO WARRANTY.
You are welcome to redistribute it under certain conditions.
Type 'license()' or 'licence()' for distribution details.
R is a collaborative project with many contributors.
Type 'contributors()' for more information and
'citation()' on how to cite R or R packages in publications.
Type 'demo()' for some demos, 'help()' for on-line help, or
'help.start()' for an HTML browser interface to help.
Type 'q()' to quit R.
> library(testthat)
> library(BiocPkgTools)
Loading required package: htmlwidgets
>
> test_check("BiocPkgTools")
trying URL 'https://bioconductor.org/packages/3.19/bioc/vignettes/ABSSeq/inst/doc/ABSSeq.pdf'
Content type 'application/pdf' length 835577 bytes (815 KB)
==================================================
downloaded 815 KB
[ FAIL 0 | WARN 2 | SKIP 0 | PASS 27 ]
[ FAIL 0 | WARN 2 | SKIP 0 | PASS 27 ]
>
> proc.time()
user system elapsed
34.481 7.201 44.935
BiocPkgTools.Rcheck/BiocPkgTools-Ex.timings
| name | user | system | elapsed | |
| activitySince | 0 | 0 | 0 | |
| anacondaDownloadStats | 1.825 | 0.028 | 2.723 | |
| biocBuildReport | 8.120 | 3.707 | 10.678 | |
| biocDownloadStats | 10.431 | 0.378 | 13.477 | |
| biocMaintained | 3.551 | 0.064 | 6.814 | |
| biocPkgList | 1.220 | 0.024 | 1.617 | |
| biocPkgRanges | 0.000 | 0.000 | 0.001 | |
| biocRevDepEmail | 2.456 | 0.028 | 3.714 | |
| buildPkgDependencyDataFrame | 2.429 | 0.037 | 4.296 | |
| buildPkgDependencyIgraph | 1.158 | 0.015 | 1.292 | |
| class-dependencies | 5.402 | 0.188 | 5.591 | |
| firstInBioc | 11.581 | 0.272 | 13.555 | |
| generateBiocPkgDOI | 0 | 0 | 0 | |
| getBiocVignette | 1.274 | 0.008 | 2.444 | |
| get_bioc_data | 11.471 | 0.143 | 12.782 | |
| get_cre_orcids | 0.004 | 0.004 | 0.008 | |
| githubDetails | 1.990 | 0.072 | 2.665 | |
| githubURLParts | 1.129 | 0.048 | 2.363 | |
| inducedSubgraphByPkgs | 4.238 | 0.231 | 5.992 | |
| latestPkgStats | 0.001 | 0.000 | 0.001 | |
| orcid_table | 0 | 0 | 0 | |
| pkgBiocDeps | 1.146 | 0.028 | 1.174 | |
| pkgBiocRevDeps | 1.533 | 0.016 | 1.549 | |
| pkgCombDependencyGain | 6.124 | 0.108 | 7.679 | |
| pkgDepImports | 0.133 | 0.000 | 0.133 | |
| pkgDepMetrics | 5.937 | 0.068 | 9.886 | |
| pkgDownloadRank | 1.764 | 0.168 | 5.770 | |
| pkgDownloadStats | 0.102 | 0.004 | 0.242 | |
| problemPage | 0.001 | 0.000 | 0.001 | |
| repositoryStats | 0.059 | 0.000 | 0.059 | |
| subgraphByDegree | 1.295 | 0.072 | 2.531 | |