| Back to Multiple platform build/check report for BioC 3.19: simplified long |
|
This page was generated on 2024-05-09 11:40:36 -0400 (Thu, 09 May 2024).
| Hostname | OS | Arch (*) | R version | Installed pkgs |
|---|---|---|---|---|
| nebbiolo1 | Linux (Ubuntu 22.04.3 LTS) | x86_64 | 4.4.0 (2024-04-24) -- "Puppy Cup" | 4748 |
| palomino3 | Windows Server 2022 Datacenter | x64 | 4.4.0 (2024-04-24 ucrt) -- "Puppy Cup" | 4484 |
| lconway | macOS 12.7.1 Monterey | x86_64 | 4.4.0 (2024-04-24) -- "Puppy Cup" | 4514 |
| kunpeng2 | Linux (openEuler 22.03 LTS-SP1) | aarch64 | 4.4.0 beta (2024-04-15 r86425) -- "Puppy Cup" | 4480 |
| Click on any hostname to see more info about the system (e.g. compilers) (*) as reported by 'uname -p', except on Windows and Mac OS X | ||||
| Package 188/2300 | Hostname | OS / Arch | INSTALL | BUILD | CHECK | BUILD BIN | ||||||||
| BiocParallel 1.38.0 (landing page) Martin Morgan
| nebbiolo1 | Linux (Ubuntu 22.04.3 LTS) / x86_64 | OK | OK | OK | |||||||||
| palomino3 | Windows Server 2022 Datacenter / x64 | OK | ERROR | skipped | skipped | |||||||||
| lconway | macOS 12.7.1 Monterey / x86_64 | OK | OK | OK | OK | |||||||||
| kunpeng2 | Linux (openEuler 22.03 LTS-SP1) / aarch64 | OK | OK | ERROR | ||||||||||
| kjohnson3 | macOS 13.6.5 Ventura / arm64 | see weekly results here | ||||||||||||
|
To the developers/maintainers of the BiocParallel package: - Allow up to 24 hours (and sometimes 48 hours) for your latest push to git@git.bioconductor.org:packages/BiocParallel.git to reflect on this report. See Troubleshooting Build Report for more information. - Use the following Renviron settings to reproduce errors and warnings. - If 'R CMD check' started to fail recently on the Linux builder(s) over a missing dependency, add the missing dependency to 'Suggests:' in your DESCRIPTION file. See Renviron.bioc for more information. - See Martin Grigorov's blog post for how to debug Linux ARM64 related issues on a x86_64 host. |
| Package: BiocParallel |
| Version: 1.38.0 |
| Command: /home/biocbuild/R/R-beta-2024-04-15_r86425/bin/R CMD INSTALL BiocParallel |
| StartedAt: 2024-05-08 20:17:03 -0000 (Wed, 08 May 2024) |
| EndedAt: 2024-05-08 20:17:28 -0000 (Wed, 08 May 2024) |
| EllapsedTime: 25.5 seconds |
| RetCode: 0 |
| Status: OK |
##############################################################################
##############################################################################
###
### Running command:
###
### /home/biocbuild/R/R-beta-2024-04-15_r86425/bin/R CMD INSTALL BiocParallel
###
##############################################################################
##############################################################################
* installing to library ‘/home/biocbuild/R/R-beta-2024-04-15_r86425/site-library’
* installing *source* package ‘BiocParallel’ ...
** using staged installation
checking whether the C++ compiler works... yes
checking for C++ compiler default output file name... a.out
checking for suffix of executables...
checking whether we are cross compiling... no
checking for suffix of object files... o
checking whether the compiler supports GNU C++... yes
checking whether g++ -std=gnu++17 accepts -g... yes
checking for g++ -std=gnu++17 option to enable C++11 features... none needed
checking for library containing shm_open... none required
checking for stdio.h... yes
checking for stdlib.h... yes
checking for string.h... yes
checking for inttypes.h... yes
checking for stdint.h... yes
checking for strings.h... yes
checking for sys/stat.h... yes
checking for sys/types.h... yes
checking for unistd.h... yes
checking for sys/mman.h... yes
configure: creating ./config.status
config.status: creating src/Makevars
** libs
using C++ compiler: ‘g++ (GCC) 10.3.1’
using C++11
g++ -std=gnu++11 -I"/home/biocbuild/R/R-beta-2024-04-15_r86425/include" -DNDEBUG -I'/home/biocbuild/R/R-beta-2024-04-15_r86425/site-library/BH/include' -I'/home/biocbuild/R/R-beta-2024-04-15_r86425/site-library/cpp11/include' -I/usr/local/include -fPIC -g -O2 -Wall -c cpp11.cpp -o cpp11.o
g++ -std=gnu++11 -I"/home/biocbuild/R/R-beta-2024-04-15_r86425/include" -DNDEBUG -I'/home/biocbuild/R/R-beta-2024-04-15_r86425/site-library/BH/include' -I'/home/biocbuild/R/R-beta-2024-04-15_r86425/site-library/cpp11/include' -I/usr/local/include -fPIC -g -O2 -Wall -c ipcmutex.cpp -o ipcmutex.o
In file included from /home/biocbuild/R/R-beta-2024-04-15_r86425/site-library/BH/include/boost/mpl/aux_/na_assert.hpp:23,
from /home/biocbuild/R/R-beta-2024-04-15_r86425/site-library/BH/include/boost/mpl/arg.hpp:25,
from /home/biocbuild/R/R-beta-2024-04-15_r86425/site-library/BH/include/boost/mpl/placeholders.hpp:24,
from /home/biocbuild/R/R-beta-2024-04-15_r86425/site-library/BH/include/boost/mpl/apply.hpp:24,
from /home/biocbuild/R/R-beta-2024-04-15_r86425/site-library/BH/include/boost/mpl/aux_/fold_impl.hpp:19,
from /home/biocbuild/R/R-beta-2024-04-15_r86425/site-library/BH/include/boost/mpl/fold.hpp:20,
from /home/biocbuild/R/R-beta-2024-04-15_r86425/site-library/BH/include/boost/mpl/remove_if.hpp:18,
from /home/biocbuild/R/R-beta-2024-04-15_r86425/site-library/BH/include/boost/mpl/remove.hpp:18,
from /home/biocbuild/R/R-beta-2024-04-15_r86425/site-library/BH/include/boost/function_types/components.hpp:44,
from /home/biocbuild/R/R-beta-2024-04-15_r86425/site-library/BH/include/boost/function_types/is_member_function_pointer.hpp:14,
from /home/biocbuild/R/R-beta-2024-04-15_r86425/site-library/BH/include/boost/tti/detail/dmem_fun.hpp:10,
from /home/biocbuild/R/R-beta-2024-04-15_r86425/site-library/BH/include/boost/tti/has_member_function.hpp:15,
from /home/biocbuild/R/R-beta-2024-04-15_r86425/site-library/BH/include/boost/uuid/random_generator.hpp:20,
from /home/biocbuild/R/R-beta-2024-04-15_r86425/site-library/BH/include/boost/uuid/uuid_generators.hpp:17,
from ipcmutex.cpp:3:
/home/biocbuild/R/R-beta-2024-04-15_r86425/site-library/BH/include/boost/mpl/assert.hpp:194:21: warning: unnecessary parentheses in declaration of ‘assert_arg’ [-Wparentheses]
194 | failed ************ (Pred::************
| ^
/home/biocbuild/R/R-beta-2024-04-15_r86425/site-library/BH/include/boost/mpl/assert.hpp:199:21: warning: unnecessary parentheses in declaration of ‘assert_not_arg’ [-Wparentheses]
199 | failed ************ (boost::mpl::not_<Pred>::************
| ^
g++ -std=gnu++11 -shared -L/home/biocbuild/R/R-beta-2024-04-15_r86425/lib -L/usr/local/lib -o BiocParallel.so cpp11.o ipcmutex.o -L/home/biocbuild/R/R-beta-2024-04-15_r86425/lib -lR
installing to /home/biocbuild/R/R-beta-2024-04-15_r86425/site-library/00LOCK-BiocParallel/00new/BiocParallel/libs
** R
** inst
** byte-compile and prepare package for lazy loading
** help
*** installing help indices
** building package indices
** installing vignettes
** testing if installed package can be loaded from temporary location
** checking absolute paths in shared objects and dynamic libraries
** testing if installed package can be loaded from final location
** testing if installed package keeps a record of temporary installation path
* DONE (BiocParallel)